BEGIN:VCALENDAR
VERSION:2.0
PRODID:-//https://techplay.jp//JP
CALSCALE:GREGORIAN
METHOD:PUBLISH
X-WR-CALDESC:Rancher Meetup #06 in Osaka
X-WR-CALNAME:Rancher Meetup #06 in Osaka
X-WR-TIMEZONE:Asia/Tokyo
BEGIN:VTIMEZONE
TZID:Asia/Tokyo
BEGIN:STANDARD
DTSTART:19700101T000000
TZOFFSETFROM:+0900
TZOFFSETTO:+0900
TZNAME:JST
END:STANDARD
END:VTIMEZONE
BEGIN:VEVENT
UID:712920@techplay.jp
SUMMARY:Rancher Meetup #06 in Osaka
DTSTART;TZID=Asia/Tokyo:20190118T190000
DTEND;TZID=Asia/Tokyo:20190118T210000
DTSTAMP:20260419T185241Z
CREATED:20181221T141519Z
DESCRIPTION:イベント詳細はこちら\nhttps://techplay.jp/event/71292
 0?utm_medium=referral&utm_source=ics&utm_campaign=ics\n\n【第6回】コ
 ンテナ管理ツール Rancher勉強会 Osaka\n\nRancherとは？\nRanc
 herはOSSと商用版で提供されるコンテナ環境構築・運用
 プラットフォームです。\nRancherの特徴は、Kubernetesコン
 テナオーケストレータ自体をデプロイし、その機能を
 利用した効率的なコンテナインフラの構築・管理運用
 が可能なことです。\nまた、Active Directory連携や監査ロ
 グな機能などにより本格的なエンタープライズ向けプ
 ラットフォームとして世界で導入実績を重ねています
 。\n是非この機会にRancherについて学んで頂ければ幸い
 です。 皆様のご参加お待ちしております！\nOSS版：\nht
 tps://github.com/rancherlabs/ \n商用版：\nhttp://rancher.com/ \nイ
 ベント開催概要\n会場・時間\n\n日時：2019年1月18日(金) 
 19:00(18:30開場)～20:30\n会場：スペイシー会議室【ＰＬＵ
 Ｍ ＫＩＮＧ３０】\n住所：大阪市北区芝田２丁目８－
 １５　北梅田ビル　２階 会議室　Ａ号室\n\nプログラ
 ム\n\n\n\nNo.\n時間帯\n発表内容\nタイトル\n発表者\n\n\n\n\
 n[01]\n18:30  - 19:00 (30min)\n開場\n\n－\n\n\n[02]\n19:00  - 19:45 (4
 5min)\nセッション1\nIntroduction of Kubernetes & Rancher\nAP Communi
 cations市川 様\n\n\n[03]\n19:45  - 19:55 (10min)\nLT1\nデータ分析
 基盤として Rancher・k8s で始まるのか調査してみた\n@yass
 an186(やっさん)\n\n\n[04]\n19:55  - 20:00  (5min)\n休憩\n\n\n\n\n[0
 5]\n20:00  - 20:10 (10min)\nLT2\nIstio Service Mesh easy experience Using
  Rancher\n@track3jyo(はまーん)\n\n\n[06]\n20:10  - 20:20 (10min)\nLT3
 \nKubeCon in Seattleで知った、コンテナ及びk8sでの学生ら
 のアプローチ\n@Rtm6Lgo(iHalt10))\n\n\n[07]\n20:20  - 20:30 (10min)\
 nLT4\nRancherでkubeflow環境構築\nMasaki-Nakayama\n\n\n[08]\n20:30  -
  20:40 (10min)\nクロージング\n\n@track3jyo(はまーん)\n\n\n[09]\
 n20:40  - 21:00 (20min)\n片付け・撤収\n\n\n\n\n\n※LTに参加さ
 れたい方は、「LT枠」に登録して、一番下の「コメン
 ト欄」で発表内容をお知らせ下さい。\n※上記タイト
 ルは変更する場合があります。あらかじめご了承くだ
 さい。\n持ち物\n当日は受付のため、以下をご持参くだ
 さい。\n\nお名刺1枚\nConnpassIDの確認出来る物 又は 受付
 票\n\n主催\nRancher JP\n協力\n\nくじらや\n全国でDocker勉強
 会＆ハンズオンを開催するコミュニティ\n\n会場注意事
 項・諸連絡\n※ Wifi環境、電源は無料で利用できます\n
 ※ 会場では禁煙となりますのでご了承ください。\n※ 
 ゴミを捨てる場所は無いので各自でお持ち帰りくださ
 い。\n※ 会場内に自動販売機はありません。飲み物が
 必要な方は会場に入る前にご準備ください。\n参加に
 関する注意事項\n本イベントは、コミュニティのボラ
 ンティアにより活動しています。 なるべく広く様々な
 方にご参加いただきたいのですが、参加人数が限られ
 ておりますので確実にご参加いただける方を優先した
 いと考えております。\nその為、以下に該当される方
 は参加をお断りいたします。\n\n採用・飲食のみを目的
 とした方\n同時間帯に複数のイベントに申し込まれて
 いる方\n(前日・当日までにキャンセルして頂いた方は
 その限りではありません)\n過去に 無断キャンセル(Ranch
 er JP関連イベントでキャンセル処理を行わずに欠席を
 すること) が目立つ方\n過去にイベント進行に関しての
 問題を起こした方\n\n当方で上記に該当すると判断させ
 ていただいた方は強制的にキャンセル処理を行わせて
 いただく場合があります。 また、上記に該当する方で
 も参加登録時に熱いコメントを頂ければ考慮いたしま
 すので、ぜひよろしくお願い致します。
LOCATION:スペイシー会議室【ＰＬＵＭ ＫＩＮＧ３０】 大
 阪府大阪市北区芝田2-8-15 (北梅田ビル２階Ａ号室)
URL:https://techplay.jp/event/712920?utm_medium=referral&utm_source=ics&utm
 _campaign=ics
END:VEVENT
END:VCALENDAR
