BEGIN:VCALENDAR
VERSION:2.0
PRODID:-//https://techplay.jp//JP
CALSCALE:GREGORIAN
METHOD:PUBLISH
X-WR-CALDESC:Qt 勉強会 @ Nagoya # 24
X-WR-CALNAME:Qt 勉強会 @ Nagoya # 24
X-WR-TIMEZONE:Asia/Tokyo
BEGIN:VTIMEZONE
TZID:Asia/Tokyo
BEGIN:STANDARD
DTSTART:19700101T000000
TZOFFSETFROM:+0900
TZOFFSETTO:+0900
TZNAME:JST
END:STANDARD
END:VTIMEZONE
BEGIN:VEVENT
UID:712966@techplay.jp
SUMMARY:Qt 勉強会 @ Nagoya # 24
DTSTART;TZID=Asia/Tokyo:20190119T130000
DTEND;TZID=Asia/Tokyo:20190119T180000
DTSTAMP:20260424T053518Z
CREATED:20181222T061456Z
DESCRIPTION:イベント詳細はこちら\nhttps://techplay.jp/event/71296
 6?utm_medium=referral&utm_source=ics&utm_campaign=ics\n\n毎月定期で
 東京にて開催されている勉強会を名古屋でも行い、開
 発者の交流を活発にする事を目的とした勉強会です。\
 n基本的には自由時間でもくもく会という予定ですが、
 ちょっとQtの話を聞いてみたい方も大歓迎です。\n発表
 や告知等を事前にこちらに掲載したい場合には @kazuo_as
 a もしくは 日本 Qt ユーザー会のメーリングリスト な
 どでお知らせください。\n事前に連絡を頂けますと、
 会場のプロジェクタ準備も含めて準備します。\nまた
 、初心者の方や未経験者の方も大歓迎です。\nQt関連で
 分からないことや、つまづいているところがあれば気
 軽に聞きにお越しください。\n飛び入り参加も歓迎で
 す。\n参加時に、\n「ハンズオンして〜」\nってつぶや
 いてもらうと、突発的にハンズオンしますので、お気
 軽に参加してみてください\n会場にあるもの：\n\n電源 
 延長ケーブルもあり\n無線LANネットワーク\nプロジェク
 タ（必要な場合は、事前に連絡ください。）\n\n持ち込
 めるもの：\n\n飲み物・お菓子 歓迎！\n\n(会場近くに、
 コンビニ等がありませんので、飲み物等は事前にご用
 意ください。)\n進行：\n\n\n\n時間\n内容\n\n\n\n\n13:00\n開
 場\n\n\n13:00〜13:30\n簡単に自己紹介 と 何をやるかなど
 。\n\n\n13:30〜17:30\n自分の作業&気になることなどがあれ
 ば他の人に声をかけたりなど。\n\n\n17:30〜 18:00\n報告会
  簡単に。感想など\n\n\n18:00\n撤収。流れで懇親会\n\n\n\n
 アクセスなど：\n最寄り駅は\n\n名鉄 名古屋本線 栄生
 駅 - 徒歩10分\n地下鉄 東山線 亀島駅 - 徒歩15分\n名古屋
 駅 - 徒歩約20分\n\n会場は展示ルームの１F会議室になり
 ます。 １３時より少し前には展示ルームの解錠してお
 きます。\nWhat's もくもく会？:\nハッカソンよりもっと
 ゆるふわな感じで、自分がやりたいQt関連のことを持
 ち込んで、\nもくもくと作業してつつ、お菓子を囲ん
 で困ったときにぼそっとつぶやいたりすると誰かが助
 けてくれたり\n雑談が発生したりする会です。\n発表者
 がいて聞くというスタイルは取っていませんので、作
 業ができるようノートPC等の持ち込みが必要だったり
 します。
LOCATION:トーメー本社フォーラム 2F 会議室 愛知県名古屋
 市西区則武新町2-11-42
URL:https://techplay.jp/event/712966?utm_medium=referral&utm_source=ics&utm
 _campaign=ics
END:VEVENT
END:VCALENDAR
