BEGIN:VCALENDAR
VERSION:2.0
PRODID:-//https://techplay.jp//JP
CALSCALE:GREGORIAN
METHOD:PUBLISH
X-WR-CALDESC:『Vue.js入門』輪読会 #4
X-WR-CALNAME:『Vue.js入門』輪読会 #4
X-WR-TIMEZONE:Asia/Tokyo
BEGIN:VTIMEZONE
TZID:Asia/Tokyo
BEGIN:STANDARD
DTSTART:19700101T000000
TZOFFSETFROM:+0900
TZOFFSETTO:+0900
TZNAME:JST
END:STANDARD
END:VTIMEZONE
BEGIN:VEVENT
UID:712994@techplay.jp
SUMMARY:『Vue.js入門』輪読会 #4
DTSTART;TZID=Asia/Tokyo:20190119T160000
DTEND;TZID=Asia/Tokyo:20190119T180000
DTSTAMP:20260421T055611Z
CREATED:20181222T141323Z
DESCRIPTION:イベント詳細はこちら\nhttps://techplay.jp/event/71299
 4?utm_medium=referral&utm_source=ics&utm_campaign=ics\n\n開催概要\n
 フロントエンド開発のフレームワークであるVue.jsの本
 について輪読会を行えればと\n思います。\n・Vue.js入門
  基礎から実践アプリケーション開発まで\nを読み進め
 る形とできればと思います。\n本の輪読会を通して、
 モダンな開発について理解するきっかけにしましょう
 ！  \n開催日程\n1/19(土)\n勉強会：16:00〜18:00\n\n\n\n会場\n
 水道橋駅、神保町駅、九段下駅周辺\n千代田区西神田2-
 7-14 YS西神田ビル2F\n\n\n\nタイムテーブル\n・受付＆自己
 紹介（10min）\n・5章（トランジションなど）の内容の
 紹介（60min）\n・LT&ディスカッション（40min）\n\n※\n取
 り扱うペースは変更になる可能性があります。\n\n\n\n
 費用\n・2\,000円（会場代＋運営諸経費）\n\n※ 基本的に
 会場代＋運営諸経費（発表者への謝礼が中心です）の
 想定です。\n※ 領収書発行の際の参加費は法人参加と
 見なし、一律3\,000円とさせていただきます。\n\n\n\n定
 員\n10名（集まり具合に合わせて調整します）\n\n\n\n備
 考\n発表希望者は参加時にお伝えいただくか別途ご相
 談ください。\n
LOCATION:水道橋駅周辺 千代田区西神田2-7-14 YS西神田ビル2F
URL:https://techplay.jp/event/712994?utm_medium=referral&utm_source=ics&utm
 _campaign=ics
END:VEVENT
END:VCALENDAR
