BEGIN:VCALENDAR
VERSION:2.0
PRODID:-//https://techplay.jp//JP
CALSCALE:GREGORIAN
METHOD:PUBLISH
X-WR-CALDESC:幕末京都オープンデータソン#09：大阪の山と
 港とお祈りと
X-WR-CALNAME:幕末京都オープンデータソン#09：大阪の山と
 港とお祈りと
X-WR-TIMEZONE:Asia/Tokyo
BEGIN:VTIMEZONE
TZID:Asia/Tokyo
BEGIN:STANDARD
DTSTART:19700101T000000
TZOFFSETFROM:+0900
TZOFFSETTO:+0900
TZNAME:JST
END:STANDARD
END:VTIMEZONE
BEGIN:VEVENT
UID:713006@techplay.jp
SUMMARY:幕末京都オープンデータソン#09：大阪の山と港と
 お祈りと
DTSTART;TZID=Asia/Tokyo:20190119T100000
DTEND;TZID=Asia/Tokyo:20190119T180000
DTSTAMP:20260420T233114Z
CREATED:20181222T211531Z
DESCRIPTION:イベント詳細はこちら\nhttps://techplay.jp/event/71300
 6?utm_medium=referral&utm_source=ics&utm_campaign=ics\n\nご案内\nみ
 んなで作る百科辞典「Wikipedia」、みんなで作る自由な
 地図「OpenStreetMap」のイベントを開きます。\nWikipediaとO
 penStreetMapは「オープンデータ」と呼ぶ、誰でも自由に
 使えるデータとして公開しています。  \nみんなで町を
 歩いて、見聞きしたり、書籍を調べた情報をオープン
 データとして世界に発信してみませんか？\nみんなで
 発信した情報は、インターネットを経由して、世界中
 にある様々な活動に活用されていきます。\nそして、
 地域情報のアーカイブとして未来になるほど宝物にな
 っていくデータになると思います。  \nオープンデータ
 ソンとは、WikipediaTownとマッピングパーティを同時開催
 し、参加者はどちらかに参加する\nイベントです。普
 段は別に活動するコミュニティが同じ目的を持って活
 動することで、お互いを知るきっかけ\nになるクロス
 オーバーなイベントを目指しています。\n地域や歴史
 に詳しくない方でも大丈夫。魅力ある場所をまち歩き
 するだけでも十分に楽しめるイベントです。\n初心者
 向けイベントなので、WikipediaやOpenStreetMapの編集経験が
 無い方でもお気軽にご参加ください。\n幕末京都オー
 プンデータソン#09：大阪の山と港とお祈りと\n\n今回は
 、幕末京都シリーズ初の大阪開催となる「特別編」。
 大阪港の史蹟や神社仏閣などを巡ります。\n大阪港は
 海遊館や観覧車など、観光客向けの場所として有名で
 すが、大阪港にも歴史はしっかりあります。\n今回は
 、幕末の頃からある場所を中心にまち歩きをして、大
 阪港の意外な側面を発信していく予定です。\n\n開催概
 要\n\n日時:2019年01月19日(土) 10:00～18:00\n集合:大阪港駅 
 西改札口前\n(集合場所の地図)\n費用:無料。交通費（大
 阪港からATCに移動します）、食費はご自身で負担願い
 ます。\n共催:ソフト産業プラザ TEQS\n条件:ノートPC必要
 （性能問わず）、以下の事前準備は必ずお願いします
 。\n備考:初心者大歓迎(初心者向けの説明付き)、寄付
 （300円）を呼びかけるので良ければお支払いください
 。\n\n事前準備(初めての方は、必ずお願いします)\nWikip
 ediaの記事を書く方\n\nWikipediaの編集が初めの方は、事
 前にアカウントの作成をお願いします。  \n\nOpenStreetMap
 の地図を描く方\n\nOpenStreetMapの編集が初めての方は、
 事前にアカウントとパソコンの準備をお願いします。 
 \n\n当日の持ち物\n\nバインダーとペンを持参願います
 。（OpenStreetMapを描く方は赤ペン）\nパソコンとマウス
 （記事の編集、地図の描き込みに利用します）\nデジ
 カメ（撮影した写真を Wikimedia commonsに掲載したり、Open
 StreetMapの現地調査に使います）\nお持ちなら Wi-Fiルー
 ター（ある程度の無線LANは用意していますが、持参頂
 けると助かります）\n\nスケジュール\n\n\n\n時間\n内容\n
 \n\n\n\n10:00 - 10:10\n大阪港駅 西改札口前集合(集合場所の
 地図)、注意事項、自己紹介\n\n\n10:10 - 13:00\nまち歩き・
 現地調査（大阪港をぐるっと）\n\n\n13:00 - 13:30\n大阪港
 →トレードセンター前へ電車・ニュートラムで移動\n\n
 \n13:30 - 14:30\n食事時間（ATC周辺で自由行動）\n\n\n14:30 - 
 15:00\n概要説明（Wikipedia、OpenStreetMap、オープンデータ
 ソン）\n\n\n15:00 - 17:30\n記事執筆＆地図編集\n\n\n17:30 - 18
 :00\n成果発表、撤収\n\n\n\n\n雨天決行。大雨警報の発令
 時または予想される時は中止（連絡します）\n\n懇親会
 \n\nイベントが終わった後は懇親会で楽しみましょう！
 \n場所: しゃぶ扇 南港ATC店 \n時間: 18:30～20:30（90分 食
 べ飲み放題）\n会費: 4000円（税抜き）\n\n今後の予定（
 あくまで予定）\n\n\n\n日付\n場所\n\n\n\n\n2019/02/XX\n幕末
 京都はお休み。\n\n\n2019/03/XX\nインターナショナルオー
 プンデータデイ関連？＜未定＞\n\n\n2019/04/XX\n幕末京都
 マッピングパーティ#10：神戸海軍操練所？＜検討中＞\
 n\n\n2019/05/XX\n幕末京都マッピングパーティ#11：池田屋
 事件？＜検討中＞\n\n\n
LOCATION:大阪港駅 大阪港駅
URL:https://techplay.jp/event/713006?utm_medium=referral&utm_source=ics&utm
 _campaign=ics
END:VEVENT
END:VCALENDAR
