BEGIN:VCALENDAR
VERSION:2.0
PRODID:-//https://techplay.jp//JP
CALSCALE:GREGORIAN
METHOD:PUBLISH
X-WR-CALDESC:【初級者歓迎】Pythonプログラミング徹底演習
X-WR-CALNAME:【初級者歓迎】Pythonプログラミング徹底演習
X-WR-TIMEZONE:Asia/Tokyo
BEGIN:VTIMEZONE
TZID:Asia/Tokyo
BEGIN:STANDARD
DTSTART:19700101T000000
TZOFFSETFROM:+0900
TZOFFSETTO:+0900
TZNAME:JST
END:STANDARD
END:VTIMEZONE
BEGIN:VEVENT
UID:713075@techplay.jp
SUMMARY:【初級者歓迎】Pythonプログラミング徹底演習
DTSTART;TZID=Asia/Tokyo:20190105T180000
DTEND;TZID=Asia/Tokyo:20190105T203000
DTSTAMP:20260420T230934Z
CREATED:20181224T001636Z
DESCRIPTION:イベント詳細はこちら\nhttps://techplay.jp/event/71307
 5?utm_medium=referral&utm_source=ics&utm_campaign=ics\n\n概要\n\nPython
 でデータ分析を学んで行きたいというプログラミング
 初級レベルの方向けに、ハンズオン形式でPythonの文法
 を学び、データ分析・機械学習を始めるための足掛か
 りとしていただくための講座です。\n\n徹底演習講座で
 は、理論や定理を学んだ後、実際に問題に取り組むこ
 とで、理解を深め、実力を身につけることを目的とし
 ます。\n\n本講座では、「機械学習のために Python を学
 んだけれど、どのように使うのかピンと来ない」「基
 本的な文法は習ったけれど、自力で何かを実装する練
 習がしたい」といった皆様のために、講師による丁寧
 な解説とサポートを受けながら短時間で実装スキルを
 伸ばす最高の機会を提供いたします。\n\n演習で扱う内
 容は、基本的にはスキルアップAIが提供する「Python プ
 ログラミング入門」のカリキュラムに沿っております
 が、「同様の内容を学んだけれど使い方がイマイチわ
 からない」という皆様も大歓迎です。「初めて Python 
 を学ぶ」という方は、是非とも「Python プログラミング
 入門」からご受講ください。\n\n加えて、Jupyter Notebook 
 の便利機能や『正規表現』『ラムダ式』といった「実
 務に役立つワンランク上の実装テクニック」も身につ
 けていただきます。 講座で実装スキルに自信のついた
 方は、毎月開講予定の「現場で使える機械学習・デー
 タ分析基礎講座」を受講いただけると、本講義で身に
 つけたスキルを活かして、一気に機械学習の基礎をマ
 スターすることができますので、ご検討ください。 こ
 の機会に是非とも Python の基本文法を自分のものにし
 てみてはいかがでしょうか。\n\nこの講座で得られるこ
 と\n\n\nPython の基本的な文法を用いた実装スキル\nJupyter
  Notebook の便利な機能の使い方\n\n\n講座内容に関して\n\
 nこちらの講座は演習講座となりますので、同レベルの
 理論講座（平日開催の「1.Pythonで学ぶプログミング超
 入門」および「2.Pythonで学ぶオブジェクト指向とライ
 ブラリ超入門」、もしくは週末開催の「機械学習を始
 めるためのPythonプログラミング入門」）を受講してい
 ることが前提となります。\n\n「機械学習を始めるため
 の」Python講座・受講マップ\n\n受講すべき講座、前提知
 識については、こちらを参考にしてください。\n\n\n\n
 カリキュラム\n\n\nJupyter Notebook の便利な使い方\nリスト
 と辞書\n制御文\n関数\nクラス\n正規表現\nラムダ式\n例
 外処理\n標準ライブラリ\n総合問題\n\n\n対象者\n\n\n「Pyt
 hon プログラミング入門」受講者\nPython の文法を学んだ
 けれど、実装に自信のない方\n\n\n講師\n\nS Takahashi\n\n東
 京大学教養学部広域化学科卒業。東京大学大学院総合
 文化広域科学専攻研究科修了。GPS将棋の開発者である
 金子知適研究室にてゲームAIの研究を行う。ゲームプ
 ログラミングワークショップ2014研究奨励賞受賞。東京
 大学広域科学専攻奨励賞受賞。\n\n新卒で株式会社リコ
 ーに入社。情報システム部門で社内向けWebアプリケー
 ションを作成する。また、WatsonやAzure AIなどのAI技術に
 関する調査も担当。その後、株式会社YTSを設立。オン
 ラインや教室でのプログラミングセミナーを多数実施
 。基本的なプログラミングからAIに渡るまで、様々な
 内容を指導している。\n\n当日のお持物\n\nご自身のノ
 ートPC（必須）\n\n【動作環境】\nMacOSX 10.9 以上 \nWindows 
 7 以上（64bit必須）\nメモリ4GB以上\n\n講座までの準備（
 必須）\n\nAnaconda3-5.0.1以上のインストールをいただき、
 ブラウザでJupyterが表示できている状態まで事前に準備
 お願い致します。 \nブラウザからhttp://localhost:8888/tree
 で表示されていることをご確認してください。\n\n＊準
 備ができていない場合、ハンズオン講座なのでついて
 これなくなってしまいます。この場合のタイムロスは
 カバーできません。事前準備を必ず行ってからお越し
 いただけますようお願いいたします。\n\n通信環境に関
 して\n\nWi-Fi環境はございますが、繋がりにくい場合は
 ご自身のテザリングをご利用ください。（ベストエフ
 ォートとなります。）\n\n会場へのアクセス方法\n\n直
 接会場にお越しください。\n遅刻される場合も直接会
 場にお越しください。\n講義時間中に出席を取ります
 。\n\n領収書\n\n【Paypalでお支払いの場合】\nPayPal発行の
 受領書が領収書となります。\n受領書ページは、PayPal
 の支払い完了ページで「印刷用受領書を見る」をクリ
 ックすると表示されます。\n（当社よりの重複しての
 領収書発行は行えません)\n\n【Stripeでお支払いの場合
 】\nStripe発行の受領書が領収書となります。当社より
 重複しての領収書発行は行えません。\n\n備考\n\n\n最小
 遂行人数「4名」：開催日の2日前までに最小遂行人数
 に達しない場合は、中止となります。ただし、複数の
 チャンネルで募集を行っているため、本サイトでの申
 込者数が最小遂行人数に達しない場合でも開催になる
 場合がございます。\n環境設定などでつまった場合、
 可能な限りフォローさせていただきますが、講義の流
 れを優先させていただきます。\n勉強会内容を撮影も
 しくは録音することは、ご遠慮ください。\n個人ブロ
 グへの記述については、良識の範囲内でお願いいたし
 ます。\n講義コンテンツは全てスキルアップAIに帰属し
 ていますので、複製はご遠慮ください。\n\n\n運営団体\
 n\nスキルアップAI\nhttps://www.skillupai.com/\n\n講座に関する
 お問い合わせは、info@skillupai.comまでお願いいたします
 。\n
LOCATION:スキルアップAI 水道橋オフィス (スカイワードビ
 ルディング5F) 東京都千代田区神田三崎町3-3-20
URL:https://techplay.jp/event/713075?utm_medium=referral&utm_source=ics&utm
 _campaign=ics
END:VEVENT
END:VCALENDAR
