BEGIN:VCALENDAR
VERSION:2.0
PRODID:-//https://techplay.jp//JP
CALSCALE:GREGORIAN
METHOD:PUBLISH
X-WR-CALDESC:Technovation by Oracle Cloud～クラウド徹底比較！～
X-WR-CALNAME:Technovation by Oracle Cloud～クラウド徹底比較！～
X-WR-TIMEZONE:Asia/Tokyo
BEGIN:VTIMEZONE
TZID:Asia/Tokyo
BEGIN:STANDARD
DTSTART:19700101T000000
TZOFFSETFROM:+0900
TZOFFSETTO:+0900
TZNAME:JST
END:STANDARD
END:VTIMEZONE
BEGIN:VEVENT
UID:713147@techplay.jp
SUMMARY:Technovation by Oracle Cloud～クラウド徹底比較！～
DTSTART;TZID=Asia/Tokyo:20190116T183000
DTEND;TZID=Asia/Tokyo:20190116T203000
DTSTAMP:20260424T095538Z
CREATED:20181225T061617Z
DESCRIPTION:イベント詳細はこちら\nhttps://techplay.jp/event/71314
 7?utm_medium=referral&utm_source=ics&utm_campaign=ics\n\n～クラウド
 徹底比較！検討の基準を考える～\n『これからクラウ
 ド利用を検討しているけれども、どうやって比較検討
 すればよいの？』\n『クラウドは利用しているけど、Or
 acleのクラウドってどんなの？』\nこんなお悩みにお応
 えします！\n多くの企業でクラウドへの取り組みが進
 む中、AWS、Azure、GCP、Oracle･･･どのベンダーのサー
 ビスを利用すべきか、その選択は難しいことです。な
 ぜならベンダー間でサービス、サポートなど、性能や
 価格が標準化されておらず、比較をしようと思うと、
 さまざまな機能や要素から慎重に評価する必要がある
 からです。今回はアシスト社より、SLA、料金体系、サ
 ポートなどのサービスの比較とともに、社内での検証
 をもとに導いたベンチマーク比較結果等を解説してい
 ただきます！\n皆様のご来場をお待ちしております！\n
 ぜひご参加ください！\n【第202回 夜な夜な! なにわオ
 ラクル塾】\nタイムスケジュール\n18:30-18:35　冒頭ご挨
 拶\n18:35-19:50　クラウド徹底比較！ presented by アシスト
 社\n19:50-20:00　Q&A　解散\n\n＊内容に変更が入る可能性
 がございます事ご了承ください。\n\n\n\n対象者\n・情報
 システム部、経営企画部\n・浅く広くそれぞれのクラ
 ウドに興味がある方\n・現在利用しているクラウドに
 満足できていない方\n・最新のトレンドに興味がある
 方\n\n\n\n参加方法\nオラクル関西支社（新藤田ビル9階
 ）までお越しいただき、受付にて受付表とお名刺をお
 渡しください。\n\n\n\n開催概要\n【日時】2019/1/16（水）
 18:30-19:30（18:00受付開始）\n\n【会場】日本オラクル株
 式会社　西日本支社　関西オフィス（大阪府大阪市北
 区堂島2-4-27　新藤田ビル 9F）\n\n【交通アクセス】\n　
 地下鉄　四つ橋線　西梅田駅下車　10番出口より　徒
 歩5分\n　堂島地下街より　徒歩3分(地下街から梅田各
 駅、大阪駅へ直結)\n　JR線　大阪駅下車　桜橋出口よ
 り　徒歩10分\n　JR東西線　北新地駅下車　西出口より
 　徒歩5分\n　京阪　中之島線　渡辺橋駅下車　7番出口
 より　徒歩5分\n
LOCATION:日本オラクル株式会社　西日本支社　関西オフィ
 ス 大阪府大阪市北区堂島2-4-27　新藤田ビル 9F
URL:https://techplay.jp/event/713147?utm_medium=referral&utm_source=ics&utm
 _campaign=ics
END:VEVENT
END:VCALENDAR
