BEGIN:VCALENDAR
VERSION:2.0
PRODID:-//https://techplay.jp//JP
CALSCALE:GREGORIAN
METHOD:PUBLISH
X-WR-CALDESC:『ベイズ統計モデリング―R\,JAGS\,Stanによるチ
 ュートリアル―』読書会 #12
X-WR-CALNAME:『ベイズ統計モデリング―R\,JAGS\,Stanによるチ
 ュートリアル―』読書会 #12
X-WR-TIMEZONE:Asia/Tokyo
BEGIN:VTIMEZONE
TZID:Asia/Tokyo
BEGIN:STANDARD
DTSTART:19700101T000000
TZOFFSETFROM:+0900
TZOFFSETTO:+0900
TZNAME:JST
END:STANDARD
END:VTIMEZONE
BEGIN:VEVENT
UID:713220@techplay.jp
SUMMARY:『ベイズ統計モデリング―R\,JAGS\,Stanによるチュー
 トリアル―』読書会 #12
DTSTART;TZID=Asia/Tokyo:20190118T193000
DTEND;TZID=Asia/Tokyo:20190118T213000
DTSTAMP:20260420T011808Z
CREATED:20181225T141703Z
DESCRIPTION:イベント詳細はこちら\nhttps://techplay.jp/event/71322
 0?utm_medium=referral&utm_source=ics&utm_campaign=ics\n\n「ベイズ統
 計モデリング―R\,JAGS\,Stanによるチュートリアル―」に
 ついて、各担当からトークを行う勉強イベントです。\
 n機械学習に興味がある、学生から社会人まで幅広い方
 が、理論的なバックグラウンドを身につけることを目
 標としたイベントになります。\n興味がある方は是非
 ご参加下さい。\nご参加お待ちしております！\nタイム
 テーブル\n\n\n\n\n\n概要\n\n\n\n\n19:30-\n開場\n\n\n19:30 - 19:35
 \nオープニングトーク\n\n\n19:35 - 19:40\n自己紹介\n\n\n19:40
  - 21:30(最大)\n担当者から発表・終わり次第事務連絡等\
 n\n\n\n\n※ 二週毎に開催、一回二章ペースを目安に全十
 回程度を想定しています。\n　 分量次第では、一章分
 の発表を複数回に分ける可能性もあります。\n\n\n今後
 の予定\n\n\n\n\n日程\n章立て\n発表担当者\n\n\n\n\n5/11\n2\,4
 章\ntodesking\n\n\n6/1\n5\,6章\ntakizawa\n\n\n6/15\n6(後半)\,7章(前
 半)\ntazakizawa\,hasewogamer_1103\n\n\n7/20\n7章(後半)\,8章\nhasewog
 amer_1103\,motoJapan\n\n\n8/10\n9章\nshibutani\n\n\n8/24\n10章\ntodeski
 ng\n\n\n9/7\n11章\ntakizawa\n\n\n9/28\n12章\nutaka\n\n\n11/9\n13章\nsh
 ibutani\n\n\n11/30\n14章\,15章\nshibutani\,takizawa\n\n\n12/21\n15章(
 後半)\,16章\ntakizawa\,16monkick\n\n\n1/18\n16章(後半)\,17章\n16mo
 nkick\,DAIKU\n\n\n\n※ あくまで現時点での予定なので、変
 更になる可能性もあります。\n※ 参加者の方にはどこ
 かで1回程度、発表を担当頂ければ幸いです。\n\n会場
 について\n\n東京都新宿区西新宿1-22-2 新宿サンエービ
 ル4F （新宿駅から徒歩5分）\nマーベリック内にあるス
 ペースで開催します。\n\n受付について\n\n事前にconnpass
 から発行されている受付票をご確認ください。\n受付
 番号及びconnpassの表示名で受付を行いますので、受付
 でご提示できるよう準備をお願いいたします。\n\nその
 他\n※ 遅れる場合等は、下記連絡先までご一報下さい
 。\n　 saki.nakayama@mvrck.co.jp\n　 またはslack\n\n※ 館内は
 禁煙です（地下の喫煙所をご利用下さい）\n※ 飲料の
 持ち込み可（食事はお控え下さい）\n※ 資料共有・情
 報交換の為のslack部屋を用意しています。\n※ 発表予
 定の方は「優先枠（発表予定者）」にお申し込み下さ
 い。\n※ 発表希望の方は「優先枠（発表希望者）」に
 お申し込み下さい。\n
LOCATION:マーベリック株式会社 東京都新宿区西新宿1-22-2 
 新宿サンエービル4F
URL:https://techplay.jp/event/713220?utm_medium=referral&utm_source=ics&utm
 _campaign=ics
END:VEVENT
END:VCALENDAR
