BEGIN:VCALENDAR
VERSION:2.0
PRODID:-//https://techplay.jp//JP
CALSCALE:GREGORIAN
METHOD:PUBLISH
X-WR-CALDESC:＠名古屋：SQL+プログラミング ～オリジナル学
 習ツールにてSQL文とプログラミングの基本を学ぼう～
X-WR-CALNAME:＠名古屋：SQL+プログラミング ～オリジナル学
 習ツールにてSQL文とプログラミングの基本を学ぼう～
X-WR-TIMEZONE:Asia/Tokyo
BEGIN:VTIMEZONE
TZID:Asia/Tokyo
BEGIN:STANDARD
DTSTART:19700101T000000
TZOFFSETFROM:+0900
TZOFFSETTO:+0900
TZNAME:JST
END:STANDARD
END:VTIMEZONE
BEGIN:VEVENT
UID:713466@techplay.jp
SUMMARY:＠名古屋：SQL+プログラミング ～オリジナル学習
 ツールにてSQL文とプログラミングの基本を学ぼう～
DTSTART;TZID=Asia/Tokyo:20190115T190000
DTEND;TZID=Asia/Tokyo:20190115T210000
DTSTAMP:20260424T161805Z
CREATED:20181227T141533Z
DESCRIPTION:イベント詳細はこちら\nhttps://techplay.jp/event/71346
 6?utm_medium=referral&utm_source=ics&utm_campaign=ics\n\nセラクオリ
 ジナル学習ツールを使ったハンズオン講座\nセラク名
 古屋支社の技術者教育に使用している自作学習ツール
 を利用したSQL基礎講座を開催。\nツールを使用してのSQ
 L実習に加え、ツールの一部をカスタマイズすることで
 プログラミングも体験する\n何を持って帰れるのか\n\n
 データベースの基礎\nSQLの基礎（抽出、登録、更新、
 削除）\nプログラム基礎（ExcelVBA）\n\n情報交換やネッ
 トワーキングの機会\n\n講座の後には無料の懇親会を設
 けています。現役エンジニアとの情報交換の機会に。\
 n軽食とお菓子、アルコール類やソフトドリンクもご用
 意しています。\n途中退出も可能！お時間の許す限り
 ご参加ください。\n\n主な内容\n\nセラク名古屋支社自
 作学習ツールにて、SQL文の入力と実行結果の確認を実
 施する\nSELECT、INSERT、UPDATE、DELETE\nツールに機能を追加
 する（EXCELVBAによるプログラミング）\n\nタイムテーブ
 ル\n\n受付時に名刺を1枚頂戴いたします。\n受付時間は
 18：30～19：00になります。\n※遅れて参加も可能です。
 会場の扉をそっと開けてお入りください。\n7Ｆ会場の
 受付でお名前をスタッフにお伝えください。\n\n\n\n\n時
 間\n内容\n\n\n\n\n19：00～21：00\n講義\n\n\n21：00～21：30\n
 懇親会\n\n\n\n参加費\n\n無料\n\n懇親会は軽食とドリンク
 をご用意しています。\n事前準備/必要な機材等\n\n特に
 なし\n\nこんな人を主な対象としています\n\n新卒者・IT
 エンジニアを目指す方\n\n多くの方にご参加いただきた
 いと思っています。お気軽に是非ご参加ください♪\n
 登壇者紹介\n日比野　亨\n株式会社セラク\n―略歴―\nWe
 b系企業での営業を経てセラクへ入社。\n業務システム
 開発経験20年。社内外のプロジェクト推進および社内
 技術者の育成を担当。\nみんなの情熱大学にて、RPA・
 セールスフォース・データ分析などの基礎講座も開催
 。\n開催場所\n株式会社セラク\n名古屋支社\n〒450-0001愛
 知県名古屋市中村区那古野1-47-1 名古屋国際センタービ
 ル 7F\n注意事項\n\n受付時に名刺を1枚頂戴いたします。
 \n当日は写真撮影を行います。もし写真撮影NGの方がい
 らしたら、スタッフまでお申し出ください。\nイベン
 ト当日の様子は後日なんらかの媒体に掲載させていた
 だく場合がございます。　　\nお申込後、イベント内
 容は運営都合により変更/キャンセルになる場合がござ
 います。予めご了承ください。\n\nお問い合わせ\nセラ
 ク名古屋支社:nagoya_staff@seraku.co.jp
LOCATION:株式会社セラク 名古屋支社 愛知県名古屋市中村
 区那古野1-47-1(名古屋国際センタービル 7F)
URL:https://techplay.jp/event/713466?utm_medium=referral&utm_source=ics&utm
 _campaign=ics
END:VEVENT
END:VCALENDAR
