BEGIN:VCALENDAR
VERSION:2.0
PRODID:-//https://techplay.jp//JP
CALSCALE:GREGORIAN
METHOD:PUBLISH
X-WR-CALDESC:UXトライアウト・2時間で学ぶヒューリスティ
 ック評価【2/8渋谷】ブログ書く枠募集
X-WR-CALNAME:UXトライアウト・2時間で学ぶヒューリスティ
 ック評価【2/8渋谷】ブログ書く枠募集
X-WR-TIMEZONE:Asia/Tokyo
BEGIN:VTIMEZONE
TZID:Asia/Tokyo
BEGIN:STANDARD
DTSTART:19700101T000000
TZOFFSETFROM:+0900
TZOFFSETTO:+0900
TZNAME:JST
END:STANDARD
END:VTIMEZONE
BEGIN:VEVENT
UID:713576@techplay.jp
SUMMARY:UXトライアウト・2時間で学ぶヒューリスティック
 評価【2/8渋谷】ブログ書く枠募集
DTSTART;TZID=Asia/Tokyo:20190208T190000
DTEND;TZID=Asia/Tokyo:20190208T210000
DTSTAMP:20260421T045852Z
CREATED:20181228T075825Z
DESCRIPTION:イベント詳細はこちら\nhttps://techplay.jp/event/71357
 6?utm_medium=referral&utm_source=ics&utm_campaign=ics\n\n\n\n\n  ブロ
 グ書く枠募集！\n\n\n\n\n  このページでは「ブログ書く
 枠」として本講座のイベントレポートをブログに書い
 ていただける方を募集しています。一般枠で参加され
 る方は以下URLよりお申し込みください。 https://peatix.com
 /event/587084\n\n\n\n\n【この講座について】\n\n「UX（ユー
 ザーエクスペリエンス、利用体験）」という言葉は、
 昨今はIT業界以外でも耳にするようになり、関連書籍
 も数多く出されるようになりました。しかし実際のも
 のづくりの現場でのUXデザイン実践の具体的なイメー
 ジをつかめず、実践に踏み切れないケースも散在して
 います。\n\n「UXトライアウト」は、UXデザイン手法を
 ワークショップ形式で学ぶ体験型講座です。実際に手
 法を使って成果物を完成させることで、具体的なイメ
 ージをつかみ、実際のものづくりの現場で実践してい
 ただくことを目的にしています。\n\n今回は、ヒューリ
 スティックス（使いやすさ原則）に基づいて使いやす
 さに関わる良否を判断する手法「ヒューリスティック
 評価」を学びます。\n\n本講座はUXについて体系的に学
 ぶ機会の少ないIT系中小企業・フリーランス・学生の
 方を主に想定しています。初心者の方も改めて学び直
 したいとお考えの方も、ぜひ本講座にご参加下さい。\
 n\n【ヒューリスティック評価とは】\n\nヒューリスティ
 ック評価とは、評価担当者がユーザー視点に立って試
 作品や完成品を試用し、ヒューリスティックス（使い
 やすさ原則）に基づいて使いやすさに関わる良否を判
 断するUX評価手法です。ヒューリスティック評価の長
 所は、ユーザーの協力を得ないで行うため協力者募集
 などにかける時間が不要、ヒューリスティックスを評
 価の基準に置くことで評価の専門家ではない技術者で
 も容易に評価可能、という点にあります。\n\n【UXデザ
 インとは】\n\nUXデザインとは、まずユーザーに提供し
 たいUX（ユーザーエクスペリエンス、利用体験）を定
 め、その手段として製品やサービスを設計するものづ
 くりの方法論です。UXの正確な定義は国際規格ISO9241-210
 :2010によって規格化されています。\n\n\n\n\n\n\n\n【当日
 の流れとタイムスケジュール】\n\n当日は前半に講義を
 行い、後半に実習で一連の課題を行って理解を深めて
 いただきます。（全2時間）\n\n\n講義：UXデザインとヒ
 ューリスティック評価\n講義：ヒューリスティック評
 価の進め方\n実習：ヒューリスティック評価を体験す
 る\nまとめと質疑応答\n\n\n【期待できる成果】\n\n\nUXデ
 ザインとはなにかを理解できる\nヒューリスティック
 評価のプロセスを理解し、仕事で実践できるようにな
 る\nユーザー本位のものづくりを行うことで製品やサ
 ービスの満足度が上がる\n\n\n【こんな方を対象として
 います】\n\n\nスキルアップしたいがUXについて学ぶ場
 の少ないフリーランス、学生\nユーザー本位の設計を
 行いたいプログラマー・UIデザイナー\n本質的な改善を
 行いたいWebディレクター・マネージャー\nお客様に喜
 ばれる新製品や新サービスを作りたい商品企画担当者\
 n\n\n【参加当日のご注意】\n\n\n筆記用具だけお持ちく
 ださい。教材は当日無料配布します。\n最少催行人数
 は３人です。最少催行人数に満たない場合、講座は中
 止となります。中止の際は事前にご連絡します。\nプ
 ログラムは予告なく変更される場合があります。\nイ
 ベント当日は、参加者の皆様を撮影し、開催報告とし
 てWebサイト等に掲載させていただきます。\n\n\n【講師
 紹介】\n\n\n\n森山 明宏（ユーリカ株式会社代表、UXデ
 ザイナー）\n\n\n略歴：家電メーカーで商品企画、OA機
 器メーカーでユーザビリティを担当し、2012年にユーリ
 カ株式会社を設立し現在に至る。UXデザインの普及を
 目指し、主にWebサイトの改善や人材教育の分野で活躍
 する。2018年より岩崎学園情報科学専門学校非常勤講師
 。最近の関心事は「善隣的デザイン」(UXデザインによ
 る社会課題解決)。\nTwitter : https://twitter.com/hiro_ux\n\n\n【
 ブログ書く枠募集！】\n\n本講座のイベントレポートを
 ブログに書いていただける方を募集します。\n\n条件：
 \n\n以下の３つの条件すべてを満たす方\n\n\n自分のブロ
 グを運営している方（FacebookやGoogle+などの個人アカウ
 ントでも可）\n過去に自分のブログにIT勉強会やセミナ
 ーのイベントレポートを投稿したことがある方\n本講
 座のイベントレポートをブログに書いていただける方
 （イベントについての率直なご意見をブログとしてお
 書きください。好評・悪評は問いません。ただし事実
 に反する内容はNGです）\n\n\n特典：\n\n参加費無料\n\n募
 集数：\n\n全１名（抽選制）\n\n申込方法：\n\n画面の「
 イベントに参加する」ボタンをクリックし、フォーム
 に必要事項を記入の上、お申込み下さい。\n\n備考：\n\
 n一般枠での参加についてはPeatixにて募集しております
 。以下URLより申し込みをお願いします。https://peatix.com/
 event/587084\n\n【費用】\n\n\n一般：お一人様5\,000円（税込
 ）\nブログ書く枠：無料\n\n\n【支払に関するご注意】\n
 \n\n場所代・配布資料代等すべて込みの価格です。\n支
 払方法として銀行ATM支払、コンビニ支払、およびクレ
 ジットカード支払が可能です。決済にはPeatix様の決済
 サービスを使用しております。\n弊社よりの領収証発
 行はありません。領収証の必要な方はPeatix様の領収証
 発行機能をご利用ください。\nキャンセル受付の期限
 はチケット販売期限と同一です。チケット販売期限終
 了後は、参加の如何によらず参加費用の全額を請求い
 たします。キャンセルされる場合は、Peatix様の定める
 所定の手続きに従ってください。また、キャンセルさ
 れる場合はPeatix様の定めるキャンセル手数料をお支払
 いください。\n\n\n【関連講座】\n\nUXトライアウトは10
 の講座で構成されています。必要な講座だけ選択して
 受講することが可能です。 最新の開催日程はPeatixにて
 公開しています。 https://peatix.com/group/37458/events\n\n【開
 催概要】\n\n\n講座名称：UXトライアウト・2時間で学ぶ
 ヒューリスティック評価【2/8渋谷】\n日　　時：2019年2
 月8日（金曜）受付開始18:30 開催19:00～21:00\n場　　所：
 渋谷区文化総合センター大和田 2F 区民学習センター 
 学習室7\n住　　所：東京都渋谷区桜丘町23-21\n最寄り駅
 ：JR渋谷駅（西口徒歩5分)\n司会進行：森山 明宏 (ユー
 リカ株式会社代表、UXデザイナー)　\n定員人数：16名 (
 先着順)\n対　　象：社会人および学生のUXデザイン初
 心者\n申込方法：申し込みは以下ページ内専用フォー
 ムよりお願いします。https://peatix.com/event/587084\n参加費
 用：4\,000円\n\n\n\n\n\n\n\n
LOCATION:渋谷区文化総合センター大和田 2F 区民学習セン
 ター 学習室7 東京都渋谷区桜丘町23-21
URL:https://techplay.jp/event/713576?utm_medium=referral&utm_source=ics&utm
 _campaign=ics
END:VEVENT
END:VCALENDAR
