BEGIN:VCALENDAR
VERSION:2.0
PRODID:-//https://techplay.jp//JP
CALSCALE:GREGORIAN
METHOD:PUBLISH
X-WR-CALDESC:Bonfire Design #4
X-WR-CALNAME:Bonfire Design #4
X-WR-TIMEZONE:Asia/Tokyo
BEGIN:VTIMEZONE
TZID:Asia/Tokyo
BEGIN:STANDARD
DTSTART:19700101T000000
TZOFFSETFROM:+0900
TZOFFSETTO:+0900
TZNAME:JST
END:STANDARD
END:VTIMEZONE
BEGIN:VEVENT
UID:713613@techplay.jp
SUMMARY:Bonfire Design #4
DTSTART;TZID=Asia/Tokyo:20190116T190000
DTEND;TZID=Asia/Tokyo:20190116T220000
DTSTAMP:20260421T115159Z
CREATED:20181228T141454Z
DESCRIPTION:イベント詳細はこちら\nhttps://techplay.jp/event/71361
 3?utm_medium=referral&utm_source=ics&utm_campaign=ics\n\nリアルを含
 めたユーザー体験の描き方 今回は「リアルとつなげる
 デザイン」をテーマに、不動産・配車・通販といった
 領域での新しい挑戦にフォーカスします！  \nイベント
 概要\nヤフー主催の技術・デザインコミュニティ「Bonfi
 re」の中で、デザインにフォーカスした情報共有を定
 期的に行う勉強会/交流会イベントです。\n最新技術の
 活用方法や幅が広がるデザイナーの役割との向き合い
 方など、 業務における取り組みや課題について共有す
 ることで、デザインをUPDATEできる夜にしましょう！\n
 急成長を続けるサービスを運営する各社と、ヤフーの
 社員によるLTを中心とした、濃いイベントになること
 間違いなしです。\n当日はヤフーの各サービスを率い
 るメンバーもいるので、様々な意見交換が期待できま
 す♪\n今回のテーマ\nBonfire Designでは毎回テーマを決め
 、そのテーマに関する発表を行います。\n第4回のテー
 マは「 リアルとつなげるデザイン」です！\nユーザー
 に良いサービス体験を届けるには、いまや画面内のイ
 ンターフェースの設計だけでは収まりきれません。\n
 ユーザーとの接点が多様化していくなかで、リアルま
 で含めたデザインをどのようにしていくか、事例を交
 えつつ今後のデザインに活かせる情報交換しましょう
 ！\n物件探しのHOME'Sでお馴染みのLIFULLからデザイナー
 の五十嵐さん、乗車無料で話題を呼んでいる配車サー
 ビスMOVのUX/UIを担当するDeNAデザイナーの徐 愛琳さん、
 そしてZOZOからクリエイティブディレクターの佐藤大介
 さんをお招きしています。そして弊社からはヤフオク
 の松田、Yahoo!カレンダーの吉田がそれぞれのサービス
 におけるオフライン体験を含んだデザインについてお
 話しいたします。お見逃しなく。\n開催概要\n日時\n2019
 /1/16 (水) 19:00〜\n登壇者（順不同）\n【登壇者一覧】\n
 ・松田 悠吾（ヤフー株式会社 エンジニア）\n・五十嵐
  祐真（株式会社LIFULL デザイナー）\n・徐 愛琳（株式
 会社ディー・エヌ・エー デザイナー）\n・佐藤 大介（
 株式会社ZOZO クリエイティブディレクター）\n・吉田 
 尚道（ヤフー株式会社 デザイナー）  \n松田 悠吾 ◆ 
 ヤフー株式会社 アプリエンジニア\n2013年に富士通株式
 会社に新卒入社し、iOS/Android/Windows向け手書き文字認識
 の開発/拡販を担当。その後、2017年にヤフー株式会社
 に中途入社し、ヤフオク!のiOS/Androidアプリ開発を担当
 。Webフロントやデータサイエンス、特許、企画提案、
 ユーザーインタビューなど、何でもやるマン。\n五十
 嵐 祐真 ◆ 株式会社LIFULL デザイナー\nA型の父ヨシフミ
 と、A型の母ヒロミから授かった真面目で几帳面な男。
 小学生の頃にやっていた剣道クラブの経験を活かし、
 大胆にペンタブを振るう。\n2016年から不動産情報サー
 ビスLIFULL HOME'Sのアプリデザインに従事。住まいとユー
 ザとの最高のマッチングを心がける。\n徐 愛琳 ◆ 株
 式会社ディー・エヌ・エー デザイナー\n日本と台湾の
 ハーフ。台湾の大学を卒業後、福岡の制作会社でグラ
 フィックデザインやWebデザインを経験。\n2017年に株式
 会社ディー・エヌ・エーに入社。\n現在は主に次世代
 配車アプリ「MOV《モブ》」のUX/UIデザインを担当。\n佐
 藤 大介 ◆ 株式会社ZOZO クリエイティブディレクター\n
 広告代理店、デザイン会社を経て2006年に株式会社スタ
 ートトゥデイ（現：株式会社ZOZO）に入社。2018年よりZO
 ZO Technologies。ZOZOTOWのサイト・アプリのUI/UXだけでなく
 、CMからプロモーション、映像まで幅広く担当し、現
 在はZOZOプライベートブランドに注力。別プロジェクト
 としてデザインチームcoutworks.comを主宰。国内外に作品
 を提供する。\n吉田 尚道 ◆ ヤフー株式会社 デザイナ
 ー\n2008年にヤフー株式会社に入社。トップページや全
 社特集案件のデザイナー、新規アプリ立ち上げのプロ
 ジェクトマネージャーなどを経て、2016年よりYahoo!カレ
 ンダーアプリのデザイン、グロースを担当。現在はク
 リエイティブマネージャーとして、Yahoo!カレンダー全
 体のデザイン品質向上に取り組んでいる。\nタイムス
 ケジュール\n\n\n\n時間\n内容\nスピーカー\n\n\n\n\n19:00\n
 開場／受付開始\n\n\n\n19:30\nイントロ・乾杯\n\n\n\n19:35\nA
 R機能のUXデザインにエンジニアができること\n松田 悠
 吾 ◆ ヤフー株式会社 アプリエンジニア\n\n\n19:45\n住み
 替えをわくわくさせる新体験のデザイン\n五十嵐 祐真 
 ◆ 株式会社LIFULL デザイナー\n\n\n19:55\n移動空間での心
 地良い体験につながるUIデザイン\n徐 愛琳 ◆ 株式会社
 ディー・エヌ・エー デザイナー\n\n\n20:05\n休憩\n\n\n\n20:
 15\n画面外の体験をつくる\n佐藤 大介 ◆ 株式会社ZOZO 
 クリエイティブディレクター\n\n\n20:25\nリアルを含めた
 ユーザー体験の描き方\n吉田 尚道 ◆ ヤフー株式会社 
 デザイナー\n\n\n20:35\n交流会\n\n\n\n21:45\n終了\n\n\n\n\n開
 催場所\n\nYahoo! JAPANのコワーキングスペース「LODGE」 \n
 東京都千代田区紀尾井町1-3 東京ガーデンテラス紀尾井
 町 17F   \n会場へのアクセス\nヤフー株式会社　東京ガ
 ーデンテラス紀尾井町オフィス\n（東京都千代田区紀
 尾井町1-3 東京ガーデンテラス紀尾井町 紀尾井タワー
 ）\nhttps://lodge.yahoo.co.jp/access_pc.html\n東京メトロ南北線
 　「永田町駅」9a出口直結\n東京メトロ半蔵門線　「永
 田町駅」7番出口より徒歩2分\n東京メトロ丸の内線/銀
 座線　「赤坂見附駅」D出口より徒歩1分  \n※駅からオ
 フィス2F入口まで少し距離が離れておりますので、お
 時間に余裕をもってお越しください。  \n注意事項\n\n
 当日の様子のお写真をウェブサイトやSNSで公開する可
 能性があります。\n撮影不可の場合は、受付でお伝え
 ください。\n応募者多数の場合は、抽選とさせていた
 だきます。予めご了承ください。\nナレッジの共有や
 、参加者同士の交流を目的としない参加はお断りして
 おります。\n参加目的が不適切だと判断される場合、
 運営側で参加をキャンセルさせていただきます。\n会
 場は禁煙となっております。\nご参加いただく際にご
 記入いただくメールアドレスは、ヤフー社屋への入館
 に際しセキュリティ上必要な情報となります。（こち
 らの情報を元にしたヤフーからのご連絡などはござい
 ません。）\n
LOCATION:ヤフー株式会社 LODGE 東京都千代田区紀尾井町1-3 
 東京ガーデンテラス紀尾井町
URL:https://techplay.jp/event/713613?utm_medium=referral&utm_source=ics&utm
 _campaign=ics
END:VEVENT
END:VCALENDAR
