BEGIN:VCALENDAR
VERSION:2.0
PRODID:-//https://techplay.jp//JP
CALSCALE:GREGORIAN
METHOD:PUBLISH
X-WR-CALDESC:【開催場所変更：目黒駅西口＆増員！】Rubyで
 スクレイピングを体験しよう！【初心者大歓迎】
X-WR-CALNAME:【開催場所変更：目黒駅西口＆増員！】Rubyで
 スクレイピングを体験しよう！【初心者大歓迎】
X-WR-TIMEZONE:Asia/Tokyo
BEGIN:VTIMEZONE
TZID:Asia/Tokyo
BEGIN:STANDARD
DTSTART:19700101T000000
TZOFFSETFROM:+0900
TZOFFSETTO:+0900
TZNAME:JST
END:STANDARD
END:VTIMEZONE
BEGIN:VEVENT
UID:713614@techplay.jp
SUMMARY:【開催場所変更：目黒駅西口＆増員！】Rubyでスク
 レイピングを体験しよう！【初心者大歓迎】
DTSTART;TZID=Asia/Tokyo:20190116T194500
DTEND;TZID=Asia/Tokyo:20190116T220000
DTSTAMP:20260421T211700Z
CREATED:20181228T141455Z
DESCRIPTION:イベント詳細はこちら\nhttps://techplay.jp/event/71361
 4?utm_medium=referral&utm_source=ics&utm_campaign=ics\n\n会場が変更
 になりました\n本日19:45から開催予定の「Rubyでスクレ
 イピングを体験しよう！」について、会場が変更にな
 りましたのでおしらせします。\n変更後会場：\n東京都
 目黒区目黒1-4-8 ニュー目黒ビル７階\n（目黒駅から徒
 歩3分程度）\nグーグルマップ：\nhttps://goo.gl/maps/Bi2hsW742
 WD2\n資料\nhttps://paper.dropbox.com/doc/Ruby--AUCcc4WThepYZsrM3zrvk4~B
 Ag-9187zpyyGMc8aTvaRBifX\nこのイベントで出来るようになる
 こと\n\n少しのコードとちょっとした工夫で、Webサイト
 から自動でデータ収集ができるようになります\nRubyの
 基礎構文が理解できるようになります\n\nスクレイピン
 グとは？\nウェブサイトのHTMLから必要なデータを取得
 すること\n上記を行うプログラムをスクレイパと呼ぶ  
 \nやること\n\nRubyとは？\nHTMLの文書構造の解説\nRubyの環
 境構築\nスクレイピングに必要なライブラリのインス
 トール\nスクレイピングをしてみる\nコードの解説\nセ
 レクタの解説\n\n対象\n\nプログラミング初心者向けで
 す^^\nプログラミングってなんだろう？という方でも興
 味さえあれば参加可能です！\nどなたでもOKですが、PC
 と電源ケーブルをご持参ください\n最低限のキーボー
 ド操作ができる方が対象です\n\n参考資料など\nRubyでク
 ローラー\n参考図書\nやらないこと\n最低限の文法の解
 説はしますが、Rubyの文法の細かい話は省きます\nまず
 は、体験し「なんとなく分かる！」からスクレーピン
 グの達成感を一緒に味わいましょう！\n設備\n\nノート
 パソコンは各自ご用意ください\n必要な方はパソコン
 の充電器もご持参ください\n電源タップ、wifiがご利用
 頂けます\n\n下記のコードの意味を完全に理解できるこ
 とを目指します\nrequire 'nokogiri'\nrequire 'open-uri'\n\nurl = 'h
 ttps://qiita.com/search?q=ruby'\n\ncharset = nil\n\nhtml = open(url) do |
 f|\n    charset = f.charset\n    f.read\nend\n\ndoc = Nokogiri::HTML.pars
 e(html\, nil\, charset)\ndoc.xpath('//h1[@class="searchResult_itemTitle"]
 ').each do |node|\n  p node.css('a').inner_text\nend\n
LOCATION:ニュー目黒ビル７階 東京都目黒区目黒1-4-8 ニュ
 ー目黒ビル７階
URL:https://techplay.jp/event/713614?utm_medium=referral&utm_source=ics&utm
 _campaign=ics
END:VEVENT
END:VCALENDAR
