BEGIN:VCALENDAR
VERSION:2.0
PRODID:-//https://techplay.jp//JP
CALSCALE:GREGORIAN
METHOD:PUBLISH
X-WR-CALDESC:XR（AR・VR）技術講座　～XR活用の今～
X-WR-CALNAME:XR（AR・VR）技術講座　～XR活用の今～
X-WR-TIMEZONE:Asia/Tokyo
BEGIN:VTIMEZONE
TZID:Asia/Tokyo
BEGIN:STANDARD
DTSTART:19700101T000000
TZOFFSETFROM:+0900
TZOFFSETTO:+0900
TZNAME:JST
END:STANDARD
END:VTIMEZONE
BEGIN:VEVENT
UID:713800@techplay.jp
SUMMARY:XR（AR・VR）技術講座　～XR活用の今～
DTSTART;TZID=Asia/Tokyo:20190116T191000
DTEND;TZID=Asia/Tokyo:20190116T210000
DTSTAMP:20260423T234208Z
CREATED:20181231T061539Z
DESCRIPTION:イベント詳細はこちら\nhttps://techplay.jp/event/71380
 0?utm_medium=referral&utm_source=ics&utm_campaign=ics\n\nXR（AR・VR）
 技術講座　～XR活用の今～\n2018年9月に開催して大好評
 をはくしたAR講座に続き、2019年第一弾のXR（AR・VR）講
 座を開催します。\n講師として、［拡張現実］と［人
 工現実］の2つの［現実］の狭間で、新しい感覚・体験
 ・視点を提供している株式会社A440のCTOである野村烈様
 を講師を迎え、実際に商用利用されている2つの事例を
 元にAR・VRのお話をしていただきます。\n★こんな方に
 おススメです★\n・AR・VR・MRなどXR技術に興味がある\n
 ・これからXR系の仕事をする予定がある\n・XRのディレ
 クション・開発に興味がある\n・どなたでも歓迎です
 ！\n講師プロフィール\n\n株式会社A440　CTO\n野村　烈（N
 omura Tsuyoshi）様\nソニー株式会社にてLi-ion電池保護回路
 設計/AR関連技術開発を経験後、A440設立に参画。\n主にA
 R/VR分野で、ソフト・ハード問わず横断的なシステム開
 発、ディレクションに携わる。\n現在は、空間移動型VR
 「ABAL」のシステム開発/ディレクションを担当。\n紹介
 事例\n◇株式会社SUBARU様　『SUBARU VIZIV CONCEPT AR EXPERIENCE
 』\n・ジュネーブモーターショーに出展された車をARと
 VRで体験できるアプリの開発\n◇日本発“空間移動型VR
 ”『アバル：ダイナソー』\n・6500万年前の大迫力の恐
 竜世界を体験できるVRシステム開発とディレクション\n
 \nスケジュール\n\n\n\n時間\n内容\n\n\n\n\n18：50\n開場\n\n\n
 19：10\n会場提供：『ワンダープラネット株式会社』様
 ご挨拶\n\n\n19：20\n～野村様 講演～■第一部　事例紹介
 ・AR「SUBARU VIZIV CONCEPT AR EXPERIENCE」・VR「ABAL:DINOSAUR」■
 第二部　XRコンテンツ制作のポイント・まず「Real」を
 定義する・現実からゆるくつなぐ・「気にならないこ
 と」が最低ライン・現場環境を味方につける■第三部
 　XRのこれから\n\n\n20：20\n質問会\n\n\n20：30\nネットワ
 ーキング\n\n\n21：00\n終了\n\n\n\n場所\n■会場\nワンダー
 プラネット株式会社　渋谷オフィス\n東京都渋谷区桜
 丘町9-8 KN渋谷3ビル4F\n■アクセス\n各線「渋谷」駅より
 徒歩7分\nhttp://wonderpla.net/company/access/\nお申込み・参加
 費お支払い方法\n・事前支払い　2\,000円\n・当日支払い
 　3\,000円\n※未来技術推進協会の有料会員も通常の参
 加費を頂きます\n【キャンセルポリシー】\nやむを得ず
 キャンセルされる場合は、開催日の3日前(※)までに以
 下の連絡先メールアドレス宛にキャンセルのご連絡を
 いただいた方に限り、講座開催日から1週間以内にPayPal
 にて会費を払い戻し致します。\n但し、払い戻し手続
 きに要するPayPal手数料を差し引かせていただきます。\
 nまた、キャンセルのご連絡が開催日の2日前(※)より以
 降にいただいた場合、またはキャンセルのご連絡が無
 かった場合は、払い戻しに応じられませんのでご留意
 ください。\nなお、申込日から3日以内(※)に会費をお
 振り込みいただけない場合、お申込みをキャンセルと
 させていただきます。\n(※) 土日祝日も含んだ日数で
 す。\n企画・運営\n\n一般社団法人　未来技術推進協会\
 n私たち未来技術推進協会は、企業や専門を超えた20代-
 30代の若手技術者からなる団体です。\n大学研究者、企
 業、投資家、新しい技術に興味を持つ社会人・学生か
 らなるコミュニティーを形成し、社会課題をテクノロ
 ジーで解決することを目的としています。\n今後も、
 将来の日本を担う最先端技術を世の中に発信し、特にS
 DGsをテクノロジーで解決すべく、コミュニティー形成
 に取り組んでまいります。\nお問い合わせ\n\n一般社団
 法人　未来技術推進協会\n山本\nMail：k-yamamoto@future-tech-
 association.org\nTel：070-1510-3870\n\n注意事項\nリクルーティ
 ング、勧誘、採用活動、人の話を聞かないなど、目的
 に沿わない行為につきまして、主催者が相応しくない
 と判断した場合は即刻退出処分とします。全員が気持
 ちよく過ごすことが出来るよう、ご協力をお願い致し
 ます。
LOCATION:ワンダープラネット株式会社　渋谷オフィス 東
 京都渋谷区桜丘町9-8(KN渋谷3ビル 4F)
URL:https://techplay.jp/event/713800?utm_medium=referral&utm_source=ics&utm
 _campaign=ics
END:VEVENT
END:VCALENDAR
