BEGIN:VCALENDAR
VERSION:2.0
PRODID:-//https://techplay.jp//JP
CALSCALE:GREGORIAN
METHOD:PUBLISH
X-WR-CALDESC:【大阪】Progateからのあこがれ!!ハッカソン（
 アイデアソン＋チームビルド）2019/1/19
X-WR-CALNAME:【大阪】Progateからのあこがれ!!ハッカソン（
 アイデアソン＋チームビルド）2019/1/19
X-WR-TIMEZONE:Asia/Tokyo
BEGIN:VTIMEZONE
TZID:Asia/Tokyo
BEGIN:STANDARD
DTSTART:19700101T000000
TZOFFSETFROM:+0900
TZOFFSETTO:+0900
TZNAME:JST
END:STANDARD
END:VTIMEZONE
BEGIN:VEVENT
UID:713994@techplay.jp
SUMMARY:【大阪】Progateからのあこがれ!!ハッカソン（アイ
 デアソン＋チームビルド）2019/1/19
DTSTART;TZID=Asia/Tokyo:20190119T183000
DTEND;TZID=Asia/Tokyo:20190119T213000
DTSTAMP:20260419T123355Z
CREATED:20190103T060922Z
DESCRIPTION:イベント詳細はこちら\nhttps://techplay.jp/event/71399
 4?utm_medium=referral&utm_source=ics&utm_campaign=ics\n\n概要\n「Proga
 teやドットインストール、udemyなどで得た知識を活用し
 てアプリを作ってみようと思ったが、作りたいものの
 アイデアがない。」\n「webサービスのアイデアはある
 が、作ろうとしても基礎の勉強や仕事があり、一気に
 作ることが出来ない。」\n「何かを作ろうとしても経
 験がないので、要件定義や設計できず、1人ではつまず
 いてしまった。Gitの使い方などを学びながらチームで
 開発する方法を知りたい。」\nという初学者の方のweb
 制作を手助けするためのハッカソンイベントです。\n*
 当ハッカソンイベントでの初学者とは、Progateにて言語
 問わず「１つのコースを終了させたよー」というくら
 いの方を想定しております。\nハッカソンとは\n「ハッ
 ク」と「マラソン」を組み合わせた造語。\nいくつか
 のチームに分かれてメンバーが目的に向かってアイデ
 アを出し合い、短期間でアプリやサービスをつくると
 いうものです。\nこのイベントでは、およそ1ヶ月の間
 に、動く何かを制作・公開して頂きます。\nスケジュ
 ール\n\n　日時　   　 項目　  内容\n1月19日（土）18:30-2
 1:30 　　 チームビルド・アイデアソン   制作物やチー
 ムを決めます。\n\n期間中  開発   チーム単位で開発を
 進めます。オフライン（リアルのミーティング）や\n
 オンライン（チャットツール）などで\nコミュニケー
 ションを取りながら開発を進めてください。\n\n2月2日
 （土）18:30-21:30  　発表会＋懇親会   成果物を5分間で
 プレゼンテーションしてください。\n\n\n\n\n参加するメ
 リット\n開発枠\n-独学では学べないチーム開発に必要
 なあれこれを学ぶことができます。\n-出来上がった制
 作物はご自身のポートフォリオに追加することができ
 ます。\n-俗に言う「ガチ勢」は参加しない想定なので
 、ハッカソンデビューにも最適です。（「チームメン
 バーの足手まといになるかも」という心配がありませ
 ん。）\nメンター枠／リモートメンター枠\n-教えるス
 キルが上がります。\n-初学者の課題解決に貢献する喜
 びを得られます。\n-飲み友達が増えます（たぶん）。\
 nチームビルド・アイデアソンについて\n・作りたいア
 イデアがある方は、プレゼンテーションの時間（1分間
 ）を差し上げます。イベント当日までにまとめてきて
 ください。\n・作ってみたいアイデアがあれば、その
 場で2名〜4名程度のチームを組みます。\n・作ってみた
 いアイデアがない場合は、スキルセット（技術や言語
 ）の方向性でチームを組み、別のアイデアを考えます
 。\n・いずれもファシリテーターがサポートしますの
 で、「ハッカソン＝敷居高そう」と思っている方も安
 心してご参加ください。\n参加可能な方\n開発枠\n\n\n以
 下のスケジュールを空けられる方。\n・1月19日（土）18
 :30-21:30 \n・2月2日（土）18:30-21:30 (発表会予定日)\n\n\nプ
 ライベートの時間にコツコツ制作を進められる方。\n
 途中離脱はチームメンバーに迷惑がかかるため、期間
 中忙しいことが予め判明している方のご参加はお控え
 ください。 \n\n\n自走できるエンジニア/デザイナー/デ
 ィレクターになろうと思っている方\nイベント趣旨を
 ご理解頂きつつ、経験者の方はメンター枠にてご参加
 頂けると助かります。\n\n\nメンター枠\n初学者に対し
 てオンラインやオフラインで技術的な何かを教えられ
 る時間と経験と心の余裕がある方。\nもしくは教える
 スキルを向上させたいと思っている方。\n見学枠\n次回
 以降の参加を検討しているが、一旦様子見したい方。\
 nリモートメンター枠\n1月19日の参加は難しいものの、
 開発期間中はリモート（主にSlack）で技術的なサポー
 トができる方。\n持ち物\n夕食\n※スポンサー様が現れ
 た場合は不要になる場合があります。\n参加費\n500円\n
 ※スポンサー様が現れた場合は軽減される場合があり
 ます。\n※会場代・運営費に充当させて頂きます。\nご
 注意\n・夜通し開発イベントではありません。\n・Progat
 eユーザーでなくても、開発枠にご参加頂けます。（開
 発枠でのご参加の目安として、Progateにて言語問わず「
 １つのコースを終了させたよー」というくらいの方を
 想定しております。）\n・参加人数の加減により会場
 が変更(大阪市内)になる場合があります。\nスポンサー
 について\n参加者の参加費・飲食代等の負担を軽減す
 るべく「スポンサーになってもいいよ」という企業や
 個人の方は、\nこのページの「フィード（コメント）
 」欄に「スポンサーになってもいいよ」とご記入くだ
 さい。\n運営担当者より折り返しご連絡させて頂きま
 す。
LOCATION:KiiiyaHommachi 大阪市中央区本町４丁目７−７−３０
 ３
URL:https://techplay.jp/event/713994?utm_medium=referral&utm_source=ics&utm
 _campaign=ics
END:VEVENT
END:VCALENDAR
