BEGIN:VCALENDAR
VERSION:2.0
PRODID:-//https://techplay.jp//JP
CALSCALE:GREGORIAN
METHOD:PUBLISH
X-WR-CALDESC:Rails Follow-up Kyoto
X-WR-CALNAME:Rails Follow-up Kyoto
X-WR-TIMEZONE:Asia/Tokyo
BEGIN:VTIMEZONE
TZID:Asia/Tokyo
BEGIN:STANDARD
DTSTART:19700101T000000
TZOFFSETFROM:+0900
TZOFFSETTO:+0900
TZNAME:JST
END:STANDARD
END:VTIMEZONE
BEGIN:VEVENT
UID:714018@techplay.jp
SUMMARY:Rails Follow-up Kyoto
DTSTART;TZID=Asia/Tokyo:20190119T130000
DTEND;TZID=Asia/Tokyo:20190119T180000
DTSTAMP:20260419T221720Z
CREATED:20190103T141107Z
DESCRIPTION:イベント詳細はこちら\nhttps://techplay.jp/event/71401
 8?utm_medium=referral&utm_source=ics&utm_campaign=ics\n\nRuby、 Rails 
 初心者・初級者向けに有志でフォローする勉強会です
 。\n\nRails Follow-up Kyoto とは\n\n先月 2018-12-08 に開催され
 た RailsGirls Kyoto 9th を受けて発足しました。\n\nRails で W
 eb アプリケーションを作成する際に必要な基礎知識や
 、開発環境の構築、Ruby の学習など 参加者全員 でフォ
 ローします。\n\n\n「自分なんて場違いだ、こんな初心
 者は誰にも相手になんかしてもらえっこない」\n\n\nと
 いう不安を少しでも解消したいという目的のイベント
 なので、どんなレベルからでも参加いただけます。\n\n
 初心者から上級者まで みんなで楽しく 腕前を上げて
 いきましょう。\n\n開催場所\n\nHappy Elements株式会社さん
 の多目的スペース をお借りしました。\n\nタイムテー
 ブル\n\n有志による勉強会のため、内容は持ちよったり
 当日にみんなで考えて作ったりすることになります。\
 n困っていることがあればぜひ持ってきてください。\n\
 n当日開始直後に自己紹介をします。\nその際、各自1〜
 2分ぐらいで自己紹介と最近感じている課題や気になっ
 ていること、当日やりたいことを共有したいと思いま
 す。\n\n\n\n時間\n内容\n\n\n\n13:00-13:20\n自己紹介\n\n\n13:20-
 18:00\nフリー\n\n\n\n途中参加、途中退室も大丈夫です。\
 n\n持ち物\n\n作業用のノート PC や AC アダプタは忘れず
 に持ってきてください。
LOCATION:Happy Elements株式会社 多目的スペース 京都府京都
 市下京区立売西町82 京都恒和ビル6F
URL:https://techplay.jp/event/714018?utm_medium=referral&utm_source=ics&utm
 _campaign=ics
END:VEVENT
END:VCALENDAR
