BEGIN:VCALENDAR
VERSION:2.0
PRODID:-//https://techplay.jp//JP
CALSCALE:GREGORIAN
METHOD:PUBLISH
X-WR-CALDESC:【ライブ配信】Python入門（初心者歓迎）
X-WR-CALNAME:【ライブ配信】Python入門（初心者歓迎）
X-WR-TIMEZONE:Asia/Tokyo
BEGIN:VTIMEZONE
TZID:Asia/Tokyo
BEGIN:STANDARD
DTSTART:19700101T000000
TZOFFSETFROM:+0900
TZOFFSETTO:+0900
TZNAME:JST
END:STANDARD
END:VTIMEZONE
BEGIN:VEVENT
UID:714313@techplay.jp
SUMMARY:【ライブ配信】Python入門（初心者歓迎）
DTSTART;TZID=Asia/Tokyo:20190112T133000
DTEND;TZID=Asia/Tokyo:20190112T154500
DTSTAMP:20260421T051355Z
CREATED:20190107T050845Z
DESCRIPTION:イベント詳細はこちら\nhttps://techplay.jp/event/71431
 3?utm_medium=referral&utm_source=ics&utm_campaign=ics\n\n【ライブ配
 信】Python入門（初心者歓迎）\n\n概要\n\n普段は教室で
 行なっているPython入門の講座をオンライン・ライブ配
 信で提供いたします！遠方の方や、忙しくて現場に来
 れない方は是非ご参加ください！\n\n我々の講義では、
 講師と受講者の皆様のインタラクティブなコミュニケ
 ーションを大切にしています。ライブ配信講座でも、
 そこのスタンスは崩さずに、メッセージ機能によって
 質問し放題の環境を提供いたします！\n\n受講方法はお
 申し込みしていただいた方々に、メールでご案内させ
 ていただきます。\n\nPythonは豊富なライブラリと簡潔な
 記述によって人気を博している言語です。当講座では
 、Pythonの初心者がPythonの基本的な文法を理解し、簡単
 なプログラムなら書けるという状態をゴールとします
 。また、他人が書いたコードでも、ある程度読めるよ
 うになります。\n\n講座は実戦形式で皆さまにも手を動
 かしてもらう場面が多くありますので、Python3をインス
 トールしたPCをご用意ください！\n\n※講座の進行は「j
 upyter notebook」を使います。同じ実行環境で受講したい
 方・どの環境を使ったら良いか迷っている方には、イ
 ンストールをお勧めします。\n\n講座を通じて得られる
 こと\n\n・Pythonの基本的な文法の習得\n・Pythonで簡単な
 プログラムが記述できる\n・他人の書いたPythonコード
 も調べながらなら理解できる\n\n講座一覧のフローチャ
 ート\n\nどの講座から受講したら良いのかわからないと
 いうような方は、下記のフローチャートを参考にして
 いただければと思います。\n\n\n\n内容\n\n・プログラム
 の実行方法（jupyter notebook、ターミナル）\n・Pythonにお
 ける変数の扱い\n・リスト\n・辞書\n・演習問題1（変数
 、演算）\n・if文、for文\n・リストの内包表現\n・演習
 問題2（if文、for文、内包表現）\n・関数\n・ライブラリ
 の導入\n・演習問題3（関数）\n\n※各項目に最低限2題
 以上演習問題をもうけていますので、理解度を確認し
 ながら受講いただけます。\n※ 当日予告なく時間配分
 ・内容が変更になる可能性がございます。\n\nこんな人
 にオススメ\n\n・Pythonを最短ルートで入門したい方\n・P
 ython入門を考えているが自分で出来るか不安な方。\n・
 プログラミング初心者の方\n\n講師\n\n柴田頼仁\n慶應義
 塾大学理工学部にて統計学を専攻。スポーツと数字の
 結び付きに興味を抱き、統計学の道を志す。研究では
 時系列のニューラルネットワークを用いた野球の競技
 データ分析を行っている。\n\n\n準備するもの\n\n・Python
 3の実行環境をインストール済みのPC\n・出来れば、配
 信映像閲覧用のタブレットやスマートフォン、別モニ
 ターがあると望ましいです。配信映像を閲覧しながら
 ご自身の手を動かして、Pythonの練習をしていただける
 ためです。\n\n※インストールでお困りの方はinfo@to-kei.
 netまでご連絡いただければ、可能な範囲で対応致しま
 す。\n※講座の進行は「jupyter notebook」を使います。同
 じ実行環境で受講したい方よくわからない方は、イン
 ストールをお勧めします。\n\n領収書について\n\n【Strip
 eで事前決済の方】\n・クレジットカード会社が発行す
 る明細を領収書の代わりとしてご利用ください。当社
 より重複しての領収書発行は行なっておりません。\n\n
 【当日払いの方】\n講座後のアンケートにて、「領収
 書が必要」にチェックを入れるようにお願いいたしま
 す。領収書をメールにて送付させていただきます。\n\n
 【Paypalの方】\n決済処理後にPaypalから送付されるメー
 ル内容、またはPaypalの取引履歴から該当項目を確認の
 上、「詳細」をご覧ください。それらが領収書の代わ
 りとなります。また、クレジットカード会社発行の利
 用明細書も領収書としてご利用いただけます。（当社
 より重複しての発行は行えません)\n\nお問い合わせ\n\n
 イベントに関するお問い合わせはinfo@to-kei.netまでご連
 絡ください。\n\n注意事項\n\n・講座内で扱うコンテン
 ツは全て「全人類がわかる統計学」に帰属しています
 。複製はご遠慮ください。\n・個人ブログへの講義コ
 ンテンツの掲載はご遠慮ください。\n\n全人類がわかる
 統計学とは\n\n統計学の学習サイト、全人類がわかる統
 計学を運営、管理している団体です。統計学とその関
 連分野について、出来るだけわかりやすく多くの人々
 に届けるということを目指して活動しています。\n
LOCATION:オンライン・ライブ配信 オンライン・ライブ配
 信
URL:https://techplay.jp/event/714313?utm_medium=referral&utm_source=ics&utm
 _campaign=ics
END:VEVENT
END:VCALENDAR
