BEGIN:VCALENDAR
VERSION:2.0
PRODID:-//https://techplay.jp//JP
CALSCALE:GREGORIAN
METHOD:PUBLISH
X-WR-CALDESC:【AI Academy BootCamp 1day】実践データサイエンス
X-WR-CALNAME:【AI Academy BootCamp 1day】実践データサイエンス
X-WR-TIMEZONE:Asia/Tokyo
BEGIN:VTIMEZONE
TZID:Asia/Tokyo
BEGIN:STANDARD
DTSTART:19700101T000000
TZOFFSETFROM:+0900
TZOFFSETTO:+0900
TZNAME:JST
END:STANDARD
END:VTIMEZONE
BEGIN:VEVENT
UID:714349@techplay.jp
SUMMARY:【AI Academy BootCamp 1day】実践データサイエンス
DTSTART;TZID=Asia/Tokyo:20190113T130000
DTEND;TZID=Asia/Tokyo:20190113T190000
DTSTAMP:20260420T023528Z
CREATED:20190107T071805Z
DESCRIPTION:イベント詳細はこちら\nhttps://techplay.jp/event/71434
 9?utm_medium=referral&utm_source=ics&utm_campaign=ics\n\n\n\n【AI Academ
 y BootCamp 1day】実践データサイエンス\n\n概要\n\n本コー
 スでは、データサインティストに必要な基礎スキルを 
 Pythonを用いながらデータの分析・解析・可視化の手法
 を1日で身につけます。\n Pythonのデータ分析ライブラリ
 ーや機械学習の教師あり学習の基礎と応用を学びます
 。 \n\nコース対象者\n\n・Pythonでデータ分析を学びたい
 マーケター、デザイナー、コンサルタント、エンジニ
 アの方\n・就活や転職で、キャリアアップを目指して
 いる学生の方\n・プログラムでExcelやCSV等などのデータ
 を分析したい方\n・データ分析・解析・データの可視
 化のスキルを身に付けたい方\n\n※ リクルーティング
 、勧誘など、採用目的でのイベント参加はお断りして
 おります。\n※ 飲食のみを目的としたご応募・ご来場
 はご遠慮ください。\n※ 補欠者の方は、ご来場いただ
 いてもご入場いただくことが出来ませんのでご了承く
 ださい。\n※ 欠席される場合は、お手数ですが速やか
 にキャンセル処理をお願い致します。\n\n対象ではない
 方\n\n・機械学習アルゴリズムの理論を学びたい方\n・
 ディープラーニングを学びたい方\n・仕事で人工知能
 ・機械学習案件を今すぐ始めたいと考えており、 企画
 や開発、運用、保守などのプロジェクトの進め方を体
 系的に学びたいと思っている企画職・ビジネスサイド
 の方\n・PythonでWebアプリケーションなどを作りたい方\n
 ・画像処理や自然言語処理を学びたいと思っている方\
 n\n身につくスキル\n\n・Pythonを用いたデータの可視化ス
 キル\n・機械学習の一連の流れの理解\n・データの整備
 や可視化スキル\n・モデルの構築と予測と評価方法\n\n
 当日までの準備\n\n以下2つになります。\n\nPythonの環境
 構築もしくはGoogle アカウント(gmail)の登録\nブラウザで
 Jupyter Notebookを表示できている状態まで事前に準備のほ
 ど願い致します。\nAnaconda Navigator もしくは、ターミナ
 ル/コマンドプロンプトから、jupyter notebook を打ち込む
 ことで表示できます。\n事前にブラウザからhttp://localho
 st:8888/treeが表示されているか確認して頂けますと幸い
 です。\nKaggleの登録\nhttps://www.kaggle.com/\n\n\nタイムスケ
 ジュール\n\n\n\n\n  時間\n  内容\n\n\n\n\n  13:00〜\n  開場・
 受付開始\n\n\n  13:20〜\n  開始（自己紹介）\n\n\n  13:30〜\
 n  Pythonおさらい/Jupyter Notebook\,Colabの基本的な操作\n\n\n 
  13:50\n  NumPy/Matplotlib入門\n\n\n  15:00\n  Seaborn・Pandas入門\n
 \n\n  16:10\n  Pandasによるデータ処理実践\n\n\n  17:10\n  機
 械学習プログラミング(分類)\n\n\n  18:00\n  Kaggle挑戦\n\n\n
   19:00\n  終了\n\n\n\n\n※ 当日予告なく時間配分・内容が
 変更になる可能性がございます。\n\n登壇者\n\n\n\n谷一
 徳\n\nサイバーブレイン株式会社 CEO兼Founder/AIエンジニ
 ア\n\nWebサーバサイドエンジニアからAIエンジニア。\n
 これまで初学者2000名以上にプログラミングや機械学習
 に関して教える。\n実務ではPythonを用いたクローリン
 グシステムや推薦システム、自然言語処理周りを扱う
 。\n\n\n Twitter \nFacebook\n\n\n\n\n\nサポーター\n\n東京理科
 大学出身\n大学卒業後、慶應義塾大学院にて、統計学
 ・プログラミング・機械学習を学ぶ。\n慶應義塾大学
 院ではクラスタリングを用いたデータ分析を行う。\n
 現在サイバーブレイン株式会社にてデータ分析エンジ
 ニアとしてPythonとSQLを用いてデータ分析を行う。\n最
 近はKaggleにてデータ分析も行う。\n\n\n\n\nAI Academy （エ
 ーアイ アカデミー）とは？\n\n個別に最適化されたカ
 リキュラムで、Python・AIを実践的に学べるプログラミ
 ング学習サービス\n現在無料で利用可能。\nhttps://aiacade
 my.jp/\n\nAI Academy Gym\n\n日本初オンラインによるマンツー
 マンレッスンでAIプログラミングが学べるスクール。\n
 「AI(人工知能)技術をかつてないほどに多くの人々にと
 って身近にし、AI時代にAIを活用できる人材を創出する
 」 ことを掲げ、AIエンジニア育成をしている。https://ai
 academy.jp/gym/\n\n人工知能研究コミュニティ (Facebook)\n\n人
 工知能研究コミュニティを見る（無料）\n\nその他・注
 意事項\n\n・イベント開催後、返金は出来ませんので予
 めご了下さい。\n\n・お手数ですが、当日はスムーズに
 お釣りが渡せない場合がありますので、なるべく参加
 費用ぴったりでお支払いいただけますと幸いです。\n\n
 ・当日予定通りに進める予定ですが、早く終わったり
 、もしくは少し遅くなる可能性がございます。 その点
 ご了承いただけたら幸いです。\n\n講義内での資料やテ
 キストなどは全てAI Academyに帰属しています。\n複製や
 ネットでの公開はご遠慮ください。\n\nPythonプログラミ
 ングの文法速習及び環境構築は行いませんので、 Python
 の文法理解、\n及び環境ができている方のみご参加下
 さい。 \nまた当日はKaggleを使う予定ですので、あらか
 じめ登録お願い致します。\nhttps://www.kaggle.com/\n\nハッ
 シュタグ\n\n#techplayjp\n#Python\n#python\n#データ分析\n#デー
 タサイエンス\n#機械学習\n#Kaggle\n#sql\n
LOCATION:〒169-0075 東京都新宿区高田馬場４丁目１８−２ 
 冨久正ビル 204 新宿区高田馬場4-18-2 ふくせい（富久正
 ）ビル 204号
URL:https://techplay.jp/event/714349?utm_medium=referral&utm_source=ics&utm
 _campaign=ics
END:VEVENT
END:VCALENDAR
