BEGIN:VCALENDAR
VERSION:2.0
PRODID:-//https://techplay.jp//JP
CALSCALE:GREGORIAN
METHOD:PUBLISH
X-WR-CALDESC:Super Lumion Seminar #01
X-WR-CALNAME:Super Lumion Seminar #01
X-WR-TIMEZONE:Asia/Tokyo
BEGIN:VTIMEZONE
TZID:Asia/Tokyo
BEGIN:STANDARD
DTSTART:19700101T000000
TZOFFSETFROM:+0900
TZOFFSETTO:+0900
TZNAME:JST
END:STANDARD
END:VTIMEZONE
BEGIN:VEVENT
UID:714353@techplay.jp
SUMMARY:Super Lumion Seminar #01
DTSTART;TZID=Asia/Tokyo:20190122T190000
DTEND;TZID=Asia/Tokyo:20190122T203000
DTSTAMP:20260423T033245Z
CREATED:20190107T120651Z
DESCRIPTION:イベント詳細はこちら\nhttps://techplay.jp/event/71435
 3?utm_medium=referral&utm_source=ics&utm_campaign=ics\n\nSuper Lumion Sem
 inar #01\n\n概要\n\n新しいLUMIONの活用法や知識、裏技的な
 使い方などを特別な講師をお迎えしてレクチャーして
 いただくSuper Lumion Seminarシリーズの第一弾！\nここでし
 か聞くことのできない情報があり、さらに講師と直接
 やり取りをすることもできるので貴重な情報交換が期
 待できます。\n\nまた、この講座の内容は収録され後日
 LUMION TVに有料コンテンツとして掲載されます。\n\n【無
 料イベントとの違い】 LUMION上級者向けへの初めての講
 習会\n【参加者のメリット】 直接質疑応答が出来る(1/1
 6まで受付中)\n\n\nタイムスケジュール\n\n\n\n\n  時間\n  
 内容\n\n\n\n\n  18:30〜\n  受付開始\n\n\n  19:00〜20:00\n  Super 
 Lumion Seminar\n\n\n  20:00〜20:30\n  交流会\n\n\n  20:30\n  退出\n
 \n\n\n\n※ 当日予告なく時間配分・内容が変更になる可
 能性がございます。\n\n講師紹介\n\n\n\n池田 裕紀\n\n株
 式会社日建ハウジングシステム\n\n2005年、東京造形大
 学造形学部デザイン学科デザイン専攻Ⅱ類卒業後、日
 建ハウジングシステムに入社。専門はプレゼンテーシ
 ョン業務。入社以来、建築ビジュアライゼーションを
 担当、「Architecture in Perspective」International Juried Exhibition
  of Architectural Illustration　26(2011)\,27(2012)\,28(2013)\,30(2015)
 入選。現在は、建築パース（モデリング、アニメーシ
 ョン、シミュレーション）の他、ゲームエンジンを利
 用したリアルタイムシミュレーションやBIMとの連携に
 取り組んでいる。JARA(日本アーキテクチュラル・レン
 ダラーズ協会)会員。\n《Lumionコンペ》\n第１回～第4回
 （2015年度・2016年度・2017年度・2018年度）全参加　最高
 成績は、2位２回受賞。\n\n\n\n\n\n参加対象\n\n映像クリ
 エイター\n設計士・建築関連業\nデザイナー\n\n※ リク
 ルーティング、勧誘など、採用目的でのイベント参加
 はお断りしております。\n※ 飲食のみを目的としたご
 応募・ご来場はご遠慮ください。\n※ 補欠者の方は、
 ご来場いただいてもご入場いただくことが出来ません
 のでご了承ください。\n※ 欠席される場合は、お手数
 ですが速やかにキャンセル処理をお願い致します。\n\n
 講師への質問 / 要望\n\n参加を希望される方は、事前ア
 ンケートフォームに当日聞きたいことや要望などをご
 入力ください。\n\n持ち物\n\n・お持ちのLUMION入りのPC（
 持ち込めるのであれば）\n・名刺2枚\n※ 受付時にお渡
 し下さい。\n\n参加費\n\n一般 7\,560円\n学生 3000円（当日
 現金払い）\n上部の参加費には当日現金払いと記述さ
 れていますが、学生以外の方はイベント後に振り込み
 という形式を取らせていただきます。\n\nハッシュタグ
 \n\n#techplayjp\n
LOCATION:ビジョンセンター有楽町  東京都中央区銀座1-6-2 
 銀座Aビル3F 
URL:https://techplay.jp/event/714353?utm_medium=referral&utm_source=ics&utm
 _campaign=ics
END:VEVENT
END:VCALENDAR
