BEGIN:VCALENDAR
VERSION:2.0
PRODID:-//https://techplay.jp//JP
CALSCALE:GREGORIAN
METHOD:PUBLISH
X-WR-CALDESC:2時間でAzure体験ハンズオン
X-WR-CALNAME:2時間でAzure体験ハンズオン
X-WR-TIMEZONE:Asia/Tokyo
BEGIN:VTIMEZONE
TZID:Asia/Tokyo
BEGIN:STANDARD
DTSTART:19700101T000000
TZOFFSETFROM:+0900
TZOFFSETTO:+0900
TZNAME:JST
END:STANDARD
END:VTIMEZONE
BEGIN:VEVENT
UID:714411@techplay.jp
SUMMARY:2時間でAzure体験ハンズオン
DTSTART;TZID=Asia/Tokyo:20190114T100000
DTEND;TZID=Asia/Tokyo:20190114T120000
DTSTAMP:20260424T155545Z
CREATED:20190107T210748Z
DESCRIPTION:イベント詳細はこちら\nhttps://techplay.jp/event/71441
 1?utm_medium=referral&utm_source=ics&utm_campaign=ics\n\nイベント内
 容\nMicrosoftAzureにて、以下のハンズオンを予定していま
 す。\n初心者向けの内容で、Azureの簡単な使い方を体験
 いただけます。  \n\nAzure Functionsを使った、簡単なアプ
 リケーションの作成\nAzure SQL Serverの使い方\n\n参加費\n2
 000円ご用意ください（現金のみの取り扱いとなります
 ）  \n当日ご用意いただくもの\n\n無線LAN対応のノート
 パソコン（Windows・Mac両方OK）\n　※会場にもWifiはあり
 ますが、人数や速度に限りがあって全員が使えるわけ
 ではないため、   \n　　用意可能な方はテザリングか
 モバイルルータを用意していただけるとスムーズに受
 講できると思います。\nMicrosoftAzureの登録 登録方法\nパ
 ソコン版LINEのインストール  \n\n講師紹介\n鯨井雄太\n28
 歳  インフラエンジニア\n新卒でシステム会社に入社。
 1回転職するが、肌に合わず26歳の時にフリーランスへ
 転向。2018年8月に法人化。\n現在は、Openstack技術を用い
 たクラウド基盤構築、Azureを用いたシステムの設計構
 築業務に携わっている。\nPythonやRubyを学習中で、開発
 案件にも携わりたいと思っている。\nこのイベントを
 通じて様々な方と交流させていただければと思ってい
 ます！\nTwitter\n安田浩之\n31歳 インフラエンジニア\n以
 前はjavaでの開発を担当。\n3年前よりインフラに転向し
 、LinuxOS、仮想化基盤、バックアップ周りが得意。\n現
 在はawsを勉強中です。\nTwitter\nAzureとは？\nMicrosoftが提
 供するクラウドサービス。\nAzureの特徴は、オンプレミ
 スとクラウドの親和性です。\n現在の企業を見てみる
 と、「ある部署ではAzure、他の部署でAWS（Amazon Web Servic
 e）、さらに別の部署はオンプレミスサーバを使う」と
 いった運用形態が珍しく、Microsoftはクラウドビジネス
 においてオンプレミスを否定せず、今後も全てがクラ
 ウド化することはないと推察しており、こうした混在
 環境下でも使いやすいのがAzureの特徴です。  \n開催概
 要\n開催場所\n東京都千代田区神田鍛冶町3-8-1 381ビル2
 階\n時間\n2月10日(日) 10:00-12:00  \nイベント終了後、懇親
 会を予定しています！\n場所は未定ですが、参加者で
 ワリカンになると思います。\n
LOCATION:神田 東京都千代田区神田鍛冶町3-8-1 381ビル2階
URL:https://techplay.jp/event/714411?utm_medium=referral&utm_source=ics&utm
 _campaign=ics
END:VEVENT
END:VCALENDAR
