BEGIN:VCALENDAR
VERSION:2.0
PRODID:-//https://techplay.jp//JP
CALSCALE:GREGORIAN
METHOD:PUBLISH
X-WR-CALDESC:Sota講習会 初級～挨拶編～
X-WR-CALNAME:Sota講習会 初級～挨拶編～
X-WR-TIMEZONE:Asia/Tokyo
BEGIN:VTIMEZONE
TZID:Asia/Tokyo
BEGIN:STANDARD
DTSTART:19700101T000000
TZOFFSETFROM:+0900
TZOFFSETTO:+0900
TZNAME:JST
END:STANDARD
END:VTIMEZONE
BEGIN:VEVENT
UID:714461@techplay.jp
SUMMARY:Sota講習会 初級～挨拶編～
DTSTART;TZID=Asia/Tokyo:20190120T103000
DTEND;TZID=Asia/Tokyo:20190120T113000
DTSTAMP:20260421T102448Z
CREATED:20190107T211013Z
DESCRIPTION:イベント詳細はこちら\nhttps://techplay.jp/event/71446
 1?utm_medium=referral&utm_source=ics&utm_campaign=ics\n\n内容\nコミ
 ュニケーションロボット「Sota」のプログラミング講習
  初級コースの挨拶編です。\n「こんにちは」と話しか
 けると「こんにちは」と返事するプログラムを作り、
 その後は自分で決めたワードに対してSotaに言わせたい
 ワードを返事させるプログラムを作ります。\nコミュ
 ニケーションロボットにとって必須である、音声認識
 、音声合成の基本を学ぶことができます。\nこちらを
 受けて頂くと、他の講義をスムーズに受講する事がで
 きます。\nスケジュール\n\nハンズオン形式で、ご説明
 しながらアプリの作成（30分）\n実際にアプリの動作確
 認（10分）\n質問対応、追加インストラクション（10分
 ）\n\n必要なスキル\nPCの基本操作ができる方が対象で
 す。\nWindowsPCの基本操作、文字のタイピングが可能な
 方が対象です。\n必要なもの\nPC（Windows）はこちらで用
 意しておりますので、ご持参頂かなくて結構です。\n
 手ぶらでお越し頂ければ大丈夫です。\nUSBメモリ等を
 ご持参頂ければ、ハンズオンで作成したプロジェクト
 ファイルをお持ち帰り頂く事が可能です。\nキャンセ
 ルにつきまして\n1コマ最大4名の少数で行っており、キ
 ャンセル待ちの方がいらっしゃる事もございます。\n
 キャンセルされ場合は、お手数ですが必ずキャンセル
 処理をお願いします。\nご応募後のキャンセルにつき
 まして\nご応募後のキャンセルにつきましては、必ず
 事前にご連絡ください。\nご連絡なくご来店されない
 お客様につきましては、次回以降の講習会ご応募を\n
 お断りさせていただく場合がございます。\n\nロボット
 センター秋葉原店でもSotaを販売しておりますので、ご
 購入をご検討の方はぜひご利用ください！\n【関連ワ
 ード:プログラミング ロボット プログラム コミュニケ
 ーション 簡単 初心者 講習会 体験 教育 秋葉原 東京 
 受付】
LOCATION:ヴイストン ロボットセンター秋葉原店 東京都千
 代田区外神田1-9-9 内田ビル4F
URL:https://techplay.jp/event/714461?utm_medium=referral&utm_source=ics&utm
 _campaign=ics
END:VEVENT
END:VCALENDAR
