BEGIN:VCALENDAR
VERSION:2.0
PRODID:-//https://techplay.jp//JP
CALSCALE:GREGORIAN
METHOD:PUBLISH
X-WR-CALDESC:RPA もくもく会 03 〜ツール限定！オンライン参
 加あり〜
X-WR-CALNAME:RPA もくもく会 03 〜ツール限定！オンライン参
 加あり〜
X-WR-TIMEZONE:Asia/Tokyo
BEGIN:VTIMEZONE
TZID:Asia/Tokyo
BEGIN:STANDARD
DTSTART:19700101T000000
TZOFFSETFROM:+0900
TZOFFSETTO:+0900
TZNAME:JST
END:STANDARD
END:VTIMEZONE
BEGIN:VEVENT
UID:714605@techplay.jp
SUMMARY:RPA もくもく会 03 〜ツール限定！オンライン参加
 あり〜
DTSTART;TZID=Asia/Tokyo:20190117T140000
DTEND;TZID=Asia/Tokyo:20190117T180000
DTSTAMP:20260421T085451Z
CREATED:20190108T140822Z
DESCRIPTION:イベント詳細はこちら\nhttps://techplay.jp/event/71460
 5?utm_medium=referral&utm_source=ics&utm_campaign=ics\n\nもくもく開
 発しましょう！\nすること・対象ユーザー\nRPA に関わ
 る人たちでもくもく作業をする会です。\n今回は試験
 的にツールを限定してみての開催です。  \n・BasicRobo\n
 ・BizRobo!\n・SynchRoid  \nなどの関連ツールを利用されて
 いる方が対象となります。  \nオンラインからの参加も
 可能です\n更に今回試験的にオンラインからも参加で
 きるようにしてみます。\nWEB会議を利用し、遠方の方
 などと会場側で交流が出来ればと思います。\n会場側
 の入退場自由と同じく、部分的な参加など自由なタイ
 ミングでの参加で問題ありません。 \n\n※ 初の試みの
 ため不慣れな部分も多いですがご了承ください\n　  \n
 内容詳細\n勉強やお仕事など、もくもくする内容は自
 由です。\n\nせっかくなので、開発で悩んでいる部分や
 考えていることなど\nお互いに相談しあっていければ
 とおもいます。\n参加時にアンケートを設置しますの
 で、\n全体で話したいことなどがあればご協力くださ
 い。\nもくもくする事がない方用にお題ロボットなど
 も検討中です。\n参加費\n無料です。\n日時\n2018/01/17 （
 木曜）\n14時〜18時\n途中入退場自由です。\nもくもく会
 中はアルコールNGです。  \n→\n新年会はこちら\nhttps://m
 kmk-rpa.connpass.com/event/114221/\n会場\n■飯田橋側\n株式会社
 サポータス　セミナールーム \n東京都千代田区飯田橋3
 -11-13 FORECAST飯田橋9F\nhttps://supportas.co.jp/\n飯田橋から徒
 歩5分程度です。\n■オンラインでの参加の場合\n開催
 前にWeb会議についてcompassからのメッセージでご案内さ
 せていただきます。\n注意点01\nPCやもくもくするため
 のRPAツールなどは各自持参でお願いします。\n会場側
 はWi-Fiと電源はあります。\n注意点02\n本イベントは事
 情により中止になることもあります。\nその際は事前
 に連絡させていただきます。
LOCATION:株式会社サポータス　セミナールーム 東京都千
 代田区飯田橋3-11-13
URL:https://techplay.jp/event/714605?utm_medium=referral&utm_source=ics&utm
 _campaign=ics
END:VEVENT
END:VCALENDAR
