BEGIN:VCALENDAR
VERSION:2.0
PRODID:-//https://techplay.jp//JP
CALSCALE:GREGORIAN
METHOD:PUBLISH
X-WR-CALDESC:Edge Deep Learning Summit
X-WR-CALNAME:Edge Deep Learning Summit
X-WR-TIMEZONE:Asia/Tokyo
BEGIN:VTIMEZONE
TZID:Asia/Tokyo
BEGIN:STANDARD
DTSTART:19700101T000000
TZOFFSETFROM:+0900
TZOFFSETTO:+0900
TZNAME:JST
END:STANDARD
END:VTIMEZONE
BEGIN:VEVENT
UID:714642@techplay.jp
SUMMARY:Edge Deep Learning Summit
DTSTART;TZID=Asia/Tokyo:20190227T130000
DTEND;TZID=Asia/Tokyo:20190227T193000
DTSTAMP:20260422T045244Z
CREATED:20190108T141115Z
DESCRIPTION:イベント詳細はこちら\nhttps://techplay.jp/event/71464
 2?utm_medium=referral&utm_source=ics&utm_campaign=ics\n\n実運用にお
 ける「Deep Learning推論環境」の最前線\n～ 新たな選択肢
 の登場で、これからのDeep Learning活用を加速させる ～\n
 昨年から、ディープラーニングの活用が少しずつ波及
 し、導入企業の直面している課題が明確化してきまし
 た。その１つが「消費電力」「コスト」「インターネ
 ット環境」などの資源や環境による制約です。\nディ
 ープラーニング活用の「今」をお伝えするとともに、
 「組込みディープラーニング」を掲げるLeapMindだから
 こそできる、新たな選択肢を提示し、推論環境の多様
 化によるディープラーニングの活用の加速した未来を
 考えるきっかけを作ります。\nまた、自社でディープ
 ラーニングを活用をリードしている最先端プレイヤー
 らが一堂に会して企業の課題を本質的に解決する糸口
 を提示し、実際の事例などをもとに、ディープラーニ
 ングビジネスの最新情報を発信することで、様々な業
 界の技術発展に貢献することを目指し「EDLS 2019」を開
 催します。\n▼「EDLS2019」の詳しい内容はこちら \n（ ht
 tps://edls.leapmind.io/ ）\n■イベント概要\n\n\n\n項目\n内容\
 n\n\n\n\n日時\n2019年2月27日（水） 13:00~19:30 (受付開始 12:3
 0~）\n\n\n場所\n渋谷ストリームホール\n\n\n参加費\n無料\
 n\n\n定員\n250名（※抽選制となります。参加者の発表は
 1週間前に行います。）\n\n\nイベント詳細\nhttps://edls.lea
 pmind.io/\n\n\n\n■注意事項\n\nイベント開催時間、各プロ
 グラムの開始終了時間は状況により変更となる場合が
 ございます。\nイベントの模様を撮影し、 実施報告と
 今後の広報活動のために使用します。 \n本イベントに
 おける個人情報の取り扱いは、お申し込み時記載の内
 容の通りとなります。\n本イベントは、抽選制となり
 ます。参加者の発表はイベントの1週間前に行います。
 \n\n■ご来場に関するお問い合わせ先\nEDLS2019 イベント
 事務局 \nevent@lepmind.io
LOCATION:渋谷ストリームホール 東京都渋谷区渋谷3-21-3 渋
 谷ストリーム ホール
URL:https://techplay.jp/event/714642?utm_medium=referral&utm_source=ics&utm
 _campaign=ics
END:VEVENT
END:VCALENDAR
