BEGIN:VCALENDAR
VERSION:2.0
PRODID:-//https://techplay.jp//JP
CALSCALE:GREGORIAN
METHOD:PUBLISH
X-WR-CALDESC:今回は特別編！Cloud Nativeなアプリ開発から学
 んだことを全部シェア - cndjp#9
X-WR-CALNAME:今回は特別編！Cloud Nativeなアプリ開発から学
 んだことを全部シェア - cndjp#9
X-WR-TIMEZONE:Asia/Tokyo
BEGIN:VTIMEZONE
TZID:Asia/Tokyo
BEGIN:STANDARD
DTSTART:19700101T000000
TZOFFSETFROM:+0900
TZOFFSETTO:+0900
TZNAME:JST
END:STANDARD
END:VTIMEZONE
BEGIN:VEVENT
UID:714680@techplay.jp
SUMMARY:今回は特別編！Cloud Nativeなアプリ開発から学んだ
 ことを全部シェア - cndjp#9
DTSTART;TZID=Asia/Tokyo:20190130T190000
DTEND;TZID=Asia/Tokyo:20190130T220000
DTSTAMP:20260421T153849Z
CREATED:20190109T060324Z
DESCRIPTION:イベント詳細はこちら\nhttps://techplay.jp/event/71468
 0?utm_medium=referral&utm_source=ics&utm_campaign=ics\n\n勉強会の概
 要\n「Qicoo」は、Cloud Native Developers JP運営メンバーがClou
 d Nativeなテクノロジーをふんだんに投入して開発した
 リアルタイムQA投稿アプリです。今回は特別編として
 、Qicoo開発プロジェクトから学んだことを詳しくご紹
 介する回にしたいと思います。\n小規模とはいえ、一
 般公開して実戦投入可能なシステムをつくるために、
 色々な技術課題に取り組んでいます。そこから得た知
 見を詳しく解説いたします！\n※ Qicooは、Japan Container D
 ays v18.12でお披露目したものの、時間の都合でほんの触
 りしかご紹介できませんでした。こちらのセッション
 にご参加いただいた方にも新規の情報がたくさんあり
 ますので、ぜひご参加ください。\nセッション概要\nタ
 イムテーブル\n\n\n\n時間\nメニュー\nスピーカー\n\n\n\n\n
 18:30-19:00\n開場\n-\n\n\n19:00-19:05\nごあいさつ\n\n\n\n19:05-19:
 25\n「Qicoo開発プロジェクトの概要。あとGitOpsやCIの話
 」\n@hhiroshell\n\n\n19:25-19:55\n「Spinnakerでハマった7個のポ
 イント」\n@sugimount\n\n\n19:55-20:05\n休憩\n-\n\n\n20:05-20:35\n
 「サーバサイドエンジニアがフロントエンドを始めた
 話」\n@translucens\n\n\n20:35-21:15\n「勉強会で使うアプリに
 必要なインフラを求めて」\n@nnao45\n\n\n21:15-\n懇親タイ
 ム\n-\n\n\n21:20-21:30\nLT 1:「（俺が）はじめてのResilience4j
 」\n@suke_masa\n\n\n21:30-21:40\nLT 2:「今後つかえるかもしれ
 ない？Database on Kubernetesの紹介」\n@tzkb\n\n\n21:40-21:45\n「K
 ubeConのお土産プレゼントコーナー」\n@yosshi_ \, @capsmalt\n
 \n\n22:00\n撤収\n-\n\n\n\n※ LTは懇親タイム中にやります。
 \n「Qicoo開発プロジェクトの概要。あとGitOpsやCIの話」b
 y @hhiroshell\nQicooはcndjp運営メンバーの完全なボランティ
 アで開発を行いました。最初のセッションでは、メン
 バー間のコミュニケーション、開発費用の問題など、
 プロジェクト管理視点でのつらみや工夫点を紹介しま
 す。\nまた、Qicooで取り入れたCI/CDの手法である"GitOps"
 の簡単な紹介と、CI部分の実装についても話します。\n
 \n\n「Spinnakerでハマった7個のポイント」by @sugimount\nQicoo
 では、Spinnakerを使用してカナリアリリースを実装しま
 した。Spinnakerは、情報が少なく、様々なハマリポイン
 トに出会って、解決してきました。このセッションで
 はSpinnakerを使用したときのハマリポイントを紹介しま
 す。\n「サーバサイドエンジニアがフロントエンドを
 始めた話」by @translucens\n\nフロントエンドの実装\n採用
 したフレームワークと、素早くフロントエンドプロジ
 ェクトを立ち上げるために使用したOSSプロダクトを紹
 介します。\n\n\nホスティング\, GitHubからのCICD\nフロン
 トエンドの特性上、ブラウザから開発中の画面の表示
 を確認したいことが多々あります。CircleCIとGitHub上の
 ブランチを連動させて、複数の環境へ自動でデプロイ
 できるようにする方法を説明します。\n\n\n細かなTipsほ
 か\nバックエンドへの負荷軽減のための工夫点やはま
 りポイントなどを紹介します。\n\n\n\n\n\n「勉強会で使
 うアプリに必要なインフラを求めて」by @nnao45\n\nコミ
 ュニティでクローズドなGo言語勉強会  \n\nQicooを作るに
 あたり、オープンソースや本番環境をはじめGo言語に
 よるアプリケーション作成経験のある@nnao45がメンバー
 全体に対してGoの勉強会を３ヶ月間毎週行った事につ
 いてのエモ・・・いかもしれないお話。  \n\nAWSとオン
 デマンドなインフラデプロイ  \n\nQicooという「立ち上
 がる必要があるのはわずか数時間」「夜になればイン
 スタンス系は全部必ず落とす」「だけどもKubernetesを使
 った中規模なインフラ」という超特殊なインフラ設計
 に立ち向かった話と、それにAWSを使った話。時間があ
 れば負荷試験の話もしたい。  \n\nSREとChatOps  \n\n今回こ
 っそりと個人的にSRE的な動きを試してみたいなと感じ
 て、ChatOpsを導入しました。\nPython3を使用したChatOpsの
 開発とその効果についてのお話。  \nLT募集について （
 募集終了）\n10分のLT枠（抽選）を設けています。LT枠
 で参加希望の方は connpass 申し込み時のアンケートにて
 、発表タイトルの記載をお願いいたします。\n今回は
 特定の技術領域に絞ったプログラムではありませんの
 で、LT枠もフリーテーマで募集します。\n参加枠につい
 て\n\n一般枠:\n通常の参加枠です。\n\n\nLT枠: \nLT登壇を
 希望される方はこの枠でお申し込みください。LT登壇
 の抽選に外れた方は、一般枠として参加可能です。\n\n
 \n\n持ち物\n\n名刺1枚\n\n諸注意\n会場へのアクセスのご
 案内はこちら。\n説明は 13 階になっていますが、直接 
 17 階のセミナールーム前の受付までお越し下さい。
LOCATION:株式会社サイバーエージェント 17F セミナールー
 ム 東京都渋谷区道玄坂1丁目12番1号
URL:https://techplay.jp/event/714680?utm_medium=referral&utm_source=ics&utm
 _campaign=ics
END:VEVENT
END:VCALENDAR
