BEGIN:VCALENDAR
VERSION:2.0
PRODID:-//https://techplay.jp//JP
CALSCALE:GREGORIAN
METHOD:PUBLISH
X-WR-CALDESC:初心者からでもOK！スキルチェンジを目指す為
 のハンズオン －AWS編－
X-WR-CALNAME:初心者からでもOK！スキルチェンジを目指す為
 のハンズオン －AWS編－
X-WR-TIMEZONE:Asia/Tokyo
BEGIN:VTIMEZONE
TZID:Asia/Tokyo
BEGIN:STANDARD
DTSTART:19700101T000000
TZOFFSETFROM:+0900
TZOFFSETTO:+0900
TZNAME:JST
END:STANDARD
END:VTIMEZONE
BEGIN:VEVENT
UID:714794@techplay.jp
SUMMARY:初心者からでもOK！スキルチェンジを目指す為の
 ハンズオン －AWS編－
DTSTART;TZID=Asia/Tokyo:20190116T190000
DTEND;TZID=Asia/Tokyo:20190116T210000
DTSTAMP:20260425T182213Z
CREATED:20190109T210859Z
DESCRIPTION:イベント詳細はこちら\nhttps://techplay.jp/event/71479
 4?utm_medium=referral&utm_source=ics&utm_campaign=ics\n\n【概要】\n
 【開催日時】\n2019年 1月16日（水）　19:00〜(受付18:30～)
 \n【開催場所】\n東京都渋谷区桜丘町31-14　岡三桜丘ビ
 ル1F\n【受講料】\n無料\n【講座内容】\nhands-on形式でサ
 ーバを2台構築し、負荷分散させるところまで。 (時間
 が余れば、コンソール画面からサブネット間の通信確
 認)\n【講座対象者】\n・サブネットマスク等の基本的
 なネットワーク知識を有している方\n・AWSを未習得の
 方\n【事前準備】\n1)AWSアカウントのログイン、AWSコン
 ソール画面が表示できるところまで 以下の手順でAWSを
 利用できます。\n《手順》\n①AWSサイトへアクセス https
 ://aws.amazon.com/jp/register-flow/\n②メールアドレス入力\n③
 ログイン認証情報入力\n④連絡先情報入力\n⑤クレジッ
 トカード番号入力\n⑥電話による本人確認\n⑦サポート
 プランの選択\n⑧メール送信\n⑨ログイン確認(ログイ
 ン後、東京リージョンのAWSコンソール画面が表示され
 各種サービスが利用できる状態)\n2)事前に必要な環境\n
 ①WindowsPC/Macともに必要なもの・Chrome\n②WindowsPCの場合
 ・TeraTerm\n【講師プロフィール】\n●株式会社クラウデ
 ィア　メイン講師：松村　\n【経歴】\n立命館大学卒業
 　\nJava・PHPを中心として業務系システム開発以外にも
 大手企業のプログラミング講師を経験。\nまた、AWSを
 始めとするインフラや上流工程など幅広く担当。\nプ
 ライベートでは、書籍を熟読しコーチングを研究中。\
 n＜スキルと資格＞　\nGo言語、Python、Java、PHP、AWS、Linu
 x、MySQL、Postgres、Oracle\n・AWS認定ソリューションアーキ
 テクト\n・LPIC認定Linux技術者\n・ORACLE MASTER OracleDatabase11
 g Gold\n・CCNA\n・JAVA SE7/8 Silver\n●株式会社エイト　サブ
 講師：水城\n【経歴】\n東京大学大学院卒　農学情報系
 を修了。\nJavaを中心とした業務系システム開発からWeb
 開発へ。\n独学で機械学習を学び、競馬予想AIを研究中
 　\n＜スキルと資格＞\nPython、Java、PHP、Linux、MySQL、Orac
 leDB\n【ご注意点】\n事前検証は全てMacで実施している
 ため、 WindowsPCの動作環境は担保できないところがあり
 ます。\n勉強会会場は無線LAN配備であることを想定。\n
 【参加者持ち物】\n・名刺　2枚（お持ちの方のみ 1枚
 は名札用）\n・ノートPC（上記、必要環境を設定済みの
 もの）\n【参加者の方へ】\n・イベント後、アンケート
 を実施致します。ご協力をお願い致します。\n・イベ
 ント中、イベント風景の写真を数枚撮影させて頂く場
 合がございます（こちらは社内ブログ等に使用させて
 頂きます）\n【お問い合わせ】\n株式会社エイト\nhttps:/
 /www.8grp.co.jp/\n■電話：03-6433-5025\n■メール：saiyou@8grp.co
 .jp\n■担当：宍戸
LOCATION:渋谷区桜丘町 東京都渋谷区桜丘町31-14(岡三桜丘
 ビル1F)
URL:https://techplay.jp/event/714794?utm_medium=referral&utm_source=ics&utm
 _campaign=ics
END:VEVENT
END:VCALENDAR
