BEGIN:VCALENDAR
VERSION:2.0
PRODID:-//https://techplay.jp//JP
CALSCALE:GREGORIAN
METHOD:PUBLISH
X-WR-CALDESC:AI PayHack Tokyo・AIｘブロックチェーン技術で決
 済技術のイノベーションを生み出そう！
X-WR-CALNAME:AI PayHack Tokyo・AIｘブロックチェーン技術で決
 済技術のイノベーションを生み出そう！
X-WR-TIMEZONE:Asia/Tokyo
BEGIN:VTIMEZONE
TZID:Asia/Tokyo
BEGIN:STANDARD
DTSTART:19700101T000000
TZOFFSETFROM:+0900
TZOFFSETTO:+0900
TZNAME:JST
END:STANDARD
END:VTIMEZONE
BEGIN:VEVENT
UID:714865@techplay.jp
SUMMARY:AI PayHack Tokyo・AIｘブロックチェーン技術で決済技
 術のイノベーションを生み出そう！
DTSTART;TZID=Asia/Tokyo:20190125T190000
DTEND;TZID=Asia/Tokyo:20190127T210000
DTSTAMP:20260420T004444Z
CREATED:20190110T062259Z
DESCRIPTION:イベント詳細はこちら\nhttps://techplay.jp/event/71486
 5?utm_medium=referral&utm_source=ics&utm_campaign=ics\n\n\n\nbitgrit初
 のハッカソンを開催！【AI PayHack Tokyo】AIｘブロックチ
 ェーン技術で決済技術のイノベーションを生み出そう
 ！\n\n概要\n\nbitgrit初のハッカソンは、「仮想通貨系の
 決済・取引における人工知能とデータサイエンスのユ
 ースケース」を探り、社会全体に貢献できるサービス
 を共同開発する場として開催いたします。\n\n以下の構
 築ゴールに向けて、皆さんで開発しましょう！\n\n【構
 築ゴール】\n仮想通貨の決済技術に「AI・機械学習・デ
 ータサイエンス」を取り入れ、IT系の大手企業の効率
 化・収益化に貢献するプロダクトを開発すること。\n\n
 タイムスケジュール\n\n\n\n\n  時間\n  内容\n\n\n\n\n  1月25
 日 /19:00~19:30\n  開場・受付\n\n\n  19:30~20:30\n  主催者（bit
 grit)・協力企業の挨拶\n\n\n  20:30~20:45\n  質疑応答\n\n\n  2
 0:45~22:00\n  食事・親睦会\n\n\n  22:00\n  開発作業開始\n\n\n
   1月26日 終日\n  作業タイム（朝食・昼食・夕食有り）
 \n\n\n  1月27日 / 9:00~10:00\n  朝食\n\n\n  13:00~14:00\n  昼食\n\n
 \n  17:00\n  開発作業終了\n\n\n  17:00~19:00\n  成果発表\n\n\n 
  19:30~21:00\n  交流会\n\n\n  21:00\n  閉会\n\n\n\n\n※ 当日予
 告なく時間配分・内容が変更になる可能性がございま
 す。\n\n評価ガイドライン\n\n◇審査員◇\n主催者（(株
 ）bitgrit）、協賛企業メンバー\n\n◇評価基準◇\n\n技術
 的な運用の実現可能性\nUI/UXは品質、使いやすさ\nユー
 ザーニーズ適合性、収益性\n\n\n賞品\n\n最優秀チームに
 は、５００米ドル（または５００米ドルに相当する日
 本円の金額）を贈呈いたします。\n\nまた、ハッカソン
 の参加者はbitgritのGlobal Ambassador Programにご参加いただ
 けます。詳しくは、主催者までお問い合わせください
 。\n\n参加対象\n\n\nエンジニア\nデザイナー\nマーケタ
 ー\n\n\n※ 飲食のみを目的としたご応募・ご来場はご遠
 慮ください。\n※ 補欠者の方は、ご来場いただいても
 ご入場いただくことが出来ない場合がございますので
 ご了承ください。\n※ 欠席される場合は、お手数です
 が速やかにキャンセル処理をお願い致します。\n\n運営
 \n\nイベント開催中は、会場でのお出入りは自由となっ
 ております。会場におけるご宿泊も可能ですので、会
 場でお休みになる方は、寝袋をご持参ください。なお
 、会場の空間が限られているため、ご宿泊は１０名様
 まで可能とさせていただいております。ご宿泊スペー
 スの確保は先着順となりますので、会場内でお休みに
 なる方は、お早めにお申し付けください。\n会場では
 軽食と飲み物の用意がございます。食事・飲み物のお
 持込みも可能です。\n\n参加にあたる同意事項\n\n本イ
 ベントに参加申込みされた方は、下記「AI PayHack Tokyo参
 加同意書」に同意いただいたものとみなします。\n本
 同意書は当日、ご署名の上ご提出いただきますので、
 必ずご一読ください。\n\nAI PayHack Tokyo参加同意書\n\n持
 ち物\n\n名刺1枚\n※ 受付時にお渡し下さい。\n\n参加費\
 n\n無料\n\nハッシュタグ\n\n#hackathontokyo\n#bitgrit\n
LOCATION:bitgrit本社 渋谷区 道玄坂1丁目18-5 VORT渋谷道玄坂 8
 F
URL:https://techplay.jp/event/714865?utm_medium=referral&utm_source=ics&utm
 _campaign=ics
END:VEVENT
END:VCALENDAR
