BEGIN:VCALENDAR
VERSION:2.0
PRODID:-//https://techplay.jp//JP
CALSCALE:GREGORIAN
METHOD:PUBLISH
X-WR-CALDESC:UX Bridge vol.8
X-WR-CALNAME:UX Bridge vol.8
X-WR-TIMEZONE:Asia/Tokyo
BEGIN:VTIMEZONE
TZID:Asia/Tokyo
BEGIN:STANDARD
DTSTART:19700101T000000
TZOFFSETFROM:+0900
TZOFFSETTO:+0900
TZNAME:JST
END:STANDARD
END:VTIMEZONE
BEGIN:VEVENT
UID:715741@techplay.jp
SUMMARY:UX Bridge vol.8
DTSTART;TZID=Asia/Tokyo:20190131T190000
DTEND;TZID=Asia/Tokyo:20190131T220000
DTSTAMP:20260422T001759Z
CREATED:20190116T140734Z
DESCRIPTION:イベント詳細はこちら\nhttps://techplay.jp/event/71574
 1?utm_medium=referral&utm_source=ics&utm_campaign=ics\n\n概要\nUX Bridg
 eはUX Bridgeグループ主催の、BtoB/BtoBtoCサービスにおける
 UXをテーマにした勉強会です。\n商品やサービスの使い
 やすさはもちろん、ユーザと相互作用するあらゆる面
 において、きちんと気付かれ、学ばれ、利用される一
 連の心地よい体験を作り出すためのUXデザインは、ビ
 ジネス成果への影響やクライアントとの継続的なコミ
 ュニケーションの観点から、BtoB/BtoBtoCビジネスにおい
 てもより、とても重要になってきています。\n今回は
 、各社でのUXデザインにおける取り組みや考えた方に
 ついて、デザイナーやフロントエンドエンジニア立場
 からそれぞれお話させて頂きます。\nUXデザインがビジ
 ネスにどのような価値をもたらしているのか？見つめ
 直す機会になればと思います。\n※内容は変更になる
 可能性があります\n▼こんな方におすすめです\n事業担
 当者やプロダクトマネージャー\nディレクターやプラ
 ンナー、企画担当者\nカスタマーサポート\nデザイナー
 \nマークアップエンジニア\nフロントエンドエンジニア
 \n講演者プロフィール\nセッション登壇\n株式会社アラ
 イドアーキテクツ\nデザイナー/アートディレクター 相
 原 幸司（あいはら こうじ）\n2013年9月アライドアーキ
 テクツ入社。入社当初からプロダクトのデザインに携
 わる。\n2017年までプロダクト開発と並行して、大手ク
 ライアントのSNSマーケティングの提案、コンペなどの
 アートディレクションも担当。またコーポレートブラ
 ンディングやIRなど会社全体のデザインも手がける。\n
 現在はLetro、brandtouchをはじめとするSaaSビジネスのUX、U
 Iデザインに注力。\n\n株式会社リンクアンドモチベー
 ション\nプロダクトマネジャー　治部 裕明（じぶ ひろ
 あき）\n2004年リンクアンドモチベーションに入社。大
 手企業に向けた組織人事コンサルティング業務に従事
 した後、自社の営業企画や研修プログラム開発を担当
 。その後、自社プロダクトのシステム全面リニューア
 ルの責任者を担う。2016年、モチベーションクラウド事
 業の立ち上げに伴い、プロダクトマネジャーとして参
 画。「すべての組織がこれで変わる」の実現に向けて
 活動を行っている。\n\n株式会社Sen 代表取締役CEO 徐福 
 健安（じょふく たけやす）\n19歳から構成作家として
 様々なお笑いライブの立ち上げに携わった後、株式会
 社グッドパッチでPM/UXデザイナーとして活動し、2017年
 に「モチベーションクラウド」のリニューアルプロジ
 ェクトに参画。2018年6月からは株式会社Senを立ち上げ
 、戦略からデザイン、プロダクトからプロモーション
 、デジタルからアナログまで、領域すべてをカバーし
 た、本当に面白いモノを生み出していくための「オー
 ルデザイン」に取り組んでいる。\n\n株式会社ビズリー
 チ\nエクスペリエンス戦略室 UXデザイナー 徳永拓也（
 とくなが たくや）\n2018年8月ビズリーチに入社。前職
 は制作会社にて、デザイン、デザイナーマネジメント
 、自社ブランディングを経験。\n現在は、新規事業のUX
 デザイナーを務めるかたわら、エクスペリエンス戦略
 室にて全社のUXデザイン、サービスデザインのナレッ
 ジ化にも取り組んでいる。\n\n\nタイムテーブル\n\n\n\n
 時刻\n詳細\n\n\n\n\n19:00 ~ 19:30\n会場オープン\n\n\n19:30 ~ 19
 :35\nUX Bridge 田邊氏：UX Bridgeについて/主催者から挨拶\n\
 n\n19:35 ~ 20:00\n株式会社アライドアーキテクツ 相原氏：
 立ち上げ期のSaaSで大事にしているUX\n\n\n20:00 ~ 20:25\n株
 式会社リンクアンドモチベーション 治部氏、徐福氏：
 ワイガヤUX\n\n\n20:25 ~ 20:50\n株式会社ビズリーチ 徳永氏
 ： We DESING story. 「伴走」と「共創」のUXデザイン\n\n\n20
 :50 ~ 22:00\n懇親会（無料で軽食とドリンクを提供）\n\n\n
 \n\n入館方法・受付\n参加者は受付時にconnpassの受付票(
 紙)あるいはスマホなどの受付票表示画面のいずれかを
 提示してください。\n会場はウノサワ東急ビル4階では
 なく3階となります。お間違えのないようお気をつけく
 ださい。\n開場時刻の当日夜19時以降は、ビル正面玄関
 から入館ができず、正面玄関に案内板を設置して、夜
 間通用口の場所を記載しており、夜間通用口ではスタ
 ッフが入館の誘導しておりますので、案内に従って入
 館をお願いします。\n\n※講演プログラムは、変更する
 可能性、前後する可能性もございますので、予めご了
 承くださいますようお願い致します。\n※受付時間は19
 時から20時頃までとさせていただきます。20時頃に入館
 のための案内を締め切らせて頂くことを予めご了承く
 ださい。\n※懇親会からの参加はご遠慮いただいてお
 ります。\n※取材、ブログ枠の方は別途連絡を取れる
 方のみお願いします。\n注意事項\n※受付開始は19時00
 分です。それまではご入場できません。\n※100名を超
 えた場合、席数の関係で立ち見となる可能性がありま
 す。早く到着された順にお席にご案内させて頂きます
 ので、遅くいらっしゃる方は立ち見となる可能性があ
 ることをご了承ください\n※電源はありませんので、
 フル充電でお越しいただくことをおすすめします。\n
 ※オフィス内は全面禁煙です。\n※ご自身のWi-Fiを使用
 されると、回線が混雑する場合がございますので、な
 るべく会場のWi-Fiをご利用ください。\n※イベントは、
 止むを得ず中止させていただく場合がございます。そ
 の際はConnpassのコミュニティグループに所属の方には
 グループメッセージ、Facebookグループに参加の方にはFa
 cebook上でもご連絡させていただきますので、ご確認を
 お願い致します。\n※懇親会は基本スタンディングと
 なっております。また、懇親会からの参加はご遠慮い
 ただいております。\n※過度な勧誘やセールスはご遠
 慮いただいております。場合によっては、主催者の判
 断でご退場していただくともございますので、あらか
 じめご了承ください\n※当日はメディアの取材や写真
 撮影が入る可能性がありますので、あらかじめご了承
 ください\n※携帯での写真撮影は、登壇者が禁止しな
 い限りは問題ありませんが、シャッター音が他の方の
 聴講の妨げになる場合があるので、無音での撮影にご
 協力をお願いします\n※懇親会参加費用については無
 料のため、領収書の発行は対応しておりませんのであ
 らかじめご了承ください\n\n主催\nUX Bridge Group\nhttps://uxb
 ridge.connpass.com\nUX Bridge Facebook Group\nhttps://www.facebook.com/gr
 oups/118091535461107/\n\n協力\n株式会社Emotion Tech\n株式会社Pr
 ofitMakers\n※運営・撮影協力\n株式会社アライドアーキ
 テクツ\n※会場提供\n株式会社grooves\n株式会社パンフォ
 ーユー\n※懇親会スポンサー\n株式会社Plus10Percent\n※運
 営協力\nゲスト用会場Wi-Fi\nSSID：AAF-A/ AAF-B\nパス：aa1234a
 a\nアンケートURL\nhttps://emotion-tech.net/KGLhvyJ6 \n※全セッ
 ション終了後にご回答ください
LOCATION:アライドアーキテクツ株式会社 東京都渋谷区恵
 比寿1-19-15 ウノサワ東急ビル 3階
URL:https://techplay.jp/event/715741?utm_medium=referral&utm_source=ics&utm
 _campaign=ics
END:VEVENT
END:VCALENDAR
