BEGIN:VCALENDAR
VERSION:2.0
PRODID:-//https://techplay.jp//JP
CALSCALE:GREGORIAN
METHOD:PUBLISH
X-WR-CALDESC:【働き方改革】1/26(土) ゼロから学べるGitHubハ
 ンズオン＠新宿
X-WR-CALNAME:【働き方改革】1/26(土) ゼロから学べるGitHubハ
 ンズオン＠新宿
X-WR-TIMEZONE:Asia/Tokyo
BEGIN:VTIMEZONE
TZID:Asia/Tokyo
BEGIN:STANDARD
DTSTART:19700101T000000
TZOFFSETFROM:+0900
TZOFFSETTO:+0900
TZNAME:JST
END:STANDARD
END:VTIMEZONE
BEGIN:VEVENT
UID:716365@techplay.jp
SUMMARY:【働き方改革】1/26(土) ゼロから学べるGitHubハンズ
 オン＠新宿
DTSTART;TZID=Asia/Tokyo:20190126T103000
DTEND;TZID=Asia/Tokyo:20190126T120000
DTSTAMP:20260425T030914Z
CREATED:20190121T043601Z
DESCRIPTION:イベント詳細はこちら\nhttps://techplay.jp/event/71636
 5?utm_medium=referral&utm_source=ics&utm_campaign=ics\n\n参加者の満
 足度が高いと大好評をいただいている、株式会社エッ
 グシステムのシステムエンジニア向け勉強会です！\n\n
 今回は「GitHub」についてハンズオン形式で学べる勉強
 会を開催します！\n今や「GitHub」は開発者にとってな
 くてはならないサービスとなりました。\n\n※GitHubとは
 \nGitHubとは、ソフトウェア開発プロジェクトのための
 ソースコード管理サービスです。\n公開されているソ
 ースコードの閲覧や簡単なバグ管理機能、SNSの機能を
 備えており、開発者にとって無くてはならないサービ
 スです。また、GitHubを使ってバージョン管理を行って
 いる企業も多数あります。\n\n\n\n「GitHubについて聞い
 たことはあるけど、実際に使ったことがない」\n「今
 いる現場で、GitHubを使うことになったため、急いで勉
 強している」\n「GitHubは本で勉強した程度だったため
 、改めて基礎知識を固めたい」\n\nそんなGitHub初心者の
 方向けに、ハンズオン形式で学びます！\n実際に手を
 動かしながら進めます。参加者の方のペースに合わせ
 て進めますので、安心してご参加ください！\n\n勉強会
 自体が初参加、という方も大歓迎です！\n\n\n\n※※※
 今までの勉強会と場所が違いますのでご注意ください
 ※※※\n\n\n\n学べること\n\n・GitHubの使い方や基本操作\
 n・ちょっとした応用として、GitHub Pagesを使った静的ペ
 ージの作成方法\n\n\n\n当日の内容\n\n・自己紹介\n・GitHu
 bのアカウント作成\n・Gitのインストール\n・Gitの基本
 操作\n　　◯ リポジトリの作成\n　　◯ ブランチの作
 成\n　　◯ push、commitなどの基本操作\n　　◯ プルリク
 エストの作成（レビュー、マージ）\n・GitHub Pagesを使
 った静的ページの作成\n・コマンドラインの操作\n\n\n
 持ち物\n\n・ノートパソコン\n・メモ、筆記用具\n・マ
 ウス\n\n\n※OSはWindows、Macどちらでもかまいません。\n
 ※コンセントの数には限りがあるので、事前の充電を
 お勧めします。\n\n\n\n会場について\n\n〒151-0053\n東京都
 渋谷区代々木２丁目７−６　GSハイム佐藤ビル　701号
 室\n\n・JR新宿駅南口出口より徒歩1分\n・山手線、総武
 線、京王線、都営新線新宿駅より徒歩2分\n・大江戸線
 新宿駅より徒歩3分\n\n＜注意事項＞\n・居酒屋かあさん
 というお店が2階にあり、こちらのお店の看板を目印に
 されるとわかりやすいです。\n・1階にはとんかつ串揚
 げのお店「とん竹」さんがあります。\n\n◆現地へのア
 クセス方法 \n・地図：https://goo.gl/maps/oCCSi \n・写真付き
 案内図：http://stances.jp/access_lapis/ \n\n\n\nエッグシステム
 の仕事へジョイン！\n\n本内容を受けられた方は、ぜひ
 株式会社エッグシステムと一緒に仕事をしましょう！\
 n\n詳細は当日お伝えします。\n\n【主催】\n株式会社エ
 ッグシステム\nhttps://eggsystem.co.jp/\n\n\n勉強会の様子\n\n\
 n\n\n\n\n参加者の声\n\n満足度が高かったという感想を多
 数いただいています。\nありがとうございます！\n\n\n\n
 \n\n\n  感想\n\n\n\n\n  【S.Kさん／女性／参加した勉強会
 ：ホームページ制作】Wordpressの基本的な構造を詳しく
 ご説明いただけて分かりやすかったです。なんとなく
 の理解でWordpressを触っていたので、基礎が分かって助
 かりました。ありがとうございました。\n\n\n  【M.Kさ
 ん／女性／参加した勉強会：ホームページ制作 】Wordpr
 essは初めてさわったので、知らないことも多かったの
 で楽しかったです。\n\n\n  【H.Tさん／男性／参加した
 勉強会：ホームページ制作 】初心者に対して分かりや
 すく例を用いて説明してくれて、ホームページの基礎
 知識から制作、公開までの流れも詳しく説明していた
 だきました。口調も穏やかで質問しやすく、非常に満
 足できました。\n\n\n  【A.K.さん／女性／参加した勉強
 会：ホームページ制作】こんなにお安いお値段でお勉
 強させていただき、ありがたかったです。ワードプレ
 スは１度諦めていたのですが、またやってみたいと思
 いました。\n\n\n  【S.O.さん／男性／参加した勉強会：
 ホームページ制作】説明がとても丁寧だったのでプロ
 グラミングをやったことがない人でもホームページ制
 作の考え方ややり方を感覚的に学べると思います。初
 心者にはとても良かったです。広い範囲をぎゅっと詰
 め込んだ内容でした。\n\n\n  【M.S.さん／男性／参加し
 た勉強会：ホームページ制作】説明がとても分かりや
 すかったです。これからも勉強していきたいと思いま
 した。\n\n\n  【M.H.さん／男性／参加した勉強会：ホー
 ムページ制作】ワードプレスの注意点で知らない部分
 を知れたので良かったです。\n\n\n  【M.S.さん／女性／
 参加した勉強会：ホームページ制作】少人数で最適な
 ペースで分かりやすいです。\n\n\n  【K.W.さん／女性／
 参加した勉強会：ホームページ制作】参加前は心配で
 したが、分かりやすく楽しめました。また参加したい
 と思います。\n\n\n  【N.O.さん／男性／参加した勉強会
 ：ホームページ制作】子テーマを作る理由やその方法
 は、なんとなくしか分かっていなかったので、明確に
 なって良かったです。満足です。\n\n\n  【K.W.さん／男
 性／参加した勉強会：ホームページ制作】勉強会には
 初めて参加したのですが、大変ためになりました。ま
 た次回も参加したいです。時間が足りないくらいでし
 た。\n\n\n  【M.S.さん／女性／参加した勉強会：ホーム
 ページ制作】基礎で飛ばしていたところを再確認でき
 ました。他の方と一緒に勉強できる機会もとても貴重
 なのでありがたいです。\n\n\n  【Y.N.さん／男性／参加
 した勉強会：ホームページ制作】周囲に相談できる人
 がいないため、流れや用語、業界の実情を教えていた
 だけるだけでありがたいです。\n\n\n  【H.M.さん／男性
 ／参加した勉強会：ホームページ制作】興味のある内
 容だったし、分かりやすかったのでとても勉強になっ
 た。分野を超えて教えていただいてありがたかった。\
 n\n\n  【S.Kさん／男性／参加した勉強会：Webマーケティ
 ング基礎】テーマは"Webマーケティング"でしたが、初
 心者でも気軽に参加しやすい雰囲気が印象的でした。
 専門的な知識の部分も分かりやすく理解できました。\
 n\n\n  【J.Oさん／男性／参加した勉強会：Webマーケティ
 ング基礎 】前半のマーケティングの基礎が普段関わる
 のことない分野だったので参考になりました。\n\n\n  
 【R.Kさん／男性／参加した勉強会：Webマーケティング
 基礎】マーケティングの本質の理解ができました。具
 体的な事例を挙げて説明していただき、分かりやすか
 ったです。\n\n\n  【T.Kさん／男性／参加した勉強会：We
 bマーケティング基礎】普段触れない内容で大変参考に
 なりました。より実践的な施策も聞いてみたかったで
 す。\n\n\n  【O.Kさん／男性／参加した勉強会：Webマー
 ケティング基礎 】Webマーケの基礎が知れてよかったで
 す。自分のブログで参考にします。\n\n\n  【Y.Oさん／
 男性／参加した勉強会：Webマーケティング基礎 】何と
 なく知っていたことが明確になりました。\n\n\n  【J.T
 さん／男性／参加した勉強会：css実践編 】大規模シス
 テムでのcss設計について聞けたのが良かった。毎回実
 務で活かせる内容が多く、助かっています。\n\n\n  【T.
 Iさん／男性／参加した勉強会：css実践編 】他社で使
 われている、もしくは業界で一般的に使われているノ
 ウハウを学べ、とても勉強になりました。0からサイト
 構築をする際の参考にさせていただきます。\n\n\n  【T.
 Aさん／男性／参加した勉強会：css実践編 】プロの目
 から見たコーディングが聞けて、大変参考になりまし
 た。\n\n\n  【S.Yさん／男性／参加した勉強会：css実践
 編 】設計など色々話を聞けてよかった。また、現場の
 話を聞く機会がないので、環境の話も知れてよかった
 。\n\n\n  【S.Kさん／男性／参加した勉強会：Webデザイ
 ン入門 】Webデザインに関する事が中心かと思ってまし
 たが、デザインの基本的な考え方に関する事で、とて
 も勉強になりました。また機会があれば来たいと思い
 ます。\n\n\n  【M.Hさん／男性／参加した勉強会：Webデ
 ザイン入門 】実際にフリーでWebデザインを仕事として
 いる方の話なので、説得力がありました。90分の勉強
 会なので情報量が多く感じましたが、分かりやすかっ
 たです。\n\n\n  【S.Sさん／男性／参加した勉強会：Web
 デザイン入門 】デザインとは？から始まり、今まで考
 えてこなかった内容について知れたのが大変ありがた
 かったです。\n\n\n  【S.Uさん／男性／参加した勉強会
 ：Webデザイン入門 】今まで学んできたことを再確認で
 きたこと、デザイナーさんの視点からみたデザイン、
 について学べたのは良かったです。\n\n\n  【H.Aさん／
 男性／参加した勉強会：Webデザイン入門 】デザインに
 ついてはまったく知らなかったので、今日来てよかっ
 たです。\n\n\n  【Y.Tさん／男性／参加した勉強会：Web
 デザイン入門 】０からデザインスキルをつけるための
 基本的な考え方がよく分かった。いずれ自分が教える
 側になった時も活かせる内容かなと思った。\n\n\n  【T.
 Tさん／男性／参加した勉強会：Webデザイン入門 】デ
 ザインの基礎を教えて頂けた事が良かった。簡単に実
 践する事ができる例を教えて頂けた事がよかった。丁
 寧な対応が良かった。\n\n\n  【R.Uさん／男性／参加し
 た勉強会：Webデザイン入門 】15年エンジニアをやって
 いますがデザインは初めて教えてもらいました。大変
 参考になりました。\n\n\n\n\n\n\n参加後のアンケートは
 こちらから\n\nhttps://goo.gl/forms/ZxTgRWVytehVeH0j1\n
LOCATION:東京都渋谷区代々木２丁目７−６　GSハイム佐藤
 ビル　７０１号室 東京都渋谷区代々木２丁目７−６　
 GSハイム佐藤ビル　７０１号室
URL:https://techplay.jp/event/716365?utm_medium=referral&utm_source=ics&utm
 _campaign=ics
END:VEVENT
END:VCALENDAR
