BEGIN:VCALENDAR
VERSION:2.0
PRODID:-//https://techplay.jp//JP
CALSCALE:GREGORIAN
METHOD:PUBLISH
X-WR-CALDESC:【参加費無料】UiPath実践型セミナー
X-WR-CALNAME:【参加費無料】UiPath実践型セミナー
X-WR-TIMEZONE:Asia/Tokyo
BEGIN:VTIMEZONE
TZID:Asia/Tokyo
BEGIN:STANDARD
DTSTART:19700101T000000
TZOFFSETFROM:+0900
TZOFFSETTO:+0900
TZNAME:JST
END:STANDARD
END:VTIMEZONE
BEGIN:VEVENT
UID:716388@techplay.jp
SUMMARY:【参加費無料】UiPath実践型セミナー
DTSTART;TZID=Asia/Tokyo:20190208T130000
DTEND;TZID=Asia/Tokyo:20190208T180000
DTSTAMP:20260420T223430Z
CREATED:20190121T115753Z
DESCRIPTION:イベント詳細はこちら\nhttps://techplay.jp/event/71638
 8?utm_medium=referral&utm_source=ics&utm_campaign=ics\n\n\n\n※お申し
 込みは、TechPlayからではなく、こちらからお願い致し
 ます。\n\nRPA(UiPath)の スキルを身につけ、 RPAエンジニ
 アとして働く機会が得られます。\n\nRPA(UiPath)のスキル
 を身に着け、派遣社員またはフリーランスとしての働
 き方を希望の方が対象のセミナーです。\n\nこんな方に
 おおすすめです。\n・RPA（UiPath）エンジニアとして活
 躍してみたい方\n・RPA（UiPath）のスキルをクイックに
 身に着け、現場で活用してみたい方\n・新しい技術を
 学んでみたい方\n・諸事情でIT企業を退職したが、復職
 を考えている方\n・Excelマクロなど簡単なプログラミン
 グの経験がある方\n・フリーランスとして働き始め、
 案件を探している方\n\n企業所属かつ情報収集の方のご
 参加はお断りしておりますので、ご了承ください。\n\n
 セミナー概要\n\n・RPAの概要（市場動向、各種ツール比
 較等）を学習します。\n・UiPathのワークフロー作成に
 ついて学習します。UiPathを操作することで、実践的な
 操作方法を学習します。\n\n対象者\n\n・RPA（UiPath）エ
 ンジニアとして活躍してみたい方\n・RPA（UiPath）のス
 キルを身に着け、UiPathの導入プロジェクトに参画して
 みたい、派遣社員またはフリーランスとしての働き方
 を希望の方 \n・システム会社等での業務経験があるが
 、主婦業等でお仕事から離れていた方 \n・Excelマクロ
 等、簡単なプログラミングの経験がある方 \n・IT企業
 を辞めてフリーランスとして働き始め、案件を探して
 いる方\n\n3つの特徴\n\nUiPathの豊富な導入実績\n弊社は
 、通信・メディア・医療機器など、幅広い業界に対し
 てUiPathの導入コンサルティングの実績があります。\n\n
 実績ある育成手法\n幅広いスキル・年齢・役職の方に
 対して研修を実施する中で培った、独自のRPAエンジニ
 アの育成手法を有します。\n\nプロジェクト参画中のサ
 ポート\n研修期間はもちろん、RPA導入プロジェクト参
 画中であっても、疑問点に即座の回答が可能な体制が
 あります。\n\nセミナー詳細\n\n・イントロダクション\n
 　-RPA概要、UiPathと他社ツール比較\n・ハンズオン学習\
 n　-ワークフローの自動作成\n　-ワークフローのカス
 タマイズ\n・機能説明\n　-アクティビティ\n　-Webスク
 レイピング\n　-セレクター\n\n講師紹介\n\nイグニショ
 ン・ポイント株式会社　コンサルティング事業本部 マ
 ネジャー\n木塚 達哉\n\n\n\n外資系コンサルティング・
 ファーム　PwCコンサルティング（現日本IBM）を経て現
 職。15年に及ぶコンサルティング経験にて幅広い業界
 において、顧客チャネル戦略立案・業務改革支援・人
 事評価制度立案・導入支援などのコンサルティング領
 域に従事。企業統合に伴う統合計画の策定から実行段
 階までの全体管理、システム統合に伴う移行計画策定
 ・実行管理など大規模プロジェクトを多く従事し、幅
 広いステークホルダーとの合意形成の醸成に強みを持
 つ。近年では、RPAを用いた業務変革プロジェクト推進
 部門の立上げ・トレーニング事業推進を実施。\n\n参加
 費\n\n無料\n\n※お申し込みはこちらからお願い致しま
 す。\n\n主催\n\nイグニション・ポイント株式会社\n\n左
 脳(コンサルティング)と右脳(クリエイティブ)を組合わ
 せ、デジタルを活用した新規事業・サービスを次々と
 生み出すイノベーションファームです。RPAにおいては
 、通信・メディア・医療機器などの業界に対して、RPA
 導入コンサルティング、運用体制構築、開発者育成な
 どの実績がございます。\n
LOCATION:イグニション・ポイント株式会社 本社セミナー
 ルーム 渋谷区東1丁目32-12 渋谷プロパティータワー1F "S
 PARK2045"
URL:https://techplay.jp/event/716388?utm_medium=referral&utm_source=ics&utm
 _campaign=ics
END:VEVENT
END:VCALENDAR
