BEGIN:VCALENDAR
VERSION:2.0
PRODID:-//https://techplay.jp//JP
CALSCALE:GREGORIAN
METHOD:PUBLISH
X-WR-CALDESC:第1回 VRM勉強会
X-WR-CALNAME:第1回 VRM勉強会
X-WR-TIMEZONE:Asia/Tokyo
BEGIN:VTIMEZONE
TZID:Asia/Tokyo
BEGIN:STANDARD
DTSTART:19700101T000000
TZOFFSETFROM:+0900
TZOFFSETTO:+0900
TZNAME:JST
END:STANDARD
END:VTIMEZONE
BEGIN:VEVENT
UID:716579@techplay.jp
SUMMARY:第1回 VRM勉強会
DTSTART;TZID=Asia/Tokyo:20190219T190000
DTEND;TZID=Asia/Tokyo:20190219T220000
DTSTAMP:20260425T151340Z
CREATED:20190122T141907Z
DESCRIPTION:イベント詳細はこちら\nhttps://techplay.jp/event/71657
 9?utm_medium=referral&utm_source=ics&utm_campaign=ics\n\n概要\nVRアバ
 ターの共通規格「VRM」に関する知見共有や、作ったア
 プリの自慢をする勉強会です。\n\nVRMについて興味があ
 る方\nVRMを使った開発を行っている方\nVRM向けにアバタ
 ーのセットアップや調整を行っている方\nVRMに関係し
 た技術や知識を知りたい方\n\n向けの勉強会です。\nエ
 ンジニアだけでなく、モデラーやアーティストの方も
 ぜひご参加ください。\n配信リンク: 第1回 VRM勉強会 - Y
 ouTube\nhttps://www.youtube.com/watch?v=6VkodZ5X0pc&feature=youtu.be\n展
 示について\n※2019/02/04追記\n当日は自由に持ち込み展
 示をしていただいて大丈夫です。(例: スマホ\, Oculus Go)
 \nまた、展示の際にスペースが必要な方向けに「展示
 枠」を設けました。(例: PC\, LookingGlass) こちらの枠でご
 参加される方は優先的に机・電源などご用意する予定
 です。機材など持ち込む予定の方はこちらにお申し込
 みいただけますと幸いです(アンケートへの回答もお願
 いします)。\nただし、今回会場の大きさに限りがある
 ことイベント参加人数が大きことから、展示できない
 状況が発生する可能性がございます。大変恐縮ですが
 、その点のみご了承ください。\n登壇形式\n\n持ち時間 
 10分のLTです\n一部登壇者はバーチャルで発表します\n\n
 タイムスケジュール\n\n18:30 受付開始\n18:55 会場諸注意\
 n19:00 イベント開始\n21:00 懇親会\n22:00 撤収\n22:30 完全撤
 収\n\n※専用受付は19時00分に撤収いたします。\n発表者
 一覧\n\n\n\n時間(予定)\nタイトル\n発表者\n\n\n\n\n\n19:00-19
 :10\nLuppetで分かったVRMアプリ開発Tips\n@ CST_negi\n\n\n\n19:10
 -19:20\nVRMを使ったAR/MR撮影アプリを試作開発してみた話
 \n@sotanmochi\n\n\n\n19:20-19:30\nアバター生放送支援アプリ「
 アバれぽ」の紹介\n@toRisouP\n\n\n\n19:30-19:45\n休憩\n---\n\n\n
 \n19:45-19:55\nおめめのうごき\n@miyumiyuna5\nバーチャル登壇
 \n\n\n19:55-20:05\n誰でもできる！VRMモデルセットアップ小
 技集\n@m2wasabi\n\n\n\n20:05-20:15\nVRM対応スマホアプリ開発Ti
 ps集\n@ yashinut\n\n\n\n20:15-20:30\n休憩\n---\n\n\n\n20:30-20:40\nVRM
 姉妹のGLTF(GLB)はやればできる子! セルフビルド狐おじ
 さんが教える動く背景データの作り方と対策\n@ichitarok\
 nバーチャル登壇\n\n\n20:40-20:50\nVRMSpringBoneをJobSystem&ECSで
 最適化してみた話\n@ TEST_H_\n\n\n\n20:50-21:00\n(個人で)VRM対
 応のアダルトアプリを作っている話\n@nkjzm\n\n\n\n\nニコ
 ナレの資料一覧\nhttps://niconare.nicovideo.jp/events/44\n展示一
 覧\n\n\n\n内容\n展示者\n\n\n\n\nマウスとキーボードだけ
 で動くVRMアプリ、VDRAWの展示\n@OGOG_Ogura\n\n\n自作VRゲー
 ム\n@toy_labo\n\n\nHololens用VRMアプリ\n@URqK77hwuGvArSr\n\n\nLeapMo
 tionマウンタとマイクを装着させてLuppetを体験\n@CST_negi\
 n\n\niPad or HoloLensでAR/MRアプリを体験\n@sotanmochi\n\n\nアバ
 ター生放送支援アプリ「アバれぽ」\n@toRisouP\n\n\nLiveAvat
 ar\n@m2wasabi\n\n\nOculusGoアプリ、他\n@ yashinut\n\n\nLookingGlass
 でリリカちゃん\n@nkjzm\n\n\n\n参加費\n懇親会費500円です
 。\n懇親会\n軽食と飲み物を用意する予定です。\nアル
 コール類は20歳未満の参加者は禁止です。\n会場\n株式
 会社メルカリ ( 東京都港区六本木6-10-1 六本木ヒルズ森
 タワー25F )\n18:30開場、19:00 開始の予定です。\n六本木
 ヒルズ森タワーのLL階にある 専用受付カウンター にて
 、受付票のご提示をお願いします。\n入館証を発行す
 るので、お持ちになって25Fのイベント会場までお越し
 ください。\n受付は19:00頃に撤収します。遅れてきた場
 合は#VRM勉強会にて遅れてきた旨をツイートしていただ
 ければ運営スタッフが迎えに参ります。\nその他\n\nゲ
 スト用の Wi-Fi があります。\nゲスト用の電源はありま
 せん。\n入館・退館のやり方はよく目を通しておいて
 ください。\nイベント終了後、速やかに撤収となりま
 すので、片付けにご協力ください。\nブログ・ツイッ
 ター等での発信は積極的にお願いします。\n都合が悪
 くなった場合は早めのキャンセル処理をお願いします
 。\n運営が相応しくないと判断した方の参加はご遠慮
 いただくことがあります。\n
LOCATION:株式会社メルカリ 25F イベントスペース 東京都港
 区六本木6-10-1 (六本木ヒルズ森タワー)
URL:https://techplay.jp/event/716579?utm_medium=referral&utm_source=ics&utm
 _campaign=ics
END:VEVENT
END:VCALENDAR
