BEGIN:VCALENDAR
VERSION:2.0
PRODID:-//https://techplay.jp//JP
CALSCALE:GREGORIAN
METHOD:PUBLISH
X-WR-CALDESC:元祖 濱せっく #2
X-WR-CALNAME:元祖 濱せっく #2
X-WR-TIMEZONE:Asia/Tokyo
BEGIN:VTIMEZONE
TZID:Asia/Tokyo
BEGIN:STANDARD
DTSTART:19700101T000000
TZOFFSETFROM:+0900
TZOFFSETTO:+0900
TZNAME:JST
END:STANDARD
END:VTIMEZONE
BEGIN:VEVENT
UID:716789@techplay.jp
SUMMARY:元祖 濱せっく #2
DTSTART;TZID=Asia/Tokyo:20190223T133000
DTEND;TZID=Asia/Tokyo:20190223T180000
DTSTAMP:20260422T032556Z
CREATED:20190123T211255Z
DESCRIPTION:イベント詳細はこちら\nhttps://techplay.jp/event/71678
 9?utm_medium=referral&utm_source=ics&utm_campaign=ics\n\n濱せっくと
 は\n\n\n横濱界隈のセキュリティエンジニアが運営して
 いる情報やスキルを共有し合うことを目標とするセキ
 ュリティ勉強会です。今回は2回目の横濱開催です。読
 み方：はませっく\n対象者\nセキュリティに興味のある
 方であれば、学生でも社会人でも無職の方でもどなた
 でも大歓迎です。なお、横濱にお住まいでなくても参
 加できます。\n開催日時\n\n2019年2月23日(土)\n13:00開場 / 
 13:30開始\n18:00 終了見込み\n18:30 懇親会\n\n会場\n\n学校
 法人岩崎学園 情報科学専門学校\n神奈川県横浜市神奈
 川区鶴屋町2-17 相鉄岩崎学園ビル　アクセス\n入口・エ
 レベータホールあたりに案内板が出ますので、それに
 従ってください。\n受付は申込時のハンドルネームで
 行いますので、思い出せるようにしておいてください
 。\n\n連絡事項\n\n本勉強会はハンズオン、体験コーナ
 ーなどもあるため、PC持参でお願いします。\n電源タッ
 プ、無線LANは会場にて提供されます。\n\n\n\nアジェン
 ダ\n\n\n\n時間\nタイトル\n発表者\n概要\n\n\n\n\n13:30\nオリ
 エンテーション\ntakeya\n\n\n\n13:40\nバグバウンティに入
 門してみた\nno1zy\nバグバウンティで報奨金を稼ぎ始め
 るまでにどんな事をしたか、どんな内容の報告をした
 かを喋れたらと思ってます！\n\n\n14:25\nサルでもできる
 Windows 10への攻撃手法\nSoyaAoyama\nBSidesLV、GrrCON、ToorCon、D
 erbyConで講演した２つの内容をギュッと濃縮して説明し
 ます。実はWindows 10って誰でも簡単にインジェクション
 できるんですよ。\n\n\n15:10\n体験コーナー\n\n同会場内
 に複数の体験コーナーが現れます。参加するもよし、
 他の来場者とおしゃべりするもよし、CTFするもよし、
 休憩するもよし。①AI Village 機械学習セキュリティ・
 ハンズオン Isao TakaesuAIxSecurityなデモ＆ハンズオンを行
 います。1.顔認証システムのBypass（ハンズオンorデモ）
 2.DeepLockerのデモ(概要説明＆デモ)。1のBypassを体験した
 い方は、こちらのInstallation手順に従って顔認証システ
 ムの導入をお願い致します。②Windows Hacking Village Soya Ao
 yama参加される方は、PC上にWindows10の仮想環境をご準備
 ください。(Win10の仮想イメージは、ここからダウンロ
 ード可能です)また、利用するモジュールはUSBメモリで
 配布しますが、ソースからコンパイルしたい方は、Visu
 alStudioのインストールもしておいてください。③ICS Hack
 ing Village Igeta実際のPLCを持ち込んで、ICSに対する攻撃
 シナリオのデモンストレーションを行います。④IoT Hac
 king Village takeyaIoTハッキングの第一歩、UARTを介したIoT
 デバイスのShellへのアクセスを体験していただきます
 。⑤OSINT Village anemone_fishOSINT的な何か⑥CIRCO Villageekio_jp 
 ネットワークの情報を収集するオープンソースのハー
 ドウェアCIRCO のデモンストレーションを行います。⑦H
 amaCTF Sh1n0g1CyberChefで解くような問題およびアンパック
 チャレンジ的な問題を出題します。\n\n\n16:40\nシンクホ
 ールで色んなものを吸い込んでみた\nmoto_sato\n吸い込ん
 で初めて分かった被害規模、攻撃目的、効率的な対策
 、など。\n\n\n17:25\nLT大会\n\n① デコンパイラが欲しか
 った話 / kriw② ハニーポットなんでもランキング / sec c
 hock③ MSSの選び方 powerd by ISOG-J / tddstrgzer④ 高対話型ハ
 ニーポットに乗り込んで「厄災(リスク)」を攻略し「
 希望(リターン)」を持ち帰る話 / graneed⑤ 情報科学専門
 学校枠\n\n\n17:55\nクロージング\ntakeya\n\n\n\n18:30\n懇親会\
 n\n懇親会に参加されたい方は、申し込み時のアンケー
 トで「懇親会に参加する」にチェックを入れてくださ
 い。参加費¥5\,000前後を予定(学生への参加費優遇制度
 有り)\n\n\n\n更新履歴\n2019/02/19　体験コーナーの詳細を
 追加\n2019/02/03　LT詳細追記。Soya Aoyamaさんの体験コーナ
 ーに、事前準備内容追記\n2019/01/21　公開開始
LOCATION:学校法人岩崎学園 情報科学専門学校 神奈川県横
 浜市神奈川区鶴屋町2-17 相鉄岩崎学園ビル
URL:https://techplay.jp/event/716789?utm_medium=referral&utm_source=ics&utm
 _campaign=ics
END:VEVENT
END:VCALENDAR
