BEGIN:VCALENDAR
VERSION:2.0
PRODID:-//https://techplay.jp//JP
CALSCALE:GREGORIAN
METHOD:PUBLISH
X-WR-CALDESC:Search Engineering Tech Talk #1
X-WR-CALNAME:Search Engineering Tech Talk #1
X-WR-TIMEZONE:Asia/Tokyo
BEGIN:VTIMEZONE
TZID:Asia/Tokyo
BEGIN:STANDARD
DTSTART:19700101T000000
TZOFFSETFROM:+0900
TZOFFSETTO:+0900
TZNAME:JST
END:STANDARD
END:VTIMEZONE
BEGIN:VEVENT
UID:716925@techplay.jp
SUMMARY:Search Engineering Tech Talk #1
DTSTART;TZID=Asia/Tokyo:20190226T190000
DTEND;TZID=Asia/Tokyo:20190226T210000
DTSTAMP:20260422T013529Z
CREATED:20190124T141320Z
DESCRIPTION:イベント詳細はこちら\nhttps://techplay.jp/event/71692
 5?utm_medium=referral&utm_source=ics&utm_campaign=ics\n\n概要\nSearch E
 ngineering Tech TalKの第1回になります。\n検索技術勉強会
 の目的は、「検索」/「検索システム」にまつわる技術
 や手法に関して共有できる場を提供することです。 \n
 検索エンジンごとの勉強会などもありますが、検索エ
 ンジンには関係なく、\n「検索」というシステム、サ
 ービスを作る上で共通の解決すべき課題があります。 
 \nこれらの課題をみんながどのように解決しているの
 かといった知識を共有できる場になればと思っていま
 す。\n今回取り扱う主なトピック\n\nSearch Experience (検索
 体験)\nUI/UX（検索検索サービス）\n検索エンジン\n\nタ
 イムテーブル\n\n\n\n時間\n内容\nスピーカー\n\n\n\n\n19:00\
 n開場\n\n\n\n19:30\nオープニング\n@johtaniさん\n\n\n19:40〜20:
 05\n「いい検索」を考える\n内田臣了 さん\n\n\n20:05 〜20:
 30\nUI/UXが無意識に検索行動に与える影響\n@tairoさん\n\n\
 n20:30〜20:55\nEfficient top-k query processing in Lucene 8\n@moco_beta
 さん\n\n\n21:00〜\n懇談会\n\n\n\n22:00\n終了\n\n\n\n\n発表者
 紹介\nShinryo Uchida 内田臣了さん\n学生時代の専門分野は
 情報検索で、モノを使って得られる体験をクエリとし
 た検索の研究。\n2017年、株式会社リクルートホールデ
 ィングス（現・株式会社リクルート）に新卒入社後、
 専門分野を生かして\nリクルートテクノロジーズにて
 リクルートグループの検索業務に従事。\nTairo Moriyama 
 森山 大朗 (@tairo)さん\n早稲田大学卒業後、リクルート
 やHR系スタートアップ立ち上げを経て株式会社ビズリ
 ーチに入社。求人検索エンジンの開発と検索改善にエ
 ンジニアとして従事。2016年11月にメルカリに入社して
 からは、US/JP版メルカリの検索改善やパーソナライズ
 、AIを活用した新機能をリリース。並行してCREを立ち
 上げ、メルカリCSの技術的な改善を推進した後、現在
 はSearchチームの Engineering Manager 兼 PM\nTomoko Uchida 打田智
 子 (@moco_beta)さん\n筑波大学大学院（CS専攻）で修士を
 取得後，いくつかの企業で Web システムおよび検索シ
 ステムの開発/運用，技術コンサルティング等に従事。
 現在都内でソフトウェアエンジニアをしています。Pyth
 on 形態素解析ライブラリ janome 作者，Luke (Lucene Toolbox Pr
 oject) メンテナー，[改定３版] Apache Solr 入門 共著者。\n
 入館方法\n六本木ヒルズ森タワーのLL階(森ビル受付カ
 ウンター付近)に受付カウンターが設置されています。
 \nconnpassの受付票を提示いただき、お渡しする入館シー
 ルを見えやすい位置に貼り付けてください。\nその後
 エスカレーターで1つ上のUL階に移動し、入場ゲート内
 のエレベーターホールより18Fにお越しください。\n※ 1
 9:00開場、19:30開始の予定です。19:40には受け付けカウ
 ンターを撤収します。カウンター撤収後はUL階の六本
 木ヒルズ総合受付より入館手続きを行うことができま
 す。詳細は事前にconnpassよりお送りした「Search Engineerin
 g Tech Talk入館方法のご連絡」のメッセージをご覧くだ
 さい。
LOCATION:株式会社メルカリ様 東京都港区六本木6-10-1六本
 木ヒルズ森タワー
URL:https://techplay.jp/event/716925?utm_medium=referral&utm_source=ics&utm
 _campaign=ics
END:VEVENT
END:VCALENDAR
