BEGIN:VCALENDAR
VERSION:2.0
PRODID:-//https://techplay.jp//JP
CALSCALE:GREGORIAN
METHOD:PUBLISH
X-WR-CALDESC:Annotation Meetup -テーマは前処理-
X-WR-CALNAME:Annotation Meetup -テーマは前処理-
X-WR-TIMEZONE:Asia/Tokyo
BEGIN:VTIMEZONE
TZID:Asia/Tokyo
BEGIN:STANDARD
DTSTART:19700101T000000
TZOFFSETFROM:+0900
TZOFFSETTO:+0900
TZNAME:JST
END:STANDARD
END:VTIMEZONE
BEGIN:VEVENT
UID:717124@techplay.jp
SUMMARY:Annotation Meetup -テーマは前処理-
DTSTART;TZID=Asia/Tokyo:20190207T193000
DTEND;TZID=Asia/Tokyo:20190207T210000
DTSTAMP:20260420T005650Z
CREATED:20190125T211526Z
DESCRIPTION:イベント詳細はこちら\nhttps://techplay.jp/event/71712
 4?utm_medium=referral&utm_source=ics&utm_campaign=ics\n\nこの勉強会
 は？\n機械学習の教師あり学習で欠かせない「教師デ
 ータ」「学習データ」の作成や運用をテーマにしたミ
 ートアップイベントです。\n機械学習には欠かせない
 わりにそのノウハウが共有されていないと感じ、開催
 中。\n今回のテーマは「データの前処理」\nアノテーシ
 ョンとは\n機械学習の教師データ作成のプロセスを「
 アノテーション」と呼び、この作業を行うヒトのこと
 を「アノテーター」と呼んでいます。\n参加資格\n実世
 界での機械学習に取り組んでいる人たちの、教師デー
 タに関する普段持っている悩みや工夫したことをカジ
 ュアルに共有する場です。参加者の属性を揃えるため
 に、実践的な機械学習に取り組んでいる、直近で取り
 組む予定のある人を参加対象とさせていだきます。\n
 参加受付\nconnpass上で登録をお願いします。\n開催概要\
 n\n\n\n\n\n\n\n\n\n日時\n2019.2.07 (Thu) 19:30-21:00\n\n\n会場\nABEJA
 セミナールーム\n\n\n参加費\n1\,000円 (懇親会のための費
 用です!!)\n\n\n\nタイムテーブル\n\n\n\n時間\nタイトル\n
 登壇者\n\n\n\n\n19:15\n受付開始\n\n\n\n19:30\n会場説明\n\n\n\n
 19:35\n前処理大全には書いていない業務に深く関わる前
 処理の話\n本橋 智光 さん\n\n\n20:00\nデータ取得に見る
 前処理(仮)\nyachide さん\n\n\n20:20\n前処理についてDeep Lear
 ning Researcherが悩んでいること\nshirakawa tatsuya さん\n\n\n20
 :50\nちょっと休憩\n※ビール配布開始\n\n\n20:55\n飛び込
 みLTタイム×3本\n\n\n\n21:15\n懇親会\n\n\n\n22:00\n解散!!\n\n\n
 \n\nおすすめ著書\n\n\n前処理大全 データ分析のためのSQ
 L/R/Python実践テクニック \n\n\n機械学習のための特徴量
 エンジニアリング ―その原理とPythonによる実践\n\n\nみ
 んな買ってね!! \n飛び込みLTの希望者へ\n\n申し込みの
 際に飛び込みLT希望チケットを選択してください。\nア
 ノテーション、データの前処理に関わる内容で、5minの
 LTをお願いいたします。\n自分でアノテーションをやっ
 てみた話、アノテーションを依頼してみた話、アノテ
 ーションツールを選定した話、そもそも前処理の話な
 ど様々なノウハウを共有ください。\n\n\n\n注意事項\n\n
 本勉強会は純粋な心で教師データについて語り合いた
 いエンジニアのための場所です。勧誘や営業等はおこ
 とわりしています。\n飲み物\, 食べ物等持ち込は自由
 です。\n
LOCATION:ABEJAオフィス 東京都港区白金1-17-3 NBF プラチナタ
 ワー10F
URL:https://techplay.jp/event/717124?utm_medium=referral&utm_source=ics&utm
 _campaign=ics
END:VEVENT
END:VCALENDAR
