BEGIN:VCALENDAR
VERSION:2.0
PRODID:-//https://techplay.jp//JP
CALSCALE:GREGORIAN
METHOD:PUBLISH
X-WR-CALDESC:JAWS-UG 初心者支部#16 JAWSDAYS re:Cap & EC2 スポット
 インスタンス！
X-WR-CALNAME:JAWS-UG 初心者支部#16 JAWSDAYS re:Cap & EC2 スポット
 インスタンス！
X-WR-TIMEZONE:Asia/Tokyo
BEGIN:VTIMEZONE
TZID:Asia/Tokyo
BEGIN:STANDARD
DTSTART:19700101T000000
TZOFFSETFROM:+0900
TZOFFSETTO:+0900
TZNAME:JST
END:STANDARD
END:VTIMEZONE
BEGIN:VEVENT
UID:717696@techplay.jp
SUMMARY:JAWS-UG 初心者支部#16 JAWSDAYS re:Cap & EC2 スポットイン
 スタンス！
DTSTART;TZID=Asia/Tokyo:20190227T190000
DTEND;TZID=Asia/Tokyo:20190227T210000
DTSTAMP:20260423T194550Z
CREATED:20190130T061424Z
DESCRIPTION:イベント詳細はこちら\nhttps://techplay.jp/event/71769
 6?utm_medium=referral&utm_source=ics&utm_campaign=ics\n\nJAWS-UG初心者
 支部第16回勉強会開催！\n今回は2/23(土)に開催のJAWS DAYS
 の re:Capの裏側と再演、EC2スポットインスタンスの勉強
 会です！\nJAWS-UG 初心者支部とは？\nAWSをこれから活用
 したい人や一緒に勉強する仲間が欲しい人を主なター
 ゲットとしています。 AWSへの理解を深めていただくお
 手伝いをすることはもちろんのこと、みなさまがより
 楽しく学び、よりステップアップしていくためには不
 可欠となる、初心者支部の卒業→JAWSの他支部へと巣立
 つためのお手伝いをします。\n会場\nアマゾン ウェブ 
 サービス ジャパン株式会社(新オフィス）\n東京都品川
 区上大崎3-1-1(目黒セントラルスクエア21F)\n入館方法お
 よび受付\n\n受付は18:30を予定しています。\nアマゾン
 ウェブサービス社新オフィスになりますのでお間違え
 のないようご注意ください。\n入館と受付方法はこち
 らを参考にしてください。\n受付時はconnpassの受付番号
 をご提示ください。\n会場はAWSJ様のご厚意で使用させ
 て頂いています。会場の注意事項などを遵守いただき
 ますようお願いします。\n\nタイムテーブル（内容・演
 目は変更になる可能性があります）\n\n\n\n時間\n内容\n
 講師\n\n\n\n\n18:30〜\n受付開始\n-\n\n\n19:00-19:10\n会場諸注
 意/初心者支部とは\nJAWS-UG 初心者支部運営\n\n\n19:10-19:40
 \n「JAWS DAYSの舞台裏公開します」\n吉江さん 、山崎さ
 ん、王\n\n\n19:40-19:50\nバッファ＆休憩\n-\n\n\n19:50-20:20\n
 「JAWS DAYS re:Cap EC2のCPUクレジットの罠 」\n初心者支部
 運営　武田さん\n\n\n20:20-20:50\n「Amazon EC2スポットイン
 スタンスの紹介」\nAWSJ　ソリューションアーキテクト
 　EC2スポットインスタンススペシャリスト 　滝口 開
 資さん\n\n\n20:50-20:55\nバッファ\n-\n\n\n20:55-\n撤収\n懇親
 会へGO!!\n\n\n\n懇親会について\n今回、試験的に懇親会
 枠を作りました。事前にお店の予約などをしますので
 、当日・前日のキャンセルはご遠慮いただきますよう
 ご協力のほどよろしくお願いいたします。\n会費は4000
 円程度を予定しています。金額が確定次第ご連絡しま
 すので、会場受付時にお支払いください \n会場はAWSJ様
 のオフィスから徒歩数分のお店で21時から2時間程度を
 予定しています \n2019/2/27 追記\n今回は近方のビアバー
 にする予定です。キャッシュオンでリバーのお店です
 ので、\n参加費事前徴集はいたしません。\nまた、現時
 点で懇親会枠でない方もご参加くださいませ。\nリモ
 ート参加枠\n大好評のリモート参加枠今回もご用意し
 ます！別イベントで公開していますのでこちらからお
 申込ください。\n参加者交流のためのFBグループ\n交流
 の場や情報交換する場として是非FBグループにご参加
 ください\nhttps://www.facebook.com/groups/1568052690139353\n初心者
 支部のブログはこちら\n注意事項など\n\n当日、ブログ
 用に撮影担当が入る場合がございます。極力参加者の
 方のお顔が入らないようにする等配慮いたしますが、
 ご了承くださいませ。\nAWSJ様のオフィスのセキュリテ
 ィ上、本名とメールアドレスのご記入をお願いしてお
 ります。また、ご本人確認のために名刺、IDの提示を
 お願いすることがあることをご了承ください。\nプラ
 イバシーポリシーはこちらをご確認ください。\nリク
 ルーティング、勧誘、採用活動、人の話を聞かないな
 ど、目的に沿わない行為につきまして、主催者が相応
 しくないと判断した場合は退出頂く場合があります。
 全員が気持ちよく過ごすことが出来るよう、ご協力を
 お願い致します。\n大きなシャッター音はスピーカー
 の話に集中する環境を壊しがちです。撮影する場合は
 「Microsoft Pix」のような無音カメラを使うなど周囲への
 配慮をしましょう。\n\n\n【編集履歴】\n2019/1/29 作成
LOCATION:目黒セントラルスクエア 21階 東京都品川区上大
 崎3-1-1
URL:https://techplay.jp/event/717696?utm_medium=referral&utm_source=ics&utm
 _campaign=ics
END:VEVENT
END:VCALENDAR
