BEGIN:VCALENDAR
VERSION:2.0
PRODID:-//https://techplay.jp//JP
CALSCALE:GREGORIAN
METHOD:PUBLISH
X-WR-CALDESC:Super Lumion Seminar #02
X-WR-CALNAME:Super Lumion Seminar #02
X-WR-TIMEZONE:Asia/Tokyo
BEGIN:VTIMEZONE
TZID:Asia/Tokyo
BEGIN:STANDARD
DTSTART:19700101T000000
TZOFFSETFROM:+0900
TZOFFSETTO:+0900
TZNAME:JST
END:STANDARD
END:VTIMEZONE
BEGIN:VEVENT
UID:719297@techplay.jp
SUMMARY:Super Lumion Seminar #02
DTSTART;TZID=Asia/Tokyo:20190223T130000
DTEND;TZID=Asia/Tokyo:20190223T150000
DTSTAMP:20260420T013118Z
CREATED:20190210T073532Z
DESCRIPTION:イベント詳細はこちら\nhttps://techplay.jp/event/71929
 7?utm_medium=referral&utm_source=ics&utm_campaign=ics\n\nSuper Lumion Sem
 inar #02\n\nテーマ\n\nコンペに勝つ為に何が必要か？\n\n\n
 概要\n\n新しいLUMIONの活用法や知識、裏技的な使い方な
 どを特別な講師をお迎えしてレクチャーしていただくS
 uper Lumion Seminarシリーズの第二弾！\n新しいLUMIONの活用
 法や知識、裏技的な使い方などを特別な講師をお迎え
 してレクチャーしていただくSuper Lumion Seminarシリーズ
 の第二弾！ 講師に数々のコンペで入賞実績のある株式
 会社日建設計 大庭氏をお迎えし、主に学生を対象にア
 イデアコンペへの取り組み方や、LUMION等を使用した効
 果的なプレゼンテーションについて、過去数々のコン
 ペを通して得たもの（人間関係・お仕事など）をお話
 いただきます。\n\nまた、この講座の内容は収録され後
 日LUMION TVに有料コンテンツとして掲載されます。\n\n【
 無料イベントとの違い】 LUMION中上級者向けへの講習会
 （主に学生を対象）\n【参加者のメリット】 直接質疑
 応答が出来る\n\n\nタイムスケジュール\n\n\n\n\n  時間\n  
 内容\n\n\n\n\n  12:30〜\n  受付開始\n\n\n  13:00〜14:00\n  Super 
 Lumion Seminar\n\n\n  14:00〜15:00\n  交流会\n\n\n  15:00\n  退出\n
 \n\n\n\n※ 当日予告なく時間配分・内容が変更になる可
 能性がございます。\n\n講師紹介\n\n\n\n大庭 拓也\n\n㈱
 日建設計　設計主管\n詳しいプロフィールはこちら\nLUM
 IONコンペ他、コンペ受賞歴\n事前質問はこちら\n\n1982年
 福岡県生まれ。福岡大学建築学科卒業。東京工業大学
 大学院建築学専攻修了。2007年日建設計入社。一級建築
 士。ポーラ五反田ビル（改修）にて2018年度グッドデザ
 イン賞、JIA25年賞を受賞。「作れば作るほど生命にと
 って良い建築」を実務やアイデアコンペを通して模索
 中。テレビ東京「未来シティ研究所」にて自身の修士
 制作が紹介される。\n大庭氏の受賞歴\n・第26回 建築環
 境デザインコンペティション／最優秀賞\n・第16回木材
 活用コンクール／部門賞\n・パッシブデザインコンペ
 ／特別賞\n・第49回セントラル硝子国際建築設計競技／
 入賞\n・Lumion コンペ2016／Architect Technical Talent　優勝\n
 ・Lumion コンペ2017／映像クリエーション賞\n・第44回 日
 新建築設計競技／２等\n・Architecture in Perspective Competitio
 n 2018／Award of Excellence Rendering Section\n・としまアンダー
 ハイウェイ・デザインコンペ／佳作\n\n\n\n\n\n\n参加対
 象\n\n映像クリエイター\n設計士・建築関連業\nデザイ
 ナー\n\n※ リクルーティング、勧誘など、採用目的で
 のイベント参加はお断りしております。\n※ 飲食のみ
 を目的としたご応募・ご来場はご遠慮ください。\n※ 
 補欠者の方は、ご来場いただいてもご入場いただくこ
 とが出来ませんのでご了承ください。\n※ 欠席される
 場合は、お手数ですが速やかにキャンセル処理をお願
 い致します。\n\n持ち物\n\n・名刺2枚\n※ 受付時にお渡
 し下さい。\n\n参加費\n\n一般 3\,000円\n学生 1\,000円\n（
 事前銀行払い：当口座へお振込お願いします）\n三井
 住友銀行　御堂筋支店\n普通　7546869\n名義：ユ）リビ
 ングシージイー）\n\nお問い合わせ\n\nlum@livingcg.jp\n\nハ
 ッシュタグ\n\n#techplayjp\n
LOCATION:ビジョンセンター有楽町  東京都中央区銀座1-6-2 
 銀座Aビル3F 
URL:https://techplay.jp/event/719297?utm_medium=referral&utm_source=ics&utm
 _campaign=ics
END:VEVENT
END:VCALENDAR
