BEGIN:VCALENDAR
VERSION:2.0
PRODID:-//https://techplay.jp//JP
CALSCALE:GREGORIAN
METHOD:PUBLISH
X-WR-CALDESC:Serverless Meetup Tokyo #11
X-WR-CALNAME:Serverless Meetup Tokyo #11
X-WR-TIMEZONE:Asia/Tokyo
BEGIN:VTIMEZONE
TZID:Asia/Tokyo
BEGIN:STANDARD
DTSTART:19700101T000000
TZOFFSETFROM:+0900
TZOFFSETTO:+0900
TZNAME:JST
END:STANDARD
END:VTIMEZONE
BEGIN:VEVENT
UID:719567@techplay.jp
SUMMARY:Serverless Meetup Tokyo #11
DTSTART;TZID=Asia/Tokyo:20190306T190000
DTEND;TZID=Asia/Tokyo:20190306T220000
DTSTAMP:20260422T184859Z
CREATED:20190212T141332Z
DESCRIPTION:イベント詳細はこちら\nhttps://techplay.jp/event/71956
 7?utm_medium=referral&utm_source=ics&utm_campaign=ics\n\n\nはじめに(
 重要事項)\n\n大きなシャッター音はスピーカーの話に
 集中する環境を壊しがちです。撮影する場合は「Microso
 ft Pix」のような無音カメラを使うなど周囲への配慮を
 しましょう。\n電源はありません。\n会場にwifiはあり
 ます\nハッシュタグ #serverlesstokyo\n\nServerless Meetupとその
 スコープについて\nServerless Meetup は全世界の110箇所以
 上で運営されているServerless Architectureやその周辺技術
 のITコミュニティであり、その数は今も増え続けてい
 ます。日本では「東京」「大阪」「札幌」「福岡」で
 定期的に開催されています。\nどのMeetupグループも毎
 月のようにアプリ開発者／プラットフォーマー／フレ
 ームワークメンテナーなどが知見を共有し合っていま
 す。\nAgenda\nひさしぶりの開催となりました。\nMeet the E
 xpert!!\n\n\n\nTimeline\nTitle\nSpeaker\n\n\n\n\n18:55-19:15\nRegistratio
 n and Social\n／\n\n\n19:15-19:20\nOpening Talk - Guidance & CoC\n堀家
  隆宏 (Serverless Operations  LLC. CEO)\n\n\n19:20-19:25\n会場案内
 、告知\n宮﨑 せり (株式会社Speee)\n\n\n19:25-19:30\nServerless
  Days\nMichael H.Oshita\n\n\n19:30-19:50\nサーバーレス失敗談 - D
 ynamoDB編\n肥前 洋佑 (HiCustomer株式会社)\n\n\n19:50-20:10\nエ
 ンジニアとしてのブランクを乗り越えて、Serverlessを使
 って開発した話\n坂本 直樹 (コペル LLC. CEO)\n\n\n5min\n休
 憩\n／\n\n\n20:15-20:35\nServerlessで作る社内ID基盤\n森岡 周
 平 (株式会社Speee)\n\n\n20:35-20:55\n入門 Knative 〜Kubernetesと
 Serverless〜\n杉田 寿憲 (株式会社メルペイ)\n\n\n20:55-21:00\
 nServerless×Slackでアプリを作ってみた話\n坂部 健一 (株
 式会社オープンストリーム)\n\n\n\n21:30までには完全撤
 収\n※タイムテーブルは予告なく変更になることがあ
 ります\nBig Thanks to our Sponsors\n株式会社Speee\n\n場所：株
 式会社Speee(東京都港区六本木4-1-4黒崎ビル4階)\nアクセ
 ス：大江戸線・日比谷線六本木駅(徒歩6分)、南北線六
 本木一丁目駅(徒歩6分)\n4階受付にお越しください。\nht
 tps://speee.jp/\nSpeakers\n肥前 洋佑 (HiCustomer株式会社)\n\n\n20
 12年に株式会社オロに入社。新規事業の開発責任者を
 担当するほか、ベトナム拠点に駐在し現地エンジニア
 の育成などを担当。2017年12月に共同創業者としてHiCusto
 mer株式会社を創業、開発責任者としてサーバーレスア
 ーキテクチャを活用したプロダクト開発を行う。\n\n坂
 本 直樹 (コペル LLC. CEO)\n\n\n複数の会社の顧問として、
 支援を行っています。 スタートアップや新規事業の立
 ち上げ支援、コンセプト・メイキング〜開発チーム立
 ち上げ〜マネジメント支援〜CX向上など \n・登壇内容:
 数年ぶりにエンジニアとして現場復帰しました。 Server
 less Framework、Python、CI/CDなどをゼロから学びながら新規
 事業を立ち上げた話を紹介します。 これからServerless
 を使って開発したい人向けに参考になるような話をし
 ます。\n\n森岡 周平 (株式会社Speee 開発基盤ユニット)\n
 \n\n2016年1月からSpeeeに入社。開発基盤ユニットに所属
 。主としてサーバーサイドエンジニアをやっています
 が、現在はIDaaSの導入を進めています。\n\n杉田 寿憲 (
 株式会社メルペイ)\n\n\n2018年9月からGoとGCPで決済シス
 テムを開発しています。サーバーレスが好きで技術書
 典5ではGoとAWS Lambdaの本を執筆しました。技術書典6で
 はKnativeについて書く予定なのでよろしくお願いします
 ！\n\n坂部 健一 (株式会社オープンストリーム)\n\n\n株
 式会社オープンストリーム所属のPHP・C#エンジニア。
 プログラミング経験1年弱の時期にITベンチャーでプロ
 グラミング教育に従事し、年50人超のエンジニアデビ
 ュー実績を残すも、もっと開発経験を積みたいという
 想いから、SIerへ転身。2019年2月現在担当中の案件でAWS
 に触れたことを契機に、AWS勉強中の駆け出しエンジニ
 アです。\n一方で、自身の作詞作曲した楽曲が、クラ
 スメソッド様の広報キャラクター「めそ子」こと「彩
 木あかり」のキャラクターソングに採用されるなど、
 エンジニア×作曲家としても活動中。\n\nOrganizer\n吉田
 真吾 (セクションナイン)\n\n\nCYDAS CTO / セクションナイ
 ンCEO\nクラウドネイティブなシステム構築・運用のか
 たわら、ServerlessConf TokyoやServerless Meetup Japan(Tokyo/Osaka/Sa
 pporo/Fukuoka)の運営、また各種記事執筆を通じて、日本
 におけるサーバーレスの普及を促進。\n\n堀家隆宏 (Serv
 erless Operations)\n\n\nServerless FrameworkなどのServerless関連のO
 SSのメンテナーや開発者をやっています。仕事ではServe
 rlessアプリケーションの開発やコンサルティングなど
 、複数の会社のパートナーとして、協業や支援を行っ
 ています。\n\n工藤淳（Microsoft MVP for Microsoft Azure）\n\n\n
 道産子。AWSメインの会社でMicrosoft MVP for Azure で Alibaba C
 loud MVPやってます。\nセキュリティやOSS、インフラなど
 様々な分野のコミュニティ運営に携わっています。\n\n
 Michael H.Oshita @ijin (クラウドソース、セクションナイン
 など)\n\n\n数社で技術支援などをおこなっている。\n\n
 中田聡 (オルトプラス)\n\n\nSIerでアプリエンジニアとし
 て物流や金融の基幹系・情報系システムの開発等に従
 事。その後、Webサービスやゲームの開発およびインフ
 ラの設計・構築・運用保守を経て、現在は株式会社オ
 ルトプラスにてインフラ業務の傍ら、技術研究部門「
 オルトプラスラボ」で研究開発を担当。\n\nSocial (after M
 eetup)\n懇親会は主催者側では用意しないので、興味の
 ある方はMeetupの間に気になる人に声をかけてみましょ
 う。\nServerless Community(JP) にジョインしよう！\nコミュ
 ニティメンバー募集\n\n\nサーバーレスの活用について
 情報交換ができるグループを作りました。サーバーレ
 スアーキテクチャを活用する知見などの情報交換にご
 活用ください。\nServerless Community(JP) facebook\nServerless Comm
 unity(JP) slack\n\n
LOCATION:株式会社Speee 東京都港区六本木4-1-4黒崎ビル4階
URL:https://techplay.jp/event/719567?utm_medium=referral&utm_source=ics&utm
 _campaign=ics
END:VEVENT
END:VCALENDAR
