BEGIN:VCALENDAR
VERSION:2.0
PRODID:-//https://techplay.jp//JP
CALSCALE:GREGORIAN
METHOD:PUBLISH
X-WR-CALDESC:IBM BlueHub IncubationProgram Demo Day
X-WR-CALNAME:IBM BlueHub IncubationProgram Demo Day
X-WR-TIMEZONE:Asia/Tokyo
BEGIN:VTIMEZONE
TZID:Asia/Tokyo
BEGIN:STANDARD
DTSTART:19700101T000000
TZOFFSETFROM:+0900
TZOFFSETTO:+0900
TZNAME:JST
END:STANDARD
END:VTIMEZONE
BEGIN:VEVENT
UID:719888@techplay.jp
SUMMARY:IBM BlueHub IncubationProgram Demo Day
DTSTART;TZID=Asia/Tokyo:20190318T150000
DTEND;TZID=Asia/Tokyo:20190318T184000
DTSTAMP:20260420T040837Z
CREATED:20190215T043143Z
DESCRIPTION:イベント詳細はこちら\nhttps://techplay.jp/event/71988
 8?utm_medium=referral&utm_source=ics&utm_campaign=ics\n\n\n\nIBM BlueHub 
 IncubationProgram Demo Day\n\n概要\n\nテクノロジーで日本をア
 ップデートする\n急速に進化するテクノロジーを、人
 と社会の発展にどのように繋げていくべきなのか？\n
 イノベーション創出を目指し、さまざまな企業と共に
 テクノロジーでの変革に挑むIBM。 \nテクノロジーによ
 る日本発の革新的事業の創出を目指し、プログラムの
 第5期目として選抜された、シード・アーリーフェーズ
 のスタートアップ。\nIBMと著名ベンチャーキャピタリ
 ストによる半年間のメンタリングの成果として、企業
 の新規事業責任者や投資家を前にプレゼンテーション
 を行います。\nまた、各分野でイノベーションを追求
 し続けるキーパーソンと、「テクノロジーで日本をア
 ップデートする」未来を、共に考える一日です。\n\nSPE
 CIAL SESSION\n\nテクノロジーで日本をアップデートする\n
 各分野でイノベーションを追求するリーダーによるパ
 ネル・ディスカッション 日本企業が世界で活躍するに
 は？\n次世代テクノロジーの進化と実装について考察
 します。\n\n\nパネリスト\n\n伊藤羊一氏\nヤフー株式会
 社コーポレートエバンジェリスト Yahoo!アカデミア学長
  / 株式会社ウェイウェイ代表取締役\n\n玉川憲氏 \n株式
 会社ソラコム代表取締役社長\n\n池田和明 \n日本アイ・
 ビー・エム株式会社執行役員 グローバルビジネスサー
 ビス事業 戦略コンサルティング＆デザイン統括\n\nナ
 ビゲーター\n\n谷中修吾氏\nBBT大学 グローバル経営学科
 長・教授 / 地方創生イノベータープラットフォーム INS
 PIRE 代表理事\n\n第5期 採択スタートアップ 5社\n\n株式
 会社IMPAKT\n中小企業とプロ人材をつなぐプロジェクト
 型海外展開プラットフォームの運営\n\n株式会社グレー
 スイメージング\nMRIおよび乳酸の測定による疲労分析
 サービスの提供\n\n株式会社チュートリアル\nSaaS型RPA「
 Robotic Crowd」の提供\n\n歯っぴー株式会社\n口腔内情報を
 価値へ変換するデンタルチェックの提供\n\npickupon株式
 会社\n通話内容を記録・分析し、SFAへ自動入力するサ
 ービス「 pickupon（ピクポン）」の提供\n\n第4期卒業生
 によるプレゼン\n\n沢登哲也氏コネクテッドロボティク
 ス株式会社 代表取締役社長\n\n小関賢次氏株式会社ト
 ラジェクトリー 代表取締役CEO\n\n育成プログラムを支
 えたメンター\n\n福井俊平氏Archetype Ventures Inc. Managing Par
 tner\n\n金丸将宏氏Beyond Next Ventures Inc. Manager\n\n倉林陽氏D
 NX Ventures Managing Director\n\n浅田賢氏NTT DOCOMO Ventures\, Inc. M
 anaging Director\n\n五嶋一人氏iSGS Investment Works Inc. 代表取
 締役/代表パートナー\n\n開催概要\n\n◆日時\n2018年3月18
 日(月) 15:00 ～ 18:40（受付開始：14:30）\n◆会場\n東京ミ
 ッドタウン日比谷6F BaseQ（東京都千代田区有楽町1-1-2）
 \n◆参加費\n無料\n◆内容\n・スペシャル・セッション
 　(パネルディスカッション)\n・第5期採択スタートア
 ップによるプレゼンテーション\n・事例紹介、第4期卒
 業生によるスピーチ\n・結果発表、表彰\n・スタートア
 ップ・ブース商談、ネットワーキング\n\n共催\n\nオー
 プンイノベーションプラットフォーム『eiicon』\n\n\n\nIB
 M BlueHub\n\n\n\nイノベーションパートナー\n\nBASE Q\n\n\n
LOCATION:東京ミッドタウン日比谷　BASEQ  東京都千代田区
 有楽町一丁目１番2号　東京ミッドタウン日比谷　6階
URL:https://techplay.jp/event/719888?utm_medium=referral&utm_source=ics&utm
 _campaign=ics
END:VEVENT
END:VCALENDAR
