BEGIN:VCALENDAR
VERSION:2.0
PRODID:-//https://techplay.jp//JP
CALSCALE:GREGORIAN
METHOD:PUBLISH
X-WR-CALDESC:第1回 Looking Glass ハッカソン
X-WR-CALNAME:第1回 Looking Glass ハッカソン
X-WR-TIMEZONE:Asia/Tokyo
BEGIN:VTIMEZONE
TZID:Asia/Tokyo
BEGIN:STANDARD
DTSTART:19700101T000000
TZOFFSETFROM:+0900
TZOFFSETTO:+0900
TZNAME:JST
END:STANDARD
END:VTIMEZONE
BEGIN:VEVENT
UID:720517@techplay.jp
SUMMARY:第1回 Looking Glass ハッカソン
DTSTART;TZID=Asia/Tokyo:20190330T090000
DTEND;TZID=Asia/Tokyo:20190331T210000
DTSTAMP:20260423T212623Z
CREATED:20190219T141539Z
DESCRIPTION:イベント詳細はこちら\nhttps://techplay.jp/event/72051
 7?utm_medium=referral&utm_source=ics&utm_campaign=ics\n\n概要\n話題
 沸騰の Looking Glass にフォーカスしたハッカソンを開催
 します。みんなでアイディアを出し合って、様々なガ
 ジェットをつなげて、世界に負けない楽しいコンテン
 ツを開発しよう！\n注意(2／22追加)\n「要相談」と書か
 れた枠は事前に相談してください。事前に連絡もなく
 、さらにツイッターやFBなどの連携もなく連絡手段が
 無い方は管理者権限で削除します。よろしくお願い致
 します。\nこんな方に参加してほしい\nアマチュアも歓
 迎です！\n\nプログラマー\nゲーム開発者\nグラフィッ
 クデザイナー\n3Dモデラー\nハードウェアエンジニア\n\n
 ルール\n\n当日発表の「お題」を取り入れたLooking Glass
 らしいコンテンツを作成し、審査員による審査ののち
 優勝チームを決めます\n申し込みはお一人ずつ行いま
 す\n1チームは5名固定にします\n事前にチームを決めて
 きている人たちはそちらを優先しますが、そうでない
 方達は当日チームを決定します\nもし当日ドタキャン
 があった場合は４〜5名/1チームとします(最大10チーム
 にします)\nソロハッカソンはNGとします(当日強制的に
 チームに入って頂きます)\nLooking Glass以外の入出力装置
 に対して特に制限はありませんが、持ち込める機材は
 スーツケースサイズ以下とします\n大きな音を発する
 物、匂いがキツイ物、ハンダ付けなど火気類を使用す
 る物など、十分な設備がないと使用が難しそうな物の
 持ち込みは不可とします\nデスクトップPCの持ち込みは
 許可しますが、ミドルタワークラスまでとします。た
 だし、現地にはVR Ready PCがありますのでそちらを活用
 することをお勧めします\n公序良俗に反するコンテン
 ツを開発しないこととします\n(3/15追加)作成された作
 品は4/3の夜19:30から渋谷FabCafe Tokyoにて展示予定です。
 それぞれのチームから許可を頂く予定です。詳しくは
 こちら\n\n賞品について\n\n最優秀賞：1作品\n審査員に
 よる審査の結果、最も優秀と認められた作品をひとつ
 選出します\n商品: Looking Glass Large! x1 + Looking Glass Standard
  x 4。(チーム内で平和的解決をしてください)\nスポン
 サー: Looking Glass Factory Inc.\n\n\n\nユニティー・テクノロ
 ジーズ・ジャパン賞：1作品\nユニティ・テクノロジー
 ズ・ジャパン合同会社による審査で選ばれたチームに
 進呈します。\n商品: 当日のお楽しみ!\nスポンサー: ユ
 ニティ・テクノロジーズ・ジャパン合同会社\n\n\n\nた
 してん賞：1作品\n株式会社たしてんの@_mer2さんによる
 審査で選ばれたチームに進呈します。\n商品: レンチキ
 ュラー実験セット\nスポンサー: 株式会社たしてん\n\n\n
 \nSTYLY賞：1作品\n株式会社Psychic VR Labによる審査で選ば
 れたチームに進呈します(条件付き。詳しくは当日発表
 )。\n商品: 当日のお楽しみ\nスポンサー: 株式会社Psychic
  VR Lab\n\n\nその他企業賞\n\nあるといいな(スポンサー応
 募をお待ちしております)\n\n審査基準\n\nLooking Glass 度
 ：Looking Glassの特徴を生かした出力ができているか\n完
 成度：アプリとしてビルド済みでデモが可能かどうか\
 nインタラクティブ度：操作していて楽しくなるかどう
 か\nビジュアル度：見た目の美しさ\n\n審査委員\n\nLookin
 g Glass Factory社 CEO Shawn Frayne (予定)\n\n開発環境\nPCとLookin
 g Glass、Leap Motionはその他の機材は持ち込み可能です。
 お持ちでない方のために、下記の機材を会場で貸し出
 します。\n\nLooking Glass：10台予定\nTSUKUMO 開発用PC：10セ
 ット / Project White\n\nスケジュール\n当日の様子を見て変
 更する可能性はあります。\n深夜も作業できますが建
 物の外に出られる時間に制限があります。数回、外出
 時間を設ける予定です。\n\n\n\n日\n時間\n内容\n\n\n\n\n1
 日目\n09:00\n受付・入場開始\n\n\n\n09:30\n開会式・ルール
 説明\n\n\n\n10:00\nハッカソン開始・チーム編成。以降開
 発\n\n\n2日目\n16:00\nハッカソン終了\n\n\n\n16:00\n審査会プ
 レゼン・試遊会開始\n\n\n\n19:00\n審査員による審査会議
 ／参加者は懇親会\n\n\n\n20:00\n試遊会・懇親会終了／審
 査結果発表\n\n\n\n21:00\n撤収開始／現状復帰\n\n\n\n22:00\n
 完全撤収\n\n\n\n当日のお願い\n初心者歓迎ですが、開発
 に必要なハード・ソフトの操作ならびに Looking Glass コ
 ンテンツ制作に関する知識は自習をお願いします\n会
 場設備\n\nゲスト用Wi-Fiをご利用いただけます\n電源は
 譲り合いです\n各自電源タップや延長コードをご用意
 ください\n会場には就寝設備や仮眠設備はありません\n
 飲食は可能です。飲み物は予め多めにご持参ください\
 n未成年の方も参加できるイベントですのでアルコール
 類は厳禁です\nニオイが強い飲食物は避けてください\n
 床やテーブル・イスを汚さないようにしてください\n
 万が一床にこぼしてしまった場合にはすぐにお声掛け
 ください\nスーツケースで持ち込めないサイズの物品
 の持込はご遠慮ください。\n会場内は高温・禁煙・火
 気厳禁です\n発火・発煙する装置類はご利用になれま
 せん\n電気ポットは持ち込めません。お湯は当日運営
 までご相談ください\n防火装置が反応する高温を発す
 る器具やデバイス類もご利用になれません\nもちろん
 タバコもダメです\n\n参加条件\n\n終了後、撤収前に会
 場の後片付けと清掃を手伝っていただきます\nLooking Gla
 ssを所持していなくても参加可能ですが、数に限りが
 あります\n本イベントは夜間を通して行います。運営
 の都合上、満18歳以上の方に限定させていただきます\n
 満18歳以上、満20歳未満の方は、21時に自宅に到着でき
 る時間までに会場を退出、朝は10時前後に会場へ戻る
 という参加時間の制限を付けさせていただきます\n\n審
 査兼試遊時間について\n\n審査員が審査していないタイ
 ミングで参加者同士がコンテンツを試せる時間です\n
 審査員による審査を優先していただきます\n成果物の
 説明などのために必ず一名以上は説明担当として残っ
 てください\n\nスポンサー\n\n\nLooking Glass Factory  Inc. https
 ://lookingglassfactory.com\n\nLooking Glassの貸し出し＆最優秀賞
 ！\n\nTSUKUMO(株式会社Project White) https://kaisya.tsukumo.co.jp\n\
 nVR Ready PCのレンタル\n\nユニティ・テクノロジーズ・ジ
 ャパン合同会社 https://unity3d.com/jp\n\nチームにつきAsset S
 toreバウチャーコード($50分)！＆スポンサー賞！\n\n株式
 会社アスク https://www.ask-corp.jp\n\nフード/ドリンクスポ
 ンサー!\n\n株式会社たしてん https://tasiten.co.jp\n\n審査員
 &スポンサー賞\n\n[株式会社Psychic VR Lab https://psychic-vr-lab
 .com)\n\n審査員&スポンサー賞\n\n[株式会社アカツキ https:
 //aktsk.jp/)\n\n会場提供\n\nフード協賛やライセンス協賛
 、ハードウェア・ソフトウェア協賛を募集致しており
 ます。試遊会の見学をご希望の場合、スポンサー枠で
 ご用意できますので、文末の運営までお問い合わせく
 ださい。\nメディア・取材協力\n\n拡現人(かくげんびと
 )（運営は株式会社ポケット・クエリーズ） http://ar-bito
 .com\n\n取材・見学のお申し込み\n社外秘の機器類が多数
 持ち込まれる可能性が高いイベントですので、イベン
 ト運営の都合上、取材や見学の方は事前にお申し込み
 いただいた方のみとさせていただきます。問い合わせ
 は文末の運営へお願いします。\n運営\n\n主催：ザバイ
 オーネ\n会場提供：株式会社アカツキ　\n\n問い合わせ
 先\n管理者への問い合わせや何らかの方法でザバイオ
 ーネまでご連絡してください。\nその他注意事項\n\n何
 かご質問がある場合は、主催のザバイオーネ ( @z_zabagli
 one )に何らかの方法で連絡してください(Twitter\, FBメッ
 セーンジャー、電話、矢文など)\n当日はカメラ撮影が
 入るかもしれませんので、ご了承ください\n体調不良
 や緊急の業務等、やむを得ない場合をのぞき、当日キ
 ャンセルは控えてください\n都合が悪くなった場合は
 早めのキャンセル処理をお願いします\n自立で動く車
 両や乗り物などの持ち込み及び試乗はOKとなりました(
 要相談)(2/22更新)\n\nスムーズな運営・進行のため、以
 下に該当する方はご参加をお断りする場合がございま
 す。\n\n本イベント内でのリクルーティング活動が目的
 と見られる方\nその他、主催者判断で不適切だと判断
 した方\n\n免責事項\n不定期に内容が変わります。誤字
 脱字などの小さなミスは通知しませんが、明らかに意
 味が変わる場合やルールなどを変えた場合はツイッタ
 ーやメールでお知らせしますので、必ずご確認くださ
 い。
LOCATION:アカツキ 東京都品川区上大崎2-13-30 oak meguro 8階
URL:https://techplay.jp/event/720517?utm_medium=referral&utm_source=ics&utm
 _campaign=ics
END:VEVENT
END:VCALENDAR
