BEGIN:VCALENDAR
VERSION:2.0
PRODID:-//https://techplay.jp//JP
CALSCALE:GREGORIAN
METHOD:PUBLISH
X-WR-CALDESC:JavaScript・Webフロントエンド入門
X-WR-CALNAME:JavaScript・Webフロントエンド入門
X-WR-TIMEZONE:Asia/Tokyo
BEGIN:VTIMEZONE
TZID:Asia/Tokyo
BEGIN:STANDARD
DTSTART:19700101T000000
TZOFFSETFROM:+0900
TZOFFSETTO:+0900
TZNAME:JST
END:STANDARD
END:VTIMEZONE
BEGIN:VEVENT
UID:721333@techplay.jp
SUMMARY:JavaScript・Webフロントエンド入門
DTSTART;TZID=Asia/Tokyo:20190311T194500
DTEND;TZID=Asia/Tokyo:20190311T220000
DTSTAMP:20260421T115246Z
CREATED:20190225T150524Z
DESCRIPTION:イベント詳細はこちら\nhttps://techplay.jp/event/72133
 3?utm_medium=referral&utm_source=ics&utm_campaign=ics\n\nJavaScript・Web
 フロントエンド入門\n\n概要\n\nWebフロントエンド開発
 への導入講座を2時間で行います！\n\n近年Webフロント
 エンドは混沌とした状況にあり、いざ始めてみようと
 思ってもどこから手をつけていいのかわからない、と
 いう悩みが多く見受けられます。本講座では、開発経
 験豊富な講師がWebフォロントエンドのオーバービュー
 を紹介しながら、入門を行います。\n\n講座の前半では
 JavaScriptの入門を行い、後半ではモダンなWebフロントの
 概要として開発環境やTypeScriptに触れていきます。\n\n
 ※JavaScriptの初心者は受講可能ですが、他言語でプログ
 ラミング経験のある方を対象としています。\n※事前
 準備として、Node.js v10のインストールをお願いいたし
 ます（パッケージマネージャーnpmが利用できることを
 確認）\n※講座の進行はGoogle ChromeとVSCodeを使って行い
 ます。同じ環境で受講したい方にはインストールをオ
 ススメしております。\n\n講座を通じて得られること\n\
 n・Web開発への入門ができる\n・動作するインタラクテ
 ィブなUIを作る基礎ができる\n・多岐にわたるWebバック
 エンド開発への導入\n\n内容\n\n\nJavaScriptの基礎文法\n\n
 変数、データ型、リテラル、コメント\n算術演算子、
 比較演算子\nループ、条件分岐\n配列、イテレータ\n関
 数\n-オブジェクト\nクラス\n\n\n\nJavaScriptの言語的特徴\n
 \nDOM操作\nXMLHttpRequest\nPromise、非同期処理\n\n\n\nモダンWe
 bフロントエンドの概要\n\nnode.js / npm\nTypeScript\nWebpack\n
 モダンWebフロントエンドの環境構築 \nTypeScript / Webpack
 のインストール\nWebpackの設定\nTypeScriptの設定\n\n\n\n描
 画フレームワークの概要 \n\nReact.js\n\n\n\n\n\n※ 当日予
 告なく時間配分・内容が変更になる可能性がございま
 す。\n\nこんな人にオススメ\n\n・Webフロントエンドを
 最短で入門したい方\n・JavaScriptへの入門を果たしたい
 方\n・他言語でプログラミングをやったことがある方\n
 ・Webフロントエンドに手をつけようとしたが、情報が
 錯綜していてどこから始めたらよいかわからないとい
 う方\n\n講師\n\n秋澤 一史\n東京理科大学にて画像処理
 を利用したバイオイメージングの研究に従事。また、W
 ebGLフレームワークGrimoire.jsの開発に携わり、2016年度未
 踏スーパークリエータに認定。\n\n\n持ち物\n\n・PC(Node.j
 s v10をインストール済み)\n\n事前準備\n\n\nインストール
 するもの: Node.js v10\n\n\nパッケージマネージャーnpmが利
 用できることを確認\n\nブラウザ (講座の環境: Google Chro
 me)\nエディタ (講座の環境: VSCode)\n\n\n※当講座は二回目
 のご参加に関しては無料で受け付けております。一回
 受けたが、途中参加だったために深い理解が出来なか
 った、もう一度受けて理解を深めたいという要望にお
 応えするためのものです。是非ご利用ください。\n\n※
 2回目の参加は一度同じ講座に出席された方に限定しま
 す。\n\n領収書について\n\n【Stripeで事前決済の方】\nク
 レジットカード会社が発行する明細を領収書の代わり
 としてご利用ください。当社より重複しての領収書発
 行は行なっておりません。\n\n【当日払いの方】\n講座
 後のアンケートにて、「領収書が必要」にチェックを
 入れるようにお願いいたします。領収書をメールにて
 送付させていただきます。\n\n【Paypalの方】\n決済処理
 後にPaypalから送付されるメール内容、またはPaypalの取
 引履歴から該当項目を確認の上、「詳細」をご覧くだ
 さい。それらが領収書の代わりとなります。また、ク
 レジットカード会社発行の利用明細書も領収書として
 ご利用いただけます。（当社より重複しての発行は行
 えません)\n\n受付・入場時間\n\n開始の15分前から\n\nお
 問い合わせ\n\n・メールでのお問い合わせは、info@to-kei.
 net　までご連絡ください。\n・こちらで⇨LINE＠からも
 お問い合わせいただけます。（推奨）\n\n注意事項\n\n
 ・リクルーティング、勧誘、採用活動など、目的に沿
 わない行為につきまして、主催者が相応しくないと判
 断した場合は即刻退出処分とします。全員が気持ちよ
 く過ごすことが出来るよう、ご協力をお願い致します
 。\n・講座内で扱うコンテンツは全て「全人類がわか
 る統計学」に帰属しています。複製はご遠慮ください
 。\n・個人ブログへの講義コンテンツの掲載はご遠慮
 ください。\n・最小遂行人数は「3名」です。開催日の
 前日までにこの人数に達しない場合は中止となります
 。ただし、複数の媒体で募集を行っているので、本サ
 イトの申込者数が最小遂行人数に達しない場合でも開
 催になる場合がございます。もし、中止が決定した場
 合はその時点で「全額返金」し、登録しているメール
 アドレスにご連絡させていただきます。\n\n全人類がわ
 かる統計学とは\n\n統計学の学習サイト、全人類がわか
 る統計学を運営、管理している団体です。統計学とそ
 の関連分野について、出来るだけわかりやすく多くの
 人々に届けるということを目指して活動しています。\
 n
LOCATION:秋葉原駅徒歩5分 東京都台東区台東１丁目11番4号 
 誠心Oビル 3階
URL:https://techplay.jp/event/721333?utm_medium=referral&utm_source=ics&utm
 _campaign=ics
END:VEVENT
END:VCALENDAR
