BEGIN:VCALENDAR
VERSION:2.0
PRODID:-//https://techplay.jp//JP
CALSCALE:GREGORIAN
METHOD:PUBLISH
X-WR-CALDESC:Blueqat Summit Tokyo 2019
X-WR-CALNAME:Blueqat Summit Tokyo 2019
X-WR-TIMEZONE:Asia/Tokyo
BEGIN:VTIMEZONE
TZID:Asia/Tokyo
BEGIN:STANDARD
DTSTART:19700101T000000
TZOFFSETFROM:+0900
TZOFFSETTO:+0900
TZNAME:JST
END:STANDARD
END:VTIMEZONE
BEGIN:VEVENT
UID:721825@techplay.jp
SUMMARY:Blueqat Summit Tokyo 2019
DTSTART;TZID=Asia/Tokyo:20190530T160000
DTEND;TZID=Asia/Tokyo:20190530T200000
DTSTAMP:20260422T173647Z
CREATED:20190228T211234Z
DESCRIPTION:イベント詳細はこちら\nhttps://techplay.jp/event/72182
 5?utm_medium=referral&utm_source=ics&utm_campaign=ics\n\nはじめに\n
 最近ではようやく少しずつ量子コンピュータ向けのア
 プリケーション開発が進んできました。ここでは主に
 開発者に視点を当てて、量子コンピュータで行なって
 いるアプリケーション開発者向けの情報交換と発表を
 メインに行いたいと思います。\nコンセプト\n経済が回
 ってきてBlueqatをもっと活用したいという人が増えてき
 ました。MDRというベンチャーの元ではうまく事業化やP
 oCに活用は難しいと思います（ベンチャーの運用する
 ソフトはいつなくなるかわからないため）。そのため
 、Blueqatというせっかく立ち上がったブランドをQuantum C
 omputing for Everyoneということで、みんなが安心して継続
 的に活用できる方法を模索します。そのために、今開
 発しているものを持っている人や、これから活用した
 い人、またはBlueqatじゃないけど量子計算しているとい
 う人など柔軟にユーザーを受け入れたいと思います。\
 nタイムテーブル\n順次公開いたします。\n時間と内容
 は変更することがあります。\n\n\n\n時間\n内容\n発表者\
 n\n\n\n\n16:00-16:10\n注意事項\n開催者\n\n\n16:10-16:30\nはじめ
 に&AI Academy\nYuichiro Minato\n\n\n16:30-16:50\nゲーム\nAsaEagle\n\n
 \n16:50-17:10\n勉強会\nLE宮地\n\n\n17:10-17:30\nFPGA\neric\n\n\n17:3
 0-17:40\n休憩\n\n\n\n17:40-18:00\nゲーム\ncute_na_cat\n\n\n18:00-18:
 20\n量子化学\nyuji_mochizuki\n\n\n18:20-18:40\nQgate\nshin-morino\n\n
 \n18:40-19:00\nblueqatについて\ntakumi-kato\n\n\n\n懇親会\n19:00-2
 0:00は懇親会です！お気軽にご参加ください。\n19:00-少
 しスポンサー発表があります。\n勉強会オンラインコ
 ミュニティ\n随時情報の更新や勉強会の資料が手に入
 ります。わからないところを質問したり、ニュースの
 交換があります。\n下記招待コードよりぜひご参加く
 ださい。\n日本語版\nhttps://join.slack.com/t/mdr-qc/shared_invite
 /enQtMzgxNDI3MTAyNzA3LThmYmRhZjkwYzFiZjRjNWZkNzJhOWMwOWNiYzgxYjdkNWE4ODA5
 ZWExZGYwZjFjM2RmNjE2ODJlYjgyNzNkNjY
LOCATION:株式会社ナビタイムジャパン 東京都港区南青山3-
 8-38 南青山東急ビル 1F
URL:https://techplay.jp/event/721825?utm_medium=referral&utm_source=ics&utm
 _campaign=ics
END:VEVENT
END:VCALENDAR
