BEGIN:VCALENDAR
VERSION:2.0
PRODID:-//https://techplay.jp//JP
CALSCALE:GREGORIAN
METHOD:PUBLISH
X-WR-CALDESC:[増枠]Rakuten Commerce QA Night#1
X-WR-CALNAME:[増枠]Rakuten Commerce QA Night#1
X-WR-TIMEZONE:Asia/Tokyo
BEGIN:VTIMEZONE
TZID:Asia/Tokyo
BEGIN:STANDARD
DTSTART:19700101T000000
TZOFFSETFROM:+0900
TZOFFSETTO:+0900
TZNAME:JST
END:STANDARD
END:VTIMEZONE
BEGIN:VEVENT
UID:721888@techplay.jp
SUMMARY:[増枠]Rakuten Commerce QA Night#1
DTSTART;TZID=Asia/Tokyo:20190424T190000
DTEND;TZID=Asia/Tokyo:20190424T220000
DTSTAMP:20260422T154400Z
CREATED:20190301T061209Z
DESCRIPTION:イベント詳細はこちら\nhttps://techplay.jp/event/72188
 8?utm_medium=referral&utm_source=ics&utm_campaign=ics\n\nAbstract/開催
 概要\nRakuten Commerce Company which focusing on shopping\, living and 
 leisure services provides tons of products and applications.\nIn order to
  reduce the risk and keep providing reliable and safty service. the prese
 nce of "QA engineers" are essential for our business.\nToday we would lik
 e to introduce the activities of QA engineers in the commerce company and
  have a casual disscussion with you.\n楽天コマースカンパニー
 ではお買い物や生活、レジャーに関するサービスを中
 心に、数々のプロダクトやアプリを提供しています。\
 nリスクを低減し、お客様に常に確実かつ安全なサービ
 ス提供するためにはその品質を守る「QAエンジニア」
 の存在が欠かせません。\n本日はコマースカンパニー
 内のQAエンジニアの実際の取り組みをご紹介させてい
 ただいたくとともに、皆様からのQ&Aにお答えしたりし
 ながら、カジュアルにお話しさせていただきたいと思
 います。\nTarget/ターゲット\n\nQA Engineers\nThose who intereste
 d in QA engineers/QAエンジニアに興味のある方\n\nThis conferen
 ce will be provided in both of Japanese lang and English lang.\nこのカ
 ンファレンスは日本語の発表と英語での発表両方含み
 ます\n皆様奮ってご参加ください\nDate&Place/日程・場所\
 n\nApr 24th 19:00-21:00\nRakuten HQ Conference room/楽天本社内(カ
 ンファレンスルーム)\n\nPresenters/登壇者\n\nAutomation testin
 g for Leisure Product/@emurins (日本語)\nTest Automation at Rakuten Tr
 avel /Cayetano Clint and Chiang ChiLun (English)\nRakuten QA group and Au
 tomation team/ Mayur Gondhalekar (English)\nRakuten QA Group Introduction
  & Best Practices/ Yusuke Nakamura 中村 祐輔(日本語)\n\nProgram/
 プログラム\n\n\n\nDuration/時間\nTitle/タイトル\nNote/備考\n
 \n\n\n\n18:30-\nReception/受付開始\nReception opens  until 20:00. so 
 please contact  @freddiefujiwara(Twitter ID) if you come after closing of
  reception./受付は20:00までなので　それ以降いらっしゃ
 る方は twitterで@freddiefujiwaraまでご連絡ください\n\n\n19:0
 0-\nVenue guide/会場案内\n\n\n\n19:05-\nIntroduction to Rakuten Comme
 rce QA Night\n\n\n\n19:10-\nTech Talk 25min x 2\nAutomation Testing for L
 eisure Service by @emurinsTest Automation at Rakuten Travel by Cayetano C
 lint and Chiang ChiLun (English)\n\n\n20:00\nBreak/休憩\n\n\n\n20:10-\n
 Tech Talk 25min x 2\nRakuten QA group and Automation team/ Mayur Gondhale
 kar (English)Rakuten QA Group Introduction & Best Practices/ Yusuke Nakam
 ura 中村 祐輔\n\n\n21:00-22:00\nParty/懇親会\nParty will be held a
 t the same place of conference./そのままの会場で懇親会を行
 います\n\n\n\nThings necessary/当日ご持参いただくもの\n\nBu
 siness Card/名刺一枚\n\n※The Business card  and  the name and compa
 ny name you filled in will be used only for the smooth reception of the c
 onference./受付時に名刺を1枚頂戴します。受付時に頂い
 た名刺、ご記入頂いた氏名・会社名は、当日の受付を
 スムーズに行うために利用します。プライバシーポリ
 シー \nImportant notice/その他注意事項\nConference room/会場
 諸注意\n\nTo go to other floors(in office areas) is prohibited/ゲス
 トはオフィスエリア等、他のフロアに行くことはでき
 ません。\nYou can use Vending machine which located on the same floor
  of the restroom to get some drinks /ドリンク自動販売機とトイ
 レは同じフロアにあります。 \nPlease ask conference staff if 
 you want to use vending machine or restroom./ゲストは会場スタッ
 フの案内で上記エリアに行くことができます。\n\nExitin
 g rule/退場時の注意\n\nPlease follow conference staff to use lift t
 o 2F/イベントスタッフがイベントの場所から2Fまでゲス
 トを案内します。\nPlease ask staff  if you want to leave from thi
 s conference/早めにする退場の必要がある場合は、イベン
 トスタッフにお声掛けください。\nStaff will collect your gu
 est card at the exit. 出口付近で、イベントスタッフがゲス
 トカード等を回収させていただきます\n
LOCATION:楽天クリムゾンハウス 東京都世田谷区玉川一丁
 目14番1号
URL:https://techplay.jp/event/721888?utm_medium=referral&utm_source=ics&utm
 _campaign=ics
END:VEVENT
END:VCALENDAR
