BEGIN:VCALENDAR
VERSION:2.0
PRODID:-//https://techplay.jp//JP
CALSCALE:GREGORIAN
METHOD:PUBLISH
X-WR-CALDESC:一晩でKubernetesを覚えて帰ろう。ワンナイトBoot
 Camp! -- cndjp#10
X-WR-CALNAME:一晩でKubernetesを覚えて帰ろう。ワンナイトBoot
 Camp! -- cndjp#10
X-WR-TIMEZONE:Asia/Tokyo
BEGIN:VTIMEZONE
TZID:Asia/Tokyo
BEGIN:STANDARD
DTSTART:19700101T000000
TZOFFSETFROM:+0900
TZOFFSETTO:+0900
TZNAME:JST
END:STANDARD
END:VTIMEZONE
BEGIN:VEVENT
UID:722371@techplay.jp
SUMMARY:一晩でKubernetesを覚えて帰ろう。ワンナイトBootCamp!
  -- cndjp#10
DTSTART;TZID=Asia/Tokyo:20190325T190000
DTEND;TZID=Asia/Tokyo:20190325T220000
DTSTAMP:20260423T144238Z
CREATED:20190305T061021Z
DESCRIPTION:イベント詳細はこちら\nhttps://techplay.jp/event/72237
 1?utm_medium=referral&utm_source=ics&utm_campaign=ics\n\n勉強会の概
 要\nタイトルの通り、一晩でKubernetesを大体覚えて帰れ
 る初学者向けの基礎編です。\nKubernetesがコンテナ・オ
 ーケストレーターのデファクトの地位を確立したと言
 われて久しい昨今、皆さんいかがお過ごしでしょうか
 。\nこの度cndjpは、新たにKubernetesを学びたい・復習し
 たい皆さんのための入門編を用意いたしました。\n新
 年度新学期への準備に、コンテナ・オーケストレータ
 ーの広く、奥深い世界に飛び込んでみませんか。\n勉
 強会の詳細\nタイムテーブル\n\n\n\n時間\nメニュー\nス
 ピーカー\n\n\n\n\n18:30-19:00\n開場\n-\n\n\n19:00-19:05\nごあい
 さつ\n\n\n\n19:05-19:15\n「1. イントロダクション」\n@hhirosh
 ell\n\n\n19:15-19:55\n「2. Kubernetesの基礎」\n@yosshi_\n\n\n19:55-2
 0:05\n休憩\n-\n\n\n20:05-20:25\n「3. 動いているところを見て
 みよう！」\n@hhiroshell\n\n\n20:25-20:55\n「4. Kubernetesのアー
 キテクチャと発展的な使い方」\n@nnao45\n\n\n20:55-\n懇親
 タイム開始\n-\n\n\n21:00-21:20\nQ&Aタイム\n各登壇者\n\n\n22:0
 0\n完全撤収\n-\n\n\n\n全セッション目次\n※内容は変更と
 なる場合があります。\n\n\nイントロ: (10 min)\n\nコンテ
 ナ・オーケストレーターとは\nなぜコンテナ・オーケ
 ストレーターが必要か\nKubernetesのよいところ\n\n\n\nKuber
 netesの基礎: (40 min)\n\nKubernetesの全体像\nkubectl、クラス
 ター、コンテナレジストリ\n\n\n基本的な構成要素\nWorkl
 oad\nNode / Pod / Deployment\n\n\nDiscovery & LB\nService\n\n\nConfig\nCo
 nfigMap / Secret\n\n\nMetadata\nNamespace / Label & Label Selector\n\n\n\
 n\nkubectlによるオペレーション\nManifestファイルを中心
 にしたオペレーション\nよく使うkubectlコマンド\n\n\n\n\n
 \n動いているところを見てみよう (20 min)\n\nクラスター
 可視化のためのツールを使って、実際に動いていると
 ころを見ながら理解を深めましょう\n\n\n\nKubernetesのア
 ーキテクチャと発展的な使い方 (30 min)\n\nAPI Serverを中
 心としたControl Loopのはなし\nアクセス権制御というかAP
 Iのところでやる事的な\nRole Based Access Control\nAdmission Con
 trol\n\n\nCustom Resource Definition\n\n\n\n想定参加者\n\nKubernetes
 をこれから勉強する方\nKubernetesを体系立てて復習した
 い方\n\n持ち物\n\n名刺1枚\n\n諸注意\n会場への入り方に
 ついて\n受付票は不要です。登録時のお名前とご所属
 がわかる名刺を、13Fセミナールーム前受付にてご提示
 ください。\n名刺を持参いただかなかった場合は身分
 証明書ご提示ください。身分証明書での確認もできな
 かった場合は来場をお断りすることがありますので、
 ご了承ください。\nお願い\nビルのセキュリティ管理の
 ため、あらかじめ本名、所属、メールアドレスをお知
 らせ頂いています。\n申込の際に表示されるフォーム
 から、ご入力をお願い致します（もちろん目的外利用
 はいたしません）。
LOCATION:オラクル青山センター 13Fセミナールーム 〒107-006
 1 東京都港区北青山2丁目5-8
URL:https://techplay.jp/event/722371?utm_medium=referral&utm_source=ics&utm
 _campaign=ics
END:VEVENT
END:VCALENDAR
