BEGIN:VCALENDAR
VERSION:2.0
PRODID:-//https://techplay.jp//JP
CALSCALE:GREGORIAN
METHOD:PUBLISH
X-WR-CALDESC:Android Architecture Components 勉強会 #5
X-WR-CALNAME:Android Architecture Components 勉強会 #5
X-WR-TIMEZONE:Asia/Tokyo
BEGIN:VTIMEZONE
TZID:Asia/Tokyo
BEGIN:STANDARD
DTSTART:19700101T000000
TZOFFSETFROM:+0900
TZOFFSETTO:+0900
TZNAME:JST
END:STANDARD
END:VTIMEZONE
BEGIN:VEVENT
UID:722372@techplay.jp
SUMMARY:Android Architecture Components 勉強会 #5
DTSTART;TZID=Asia/Tokyo:20190325T190000
DTEND;TZID=Asia/Tokyo:20190325T220000
DTSTAMP:20260422T152844Z
CREATED:20190305T061022Z
DESCRIPTION:イベント詳細はこちら\nhttps://techplay.jp/event/72237
 2?utm_medium=referral&utm_source=ics&utm_campaign=ics\n\nGoogle社員とG
 oogle Developer ExpertによるAndroid勉強会です。\nAndroid Archite
 cture Components は Android アプリの設計をよりよいものに
 するために Google が公開しているライブラリです。\n昨
 年好評のうちに全四回を終えた Android Architecture Component
 s 勉強会が帰ってきました。\n予定\n去年4回開催しまし
 た。 \n第5回: Lifecycle\, ViewModel\, LiveData の復習 ← 今コ
 コ\n第6回: Room の復習、Paging\n第7回: WorkManager\n第8回: Nav
 igation\n※ 予定は変更されることがあります。\n今回の
 内容\n第5回は Lifecycle\, ViewModel\, LiveData の復習です。\n
 第1回から第3回までに取り上げた Lifecycle\, ViewModel\, Live
 Data の内容をおさらいします。\nhttps://developer.android.com/
 topic/libraries/architecture/index.html\nAndroid Studio 3.3.1 以上が
 インストールされたPCをお持ち下さい。\nhttps://developer.
 android.com/studio/index.html \nタイムテーブル\n\n\n\n時間\n項
 目\n\n\n\n\n19:00～19:30\n受付&フード・ドリンク配布\n\n\n19
 :30～19:35\n挨拶＆説明\n\n\n19:35～20:15\nAndroid Architecture Com
 ponents の説明\n\n\n20:15～20:25\n休憩\n\n\n20:25～22:00\n課題
 取り組み\n\n\n\n注意事項\nAndroid Studio 3.3.1 以上がインス
 トールされたPCをお持ち下さい。\nhttps://developer.android.c
 om/studio/index.html \n会場は広い部屋ですが電源の数に余
 裕がありません。\n充電可能な区画を設ける予定です
 が、全員分は足りませんので、電池のゆとりは心のゆ
 とりの精神で、なるべくバッテリーに余裕がある状態
 にしておいて頂けると助かります。\nConnpass お申し込
 み時に入館手続きに必要となる、お名前のご記入をア
 ンケートで取っております\n事前に入館手続きを行い
 ますので、お申し込み時にはアンケートを必ずご記入
 ください。\n受付は、入館の手続き上 19:30 で締め切り
 とさせていただきます。\n19:30 を越えますと入館がで
 きなくなってしまいますのでご注意ください。\nアン
 ケートのお願い\n今後のイベント運営のため、アンケ
 ートの回答をお願いしております。\nお手数ですが、
 ご回答をお願いいたします。\nhttps://goo.gl/forms/JNJ3Noe5hch
 izYpI2
LOCATION:Google Tokyoオフィス 東京都港区六本木6-11-10 六本木
 ヒルズ森タワー43F
URL:https://techplay.jp/event/722372?utm_medium=referral&utm_source=ics&utm
 _campaign=ics
END:VEVENT
END:VCALENDAR
