BEGIN:VCALENDAR
VERSION:2.0
PRODID:-//https://techplay.jp//JP
CALSCALE:GREGORIAN
METHOD:PUBLISH
X-WR-CALDESC:DIST.26 「Webサービスの個性を支えるデザイン」
X-WR-CALNAME:DIST.26 「Webサービスの個性を支えるデザイン」
X-WR-TIMEZONE:Asia/Tokyo
BEGIN:VTIMEZONE
TZID:Asia/Tokyo
BEGIN:STANDARD
DTSTART:19700101T000000
TZOFFSETFROM:+0900
TZOFFSETTO:+0900
TZNAME:JST
END:STANDARD
END:VTIMEZONE
BEGIN:VEVENT
UID:722691@techplay.jp
SUMMARY:DIST.26 「Webサービスの個性を支えるデザイン」
DTSTART;TZID=Asia/Tokyo:20190426T190000
DTEND;TZID=Asia/Tokyo:20190426T210000
DTSTAMP:20260422T195349Z
CREATED:20190306T141246Z
DESCRIPTION:イベント詳細はこちら\nhttps://techplay.jp/event/72269
 1?utm_medium=referral&utm_source=ics&utm_campaign=ics\n\n更新履歴\n\n
 \n\n更新日時\n内容\n\n\n\n\n4/26 16:12\n当日キャンセル数を
 鑑み、当日決済枠の定員を若干増枠しました。\n\n\n4/25
  18:03\n赤塚氏のセッションタイトルを「認知パターン
 から考えるesaらしさのデザイン」に更新しました。\n\n
 \n4/25 17:40\nLTの発表順を確定しました。\n\n\n4/3 6:40\nLT「
 すてきって言ってもらえるECサイトを作るときに考え
 ていること」を追加しました。\n\n\n3/29 16:25\n谷氏のLT
 内容が確定し、タイトルと概要を更新しました。\n\n\n3
 /25 18:35\n羽野氏のLT内容が確定し、タイトルと概要を更
 新しました。\n\n\n3/25 12:15\n好評につき、事前決済枠（
 勉強会のみ・椅子のみ）を急遽追加しました。机なし
 、椅子のみのお席となります。\n\n\n3/25 11:52\nLT「興味
 の向こう側へのデザイン」、「キナリノで向き合って
 いる「ふつう」のこと。」を追加しました。\n\n\n3/15 14
 :50\n事前決済枠（勉強会のみ）を若干名増枠しました
 。\n\n\n3/12 22:08\n申し込み状況に応じて、各枠の定員を
 調整しました。\n\n\n3/12 15:48\nLT「キッチハイクのデザ
 インで大事にしていること（仮）」を追加しました。\
 n\n\n3/7 9:50\n申込状況を鑑みて会場を拡張し、定員数を
 大幅に増やしました。\n\n\n3/6 21:07\nLT「デザインシステ
 ム、ガイドラインのいち項目の話（仮）」を追加しま
 した。\n\n\n3/6 18:15\n定員数を調整しました。\n\n\n3/6 17:5
 0\nイベントページを公開しました。\n\n\n\nイベント概
 要\nUI/UXの重要性が叫ばれ、より良いユーザー体験を作
 り出すための努力が様々な角度から行われています。
 使いやすさを形成するユーザビリティ、ユーザーの行
 動を円滑に導くインターフェースなど、どれもデザイ
 ナーにとって重要な領域です。\nその一方で、似通っ
 た機能を持つ同一ジャンルのWebサービスがあるとき、
 時に私たちはその見た目や雰囲気、印象で選ぶことが
 あります。\nAirbnbやTEDなどデザイン主導型企業で導入
 されている、デザインシステムを解説する書籍『Design 
 Systems』（Alla Kholmatova著、邦題：デジタルプロダクトの
 ためのデザインシステム実践ガイド）では、このよう
 なWebサービスの気風、特性、性格を形成するデザイン
 のことを、認知パターンと呼んでいます。\nDIST.26では
 、デザインにおける広い文脈の中でもこの認知パター
 ンにフォーカスし、Webサービスの個性を醸成するデザ
 イン、スタイルを作り出す上で、デザイナー自身が取
 り組んでいることを語り合います。\nLTスピーカー募集
 ！\nLTスピーカーの募集は終了しました。ご協力ありが
 とうございました。\nLTスピーカーを希望される方を広
 く募集します。時間は5分、内容は「Webサービスの個性
 を支えるデザイン（具体的にはイベント概要にある、
 認知パターンに該当するような事柄）」にまつわるこ
 とであれば、何でもOKです。例としては、新しいブラ
 ンドにおけるカラーリングの決め方、フォントをどう
 選んでいるのか、自社サービスのデザインのために参
 考にしたサイト、などです。\n希望者は、「LT希望枠」
 からお申し込みください。なお、LTスピーカーの方は
 参加費が無料となります。懇親会は実費（4\,000円）で
 ご参加いただけます。\n対象\n\nWebサービスの企画、制
 作、運営に携わる方\nWebデザイン全般に携わる方\n学生
 でWeb制作に興味を持っている方\n\nセッション紹介\n認
 知パターンから考えるesaらしさのデザイン（20分）\nesa
  LLC デザイナー/Co-founder 赤塚 妙子 （AKATSUKA Taeko）\nesa
 は、2\,500を超える会社・チームが利用する情報共有サ
 ービスです。Wikiやグループウェアなど多くの類似サー
 ビスがある中で、人々はなぜesaを選んでいるのでしょ
 うか？　本セッションでは、esaのデザインを作り続け
 るデザイナー/Co-founderの赤塚氏をお招きし、そのデザ
 インプロセスの実際から、幅広いユーザーに支持を得
 るサービスデザインの裏側についてお話しいただきま
 す。\n※本セッションは、2018年6月30日に行われたハッ
 カーズチャンプルー2018でのセッションの再構築版です
 。\n\nデザインの方針をどう決めているのか\nデザイン
 の比較・検討プロセス紹介\nタイポグラフィのこだわ
 り\n\n「次世代デザインツールのデザイン」（20分）\nST
 UDIO株式会社 CEO/デザイナー 石井 穣 （ISHII Yutaka）\nSTUDI
 Oは、コーディングなしでWebサイトを作成・公開できる
 デザインツール。現在海外を含む3万人以上のユーザー
 に愛用されています。世界中のスタートアップが新規
 プロダクトを投稿するProduct Huntにおいて日本初のデイ
 リーランキング世界1位に選出されたこともあり、大き
 な注目を集めています。本セッションでは、自らデザ
 イン、マーケティングに携わるCEO/デザイナーの石井氏
 に、デザインツールとしての訴求において重視してい
 ること、動画やLP、SNSでの一貫したブランディングと
 その取り組みなどについてご紹介いただきます。\n\nSTU
 DIOを構成する2つのデザイン要素\nブランド醸成で気を
 つけていること\n世界で戦えるプロダクトにするため
 に気をつけていること\n\nLT紹介\n「すてきって言って
 もらえるECサイトを作るときに考えていること」\nデザ
 イナー/EC開発 たかはし ひろみ （TAKAHASHI Hiromi）\nスタ
 ートアップでECサイトを作るときに気をつけているこ
 とや参考にしている海外事例をお話しします。\n「理
 想のカラーパレットをもとめて」\n株式会社サイバー
 エージェント UXエンジニア 谷 拓樹 （TANI Hiroki）\nサー
 ビス、プロダクトごとで異なるカラーパレット。デザ
 イナー誰しもがきっとその管理で悩むことがあるはず
 。システム、アクセシビリティなどを考慮した理想的
 なカラーパレットの管理方法があるのか？をテーマに
 話します。\n「キナリノで向き合っている「ふつう」
 のこと。」\n株式会社カカクコム デザイナー 奥村 元 
 （OKUMURA Hajime）\nキナリノというメディアにおいて、デ
 ザイナ視点で日々考えていることを紹介させていただ
 きます。\n「興味の向こう側へのデザイン」\nハイジ・
 インターフェイス株式会社 デザイナー 本多 美優 （HON
 DA Miyu）\n世の中にはいろんなサービスやモノ、アイデ
 アがあふれています。それらをちゃんと届けるために
 、私たちデザイナーが提供する側と受け取る側とのあ
 いだに立って想像することについての話をします。\n
 「キッチハイクっぽい「ことば」のデザイン」\n株式
 会社キッチハイク デザイナー 羽野 めぐみ （HANO Megumi
 ）\nサービス運営において、ユーザーとのインターフ
 ェースになるものはいくつかあります。プロダクト・
 メディア・SNS発信などアウトプットの方法は様々です
 が、「ことば/伝え方」は重要な要素のひとつだと日々
 感じています。今回は「ことば」にフォーカスして、
 私達が普段意識している「キッチハイクっぽい」伝え
 方や言葉の選び方をお話します。\n参加費\n勉強会のみ
 \n1\,000円（当日券：一般1\,200円、学割500円）\n\nPayPalに
 よる事前決済、または当日支払いで参加費をお支払い
 ください。\n当日受付で学生証をご提示いただくと、
 学割料金でご参加いただけます。\nご提示がない場合
 、一般料金でのご参加となりますので、あらかじめご
 了承ください。\n事前決済、および懇親会参加を含め
 た学割枠は、今のところありません。\n\n\n\n勉強会＋
 懇親会\n5\,000円\n\n勉強会に加え、着席しての懇親会（4
 \,000円相当のコース料理＋飲み放題）にご参加いただ
 けます。\nPayPalによる事前決済のみとなります。\n懇親
 会のみの参加は受け付けていません。\n懇親会にはア
 ルコールが提供されるため、未成年はご参加いただけ
 ません。\n懇親会は完全禁煙です。\n喫煙者/非喫煙者
 の両者が過ごしやすい空間を作るため、ご協力をお願
 いいたします。\n喫煙時は近隣の喫煙スペースをご利
 用ください。\n懇親会が行われる店舗は喫煙可ですの
 で、他の席からの煙が流れてくる可能性はあります。\
 n\n\n\n事前決済についての注意事項\n\n具体的な流れは
 、PayPalによる事前決済についてをご参考ください。\n
 キャンセル・払い戻しについては、キャンセルポリシ
 ーに従って対応します。\n\nDISTの収支は、すべてGitHub W
 ikiで公表しています。\n会場\n中野セントラルパーク 
 カンファレンス B1F コンベンションホール（アクセス
 マップ）\n\nJR中野駅 北口改札から徒歩5分\n詳しい道順
 をご参考ください\n\nタイムテーブル\n\n\n\n時刻\n内容\n
 \n\n\n\n18:30～19:00\n開場／受付\n\n\n19:00～19:10\nごあいさ
 つ\n\n\n19:10～19:45\nLT x 5本\n\n\n19:45〜20:05\n「認知パター
 ンから考えるesaらしさのデザイン」\n\n\n20:05～20:20\n休
 憩\n\n\n20:20～20:40\n「次世代デザインツールのデザイン
 」\n\n\n20:40～20:50\nおわりに\n\n\n20:50～21:00\nみんなでお
 片付け／閉場\n\n\n21:15〜\n近隣の店舗に移動して懇親会
 （懇親会参加の方のみ）\n\n\n\nスポンサー\nDISTは、以
 下のスポンサーにご協賛いただいております。\nスペ
 シャルスポンサー\n\n\n\nゴールドスポンサー\n\n\n\n\n\n\n
 ツールスポンサー\n\n\n\nYouTube配信\n当日の様子は、開
 催2ヶ月後を目安にDISTのYouTubeチャンネルで公開予定で
 す。公開不可の箇所やセッションはカットされますの
 で、内容をすべてをご覧になりたい方は、ぜひ当日会
 場にお越しください。\nDISTについて\nDISTは、職種や技
 術の垣根を越えてWebに関わるすべての人を結ぶクリエ
 イティブコミュニティです。有志が非営利で運営して
 います。\n主な活動として、以下の3つをコンセプトと
 した勉強会を定期開催しています。\n\n職種の垣根を越
 える\n特定の技術に依存しない\n今日から現場で使える
 \n\n注意事項\n\nスタッフ枠は、通常参加の方はお使い
 いただけません。スタッフとして参加希望の方は、公
 式サイトのお問い合わせフォームよりお問い合わせく
 ださい。\n会場のWi-Fi一般開放はありません。\n動画、
 写真の撮影を予定しています。撮影NGの方は事前にお
 申し出ください。\n主催者、参加者みんなで作り上げ
 る勉強会です。準備や片付けにご協力をお願いします
 。\n
LOCATION:中野セントラルパーク カンファレンス B1F コンベ
 ンションホール 東京都中野区中野4-10-2 (B1F)
URL:https://techplay.jp/event/722691?utm_medium=referral&utm_source=ics&utm
 _campaign=ics
END:VEVENT
END:VCALENDAR
