BEGIN:VCALENDAR
VERSION:2.0
PRODID:-//https://techplay.jp//JP
CALSCALE:GREGORIAN
METHOD:PUBLISH
X-WR-CALDESC:AIを使ったテストツール「Mabl」ハンズオン勉
 強会
X-WR-CALNAME:AIを使ったテストツール「Mabl」ハンズオン勉
 強会
X-WR-TIMEZONE:Asia/Tokyo
BEGIN:VTIMEZONE
TZID:Asia/Tokyo
BEGIN:STANDARD
DTSTART:19700101T000000
TZOFFSETFROM:+0900
TZOFFSETTO:+0900
TZNAME:JST
END:STANDARD
END:VTIMEZONE
BEGIN:VEVENT
UID:723661@techplay.jp
SUMMARY:AIを使ったテストツール「Mabl」ハンズオン勉強会
DTSTART;TZID=Asia/Tokyo:20190422T190000
DTEND;TZID=Asia/Tokyo:20190422T210000
DTSTAMP:20260420T125333Z
CREATED:20190314T033255Z
DESCRIPTION:イベント詳細はこちら\nhttps://techplay.jp/event/72366
 1?utm_medium=referral&utm_source=ics&utm_campaign=ics\n\nMablハンズオ
 ン勉強会\n\n概要\n\n2017年頃から、AI for Testing (AIを使っ
 たテスト) のスタートアップが生まれています。しか
 し、実際に業務で使っている人はまだ少ないのが現状
 です。 そこで、AI for Testingの情報を共有するネットワ
 ークをつくり、助け合いながら積極的に新しい技術を
 使っていくコミュニティを作りたいと思います。\n\n今
 回は、記録・再生ツールにAIによるテストの自動修復
 機能を付与したMablのハンズオンを実施します。サービ
 スを変更したときに、AIがテストを自動修復してくれ
 る機能は、変化の早いサービスでは特に有用です。\n\n
 Mablはシリコンバレーのスタートアップで、私が試した
 AI for Testingツールの中でもかなり成熟しており、すぐ
 にでも実務利用ができるのが強みです。実際に業務で
 使うことを想定してハンズオン体験していただければ
 と思います。\n\n前回のTestimとかなり似たプレイヤーで
 すが、前回参加された方は違いをご確認いただければ
 と思います。\n\nまた、日本で既にMablを利用されてい
 るピースオブケイクの増原さんからご講演いただける
 ことになりました（Mablの日本ユーザー第１号、そして
 今は唯一）。実際に業務で使うにあたってのポイント
 なども聞くことができるチャンスです。\n\nタイムスケ
 ジュール\n\n\n\n\n  時間\n  内容\n\n\n\n\n  18:30〜\n  受付開
 始\n\n\n  19:00〜19:15\n  オープニング\n\n\n  19:15〜19:30\n  Ma
 bl利用者「ピースオブケイク増原さん」からのメッセ
 ージ\n\n\n  19:30〜20:30\n  ハンズオン\n\n\n  20:30〜21:00\n  QA
 、ネットワーキング\n\n\n  -\n  アンケート\n\n\n\n\n※ 当
 日予告なく時間配分・内容が変更になる可能性がござ
 います。\n\n参加にあたってのお願い\n\n\nChromeブラウザ
 がインストールされたPCを持参ください \nWiFiは会場に
 ありますが、スピードが遅くなる可能性があるため、
 ご自身のWifiを持参できる方はご持参ください\nプログ
 ラミング不要なツールのため、特別な知識は不要です
 が、数名のティーチング・アシスタントの助けをかり
 ながらご自身で進めていただくハンズオン勉強会です
 のでご注意ください。\n\n\n持ち物\n\n\nChromeブラウザが
 インストールされたPC\n\n\n参加費\n\n無料\n
LOCATION:PLY Tokyo 〒144-8588 東京都大田区新蒲田1-17-25 富士通
 ソリューションスクエア 2階
URL:https://techplay.jp/event/723661?utm_medium=referral&utm_source=ics&utm
 _campaign=ics
END:VEVENT
END:VCALENDAR
