BEGIN:VCALENDAR
VERSION:2.0
PRODID:-//https://techplay.jp//JP
CALSCALE:GREGORIAN
METHOD:PUBLISH
X-WR-CALDESC:【テーマフリー】MAX6時間OK_週末もくもく会 3/3
 0
X-WR-CALNAME:【テーマフリー】MAX6時間OK_週末もくもく会 3/3
 0
X-WR-TIMEZONE:Asia/Tokyo
BEGIN:VTIMEZONE
TZID:Asia/Tokyo
BEGIN:STANDARD
DTSTART:19700101T000000
TZOFFSETFROM:+0900
TZOFFSETTO:+0900
TZNAME:JST
END:STANDARD
END:VTIMEZONE
BEGIN:VEVENT
UID:723968@techplay.jp
SUMMARY:【テーマフリー】MAX6時間OK_週末もくもく会 3/30
DTSTART;TZID=Asia/Tokyo:20190330T130000
DTEND;TZID=Asia/Tokyo:20190330T190000
DTSTAMP:20260424T094547Z
CREATED:20190316T110814Z
DESCRIPTION:イベント詳細はこちら\nhttps://techplay.jp/event/72396
 8?utm_medium=referral&utm_source=ics&utm_campaign=ics\n\n内容概要\n\n
 週末に諸々の勉強や作業を行いたい方向けにフリーテ
 ーマでもくもく会を開催します。\n13時〜19時まで会場
 開けますので自由に使っていただけたらと思います。\
 n\nもくもく会の形式にはしましたが、図書館のような
 あまり静過ぎる雰囲気にはしたくないので\n雑談や情
 報交換など歓迎します。\n\n※ 会場内で別のイベント
 も同時進行のため、図書館のような静かな雰囲気より
 も雑音がある\n方が集中しやすい方向けになります。\n
 \n\n開催日程\n\n3/30（土）\n\nもくもく会： 13:00〜19:00\n\n
 \n会場\n\n水道橋駅、神保町駅、九段下駅周辺\n千代田
 区西神田2-7-14 YS西神田ビル2F\n\n\n対象者\n\n・週末の時
 間を使って作業や勉強をしたい方\n\n\n当日のお持物\n\n
 自由\n\n\n費用\n\n・1\,000円\n\n\n定員\n\n3名（人数に合わ
 せて調整します。）\n\n\n備考\n\n・13時〜14時の間に来
 れない方は事前に到着時間のご連絡だけよろしくお願
 いいたします。\n・解散時間は自由ですが、お帰りの
 際は把握のため一言お声かけいただけますと嬉しいで
 す。\n・会場内で別のイベントも同時進行のため、図
 書館のような静かな雰囲気よりも雑音がある\n方が集
 中しやすい方向けになります。（差額のお支払いで別
 イベントに飛び入りの参加も可です）\n\n
LOCATION:
URL:https://techplay.jp/event/723968?utm_medium=referral&utm_source=ics&utm
 _campaign=ics
END:VEVENT
END:VCALENDAR
