BEGIN:VCALENDAR
VERSION:2.0
PRODID:-//https://techplay.jp//JP
CALSCALE:GREGORIAN
METHOD:PUBLISH
X-WR-CALDESC:現場で使える!Watson開発入門(翔泳社)出版記念
 講演 ～オープンイノベーションセミナー第6回～
X-WR-CALNAME:現場で使える!Watson開発入門(翔泳社)出版記念
 講演 ～オープンイノベーションセミナー第6回～
X-WR-TIMEZONE:Asia/Tokyo
BEGIN:VTIMEZONE
TZID:Asia/Tokyo
BEGIN:STANDARD
DTSTART:19700101T000000
TZOFFSETFROM:+0900
TZOFFSETTO:+0900
TZNAME:JST
END:STANDARD
END:VTIMEZONE
BEGIN:VEVENT
UID:724405@techplay.jp
SUMMARY:現場で使える!Watson開発入門(翔泳社)出版記念講演 
 ～オープンイノベーションセミナー第6回～
DTSTART;TZID=Asia/Tokyo:20190418T183000
DTEND;TZID=Asia/Tokyo:20190418T203000
DTSTAMP:20260421T141413Z
CREATED:20190320T044240Z
DESCRIPTION:イベント詳細はこちら\nhttps://techplay.jp/event/72440
 5?utm_medium=referral&utm_source=ics&utm_campaign=ics\n\n\n\nセミナー
 主旨\n\nAIサービスの先駆けでもある「Watson(ワトソン)
 」。近年急激な進化を遂げています。機械学習や深層
 学習を利用したアプリケーション開発において利用す
 る開発者の方も増加してきています。 こうしたWatson 
 の主力サービスを現場ですぐに使えるようにするため
 、2019年3月、翔泳社から『Watson開発入門』が出版され
 ます。 まず、Watson、Watson APIとIBM Cloudを利用したAIサー
 ビス開発の基本に触れて、次いで、「Watson Assistant」「
 Watson Discovery」「Watson Studio」を利用したAIサービスの開
 発手法が解説されます。 ハタプロ社のロボットZUKKU(ズ
 ック)などの事例紹介も満載です。\n\n著者は、株式会
 社クレスコでAIコンサルタント・エンジニアとして活
 躍する江澤美保ら総勢6名。今回は、共著者をゲスト講
 師として招き、それぞれの視点から書籍の補足説明や
 出版裏話などを語っていただきます。著者6名によるパ
 ネルディスカッションも実施します。\n\n当日は、『Wat
 son開発入門』のプレゼント企画（限定5名様）、そして
 参加料無料のささやかな懇親会（飲食物・軽食の提供
 あり。任意参加。）も予定しております。\n\n皆様のご
 来場を心よりお待ちしております。\n\nプログラム\n\n18
 :15 – 18:30　受付\n\n18:30 – 18:35　開会の挨拶\n\n18:35 – 
 18:40　翔泳社 宮腰様より\n\n18:40 – 19:00　講演1　ハタ
 プロ・ロボティクス株式会社 代表取締役 伊澤諒太 氏\
 n\n19:00 – 19:20　講演2　株式会社ビビンコ 代表取締役 
 井上研一 氏\n\n19:20 – 19:40　講演3　株式会社クレスコ 
 AIサービスエバンジェリスト 江澤美保\n\n19:40 – 20:20　
 著者らによるパネルディスカッション\n\n20:20 – 20:30　
 質疑応答と閉会の挨拶\n\n20:30 – 21:00　懇親会（任意参
 加）\n\n※プログラムは変更になる可能性があります。
 \n\n講演者プロフィール\n\n\n\n講演1\n\n伊澤 諒太\n\nハタ
 プロ・ホールディングス 代表取締役\n\n2010年に株式会
 社ハタプロを創業、先端テクノロジーを駆使し技術者
 を育成するIT教育事業を展開。2016年にIBMのオープンイ
 ノベーションプログラムで商業AIロボットを開発し受
 賞後、ロボット事業子会社としてハタプロ・ロボティ
 クス株式会社を設立。AIとIoTを組み合わせたマーケテ
 ィング支援ロボット「ZUKKU（ズック）」を展開し、様
 々な業界のAIサービスの開発〜事業化を支援。近年は
 地方自治体・銀行・電力・IT企業の共同出資による半
 官半民の合弁会社も設立。大企業やベンチャーと行政
 による、AIとIoTを活用した次世代まちづくりを推進し
 ている。\n\n講演2\n\n井上 研一\n\n経済産業省推進資格IT
 コーディネータ／ITエンジニア\n\n井上研一事務所代表
 、株式会社ビビンコ代表取締役、一般社団法人ITC-Pro東
 京理事。北九州市出身、横浜市在住。AIやIoTに強いITコ
 ーディネータとして活動。北九州市主催のビジネスコ
 ンテスト「北九州でIoT」に応募したアイディアが入選
 し、メンバーと株式会社ビビンコを創業。著書に「初
 めてのWatson」、「ワトソンで体感する人工知能」など
 。セミナーや研修講師での登壇多数。\n\n講演3\n\n江澤 
 美保\n\n株式会社クレスコ AIサービスエバンジェリスト
 \n\n企業向けWebポータル製品の開発、大規模事務管理の
 海外移管プロジェクト、企業向け決済サービスのフィ
 ールドエンジニア等を経て先端技術（人工知能・コミ
 ュニケーションロボット）の法人営業に転向。2015年よ
 りIBM Watsonに携わり、経営層へのWatson導入提案を多く経
 験。現在は企業のAI導入支援を手掛けるAIコンサルタン
 ト・エンジニアとして活動中。2016年3月「第2回 IBM Watso
 n日本語版ハッカソン」にてアイディア賞受賞。2019年IB
 M Champion。\n\nパネルディスカッション\n\nパネルディス
 カッションではご講演頂くお三方に加え、著者の皆様
 （6名）にご登壇いただきます。\n\n佐々木 シモン\n\n日
 本アイ・ビー・エム株式会社。2017年にスタートアップ
 支援プログラムのIBM BlueHubでのメンター活動中に、AIコ
 ミュニティー「水曜ワトソンカフェ」を開く。\nソリ
 ューションアーキテクトやDeveloper Advocateとしてセミナ
 ー講演経験を経て、AIやAR/VRなどの技術分野でキャリア
 を構築中。\n\n羽山祥樹（はやま・よしき）\n\nIBM Champio
 n。2016年よりIBM Watson に携わる。HCD-Net認定 人間中心設
 計専門家。\n使いやすいウェブサイトを作る専門家。
 担当したウェブサイトが、雑誌のユーザビリティラン
 キングで国内トップクラスの評価を受ける。\n専門は
 ユーザーエクスペリエンス、情報アーキテクチャ、ア
 クセシビリティ。CNET Japan ブロガー。ライター。NOREN。
 \n翻訳書に『メンタルモデル──ユーザーへの共感か
 ら生まれるUX デザイン戦略』『モバイルフロンティア
 ──よりよいモバイルUXを生み出すためのデザインガ
 イド』（いずれも丸善出版）がある。\n\nTwitter: @storywri
 ter\n\n樋口文恵（ひぐち・ふみえ）\n\nSI企業に入社後、
 8年間をインフラエンジニア、ネットワークエンジニア
 として、お客様先でのネットワーク構築、コンサル業
 務に従事。\n2017年1月にAI専任のエンジニアになりWatson
 に携わる。主担当はWatson AssistantとNatural Language Classifier
 。\nリリースをサポートしたチャットボットは40 本以
 上。\n\n参加費\n\n無料\n\n日時・場所\n\n2019年4月18日(木)
  18:30-20:30（開場18:10）\n\n株式会社クレスコ　品川本社\
 n\n品川インターシティA棟 27階 フューチャーセンター (
 品川駅港南口から徒歩3分)\n\n\n\n主催\n\n株式会社クレ
 スコ\n\n協力 : 翔泳社、ハタプロ・ロボティクス株式会
 社、株式会社ビビンコ\n\nお申込み\n\n申し込みフォー
 ム（外部サイト）\n\n※本サイトには申込締め切りと記
 載がありますが、\n\n外部サイトにて申込受付中です。
 \n
LOCATION:クレスコ品川本社 品川インターシティ27階フュー
 チャーセンター(品川駅 徒歩3分) 東京都港区港南2-15-1
 　品川インターシティA棟 27階
URL:https://techplay.jp/event/724405?utm_medium=referral&utm_source=ics&utm
 _campaign=ics
END:VEVENT
END:VCALENDAR
