BEGIN:VCALENDAR
VERSION:2.0
PRODID:-//https://techplay.jp//JP
CALSCALE:GREGORIAN
METHOD:PUBLISH
X-WR-CALDESC:Cogbot 勉強会 Special ★ LINE から話せる楽しいチ
 ャットボットを作ろう！
X-WR-CALNAME:Cogbot 勉強会 Special ★ LINE から話せる楽しいチ
 ャットボットを作ろう！
X-WR-TIMEZONE:Asia/Tokyo
BEGIN:VTIMEZONE
TZID:Asia/Tokyo
BEGIN:STANDARD
DTSTART:19700101T000000
TZOFFSETFROM:+0900
TZOFFSETTO:+0900
TZNAME:JST
END:STANDARD
END:VTIMEZONE
BEGIN:VEVENT
UID:724524@techplay.jp
SUMMARY:Cogbot 勉強会 Special ★ LINE から話せる楽しいチャッ
 トボットを作ろう！
DTSTART;TZID=Asia/Tokyo:20190420T130000
DTEND;TZID=Asia/Tokyo:20190420T170000
DTSTAMP:20260422T171334Z
CREATED:20190320T141800Z
DESCRIPTION:イベント詳細はこちら\nhttps://techplay.jp/event/72452
 4?utm_medium=referral&utm_source=ics&utm_campaign=ics\n\nイベント概
 要\nLINE から会話できて、入力にちゃんと反応してくれ
 るチャットボットを作ろう！\n一方的な反応を返すだ
 けでなく、チャットボットにちょっと複雑なことをさ
 せたい場合、裏側でその仕組みを作りこむ必要があり
 ます。今回は、すぐにチャットボットを立ち上げられ
 る Azure Bot Service や、人工知能を Web API で利用できる Co
 gnitive Services を使って、LINE Messaging API で LINE から会話
 できるチャットボットを皆で開発しましょう！\nチャ
 ットボット開発初めての人も、経験者も！\n■ チャッ
 トボット開発が初めての方\n一緒に ハンズオン で基本
 的なチャットボットの作り方をマスターしちゃいまし
 ょう！\n ■ 経験者の方\n「こんなチャットボットがあ
 るといいな」を形にする ミニハッカソン にご参加く
 ださい。\n※今回は Bot Framework (Azure Bot Service)\, Cognitive 
 Services を使っていただけると嬉しいです！\n「こんな
 チャットボットつくるよ★(またはつくったよ☆)」と
 いうことが決まっていて発表 OK な方は LT 枠 でお申込
 みをお願いいたします。 \nLINE & Microsoft がバックアッ
 プ！\nLINE & Microsoft の中の人 が解説 ＆ ハンズオンとミ
 ニハッカソンをサポートします！(メンバー調整中)\n開
 催概要\n場所、時間\n\n\n\n項目\n内容\n\n\n\n\n開催日\n4/20
  (土)\n\n\n時間\n12:30開場、13:00開始\n\n\n会場\nLINE株式会
 社\n\n\n\nタイムテーブル\n\n\n\n時間\n内容\n\n\n\n\n\n12:30 -
  13:00\n受付\n\n\n\n13:00\n今日のハンズオン & ミニハッカ
 ソン で使うテクノロジー説明\nLINE Messaging API & Azure Bot 
 Service などなど (LINEさま＆Microsoftさま)\n\n\n14:00\nハンズ
 オン or ミニハッカソン\nハンズオン：チャットボット
 開発初心者向けミニハッカソン：開発経験者向け※ど
 ちらかご自由にご参加ください\n\n\n16:00\nLT 大会\n※人
 数把握のため、発表予定の方は LT枠 でご参加いただけ
 ると嬉しいです。(当日 LT 参戦あり(予定))\n\n\n17:00\n終
 了\n\n\n\n\n内容\n実際に自分でチャットボット開発を行
 いますので、LINE から話せるチャットボットをつくり
 たい開発者 (Developer\, Software Engineer\, etc) の方、ご参加
 お待ちしております。\nいずれの場合でも大丈夫です
 ★\n\nチャットボット開発初めての方\nチャットボット
 開発のご経験のある方\nAzure を使ったことのない方\nAzu
 re を使ったことのある方\n\n今日のハンズオン & ミニハ
 ッカソン で使うテクノロジー説明\nLINE株式会社\nDevelop
 er Relations Team | Solution Architect\n比企 宏之 さま\n「LINE公
 式アカウントで作るチャットボット＆スマフォアプリ
 としての可能性！」\nMicrosoft\n「LINEの裏側でお役立ち
 ！Azure Bot Service & Cognitive Service で楽しいチャットボッ
 トを作ろう」\nTechnology Evangelist 大森 彩子\n「LINE bot を
 、LINE Clova (スマートスピーカー)とも繋げてみよう」\nD
 eveloper Advocate 千代田 まどか\nハンズオン or ミニハッカ
 ソン\n■ チャットボット開発が初めての方\n一緒に ハ
 ンズオン で基本的なチャットボットの作り方をマスタ
 ーしちゃいましょう！\nハンズオンテキスト(予定)\n\n
 一問一答(FAQ)チャットボットをノンコーディングで\n一
 問一答(FAQ)チャットボット\n翻訳チャットボット\n\n ■ 
 経験者の方\n「こんなチャットボットがあるといいな
 」を形にする ミニハッカソン にご参加ください。ひ
 とりでモクモクするもよし、仲間を募るもよし、でき
 たら LT で皆さんにシェアしてください (任意ですが是
 非～)！ \n「こんなチャットボットつくるよ★(または
 つくったよ☆)」ということが決まっていて発表 OK な
 方は LT 枠 でお申込みをお願いいたします。 \n※今回
 は Bot Framework (Azure Bot Service)\, Cognitive Services を使って
 いただけると嬉しいです！\n持ち物\nPC\n会場の WIFI に
 接続できるご自身のPC(Win/Mac)をお持ち込みください。\n
 ブラウザーから操作しますので、あまり小さい画面の
 機種やタブレットは操作が厳しい可能性があります。
 また、文字入力なども行いますので、キーボードがあ
 る方が望ましいです。\nAzure サブスクリプション\n作成
 したチャットボット環境をお持ち帰りいただくため、A
 zureサブスクリプション (無償版でも構いません) をお
 申込みいただき、ご準備をお願いいたします。\nAzure 
 サブスクリプションは マイクロソフトアカウント (ま
 たは組織・学校アカウント) に紐づけされます。\nAzure 
 サブスクリプション無料版申し込み\nLINE アカウント\nL
 INE Developer ページ にアクセスして Message API を作成、設
 定を行います。\nメールアドレスへの紐づけ、ログイ
 ンに必要なスマートフォンなどもご準備ください。\n
 ※上記の内容は予告なく変更する場合があります。あ
 らかじめご了承ください。
LOCATION:LINE株式会社 東京都新宿区新宿四丁目1番6号 (JR新
 宿ミライナタワー)
URL:https://techplay.jp/event/724524?utm_medium=referral&utm_source=ics&utm
 _campaign=ics
END:VEVENT
END:VCALENDAR
