BEGIN:VCALENDAR
VERSION:2.0
PRODID:-//https://techplay.jp//JP
CALSCALE:GREGORIAN
METHOD:PUBLISH
X-WR-CALDESC:WordPressもくもく勉強会@本庄 #11
X-WR-CALNAME:WordPressもくもく勉強会@本庄 #11
X-WR-TIMEZONE:Asia/Tokyo
BEGIN:VTIMEZONE
TZID:Asia/Tokyo
BEGIN:STANDARD
DTSTART:19700101T000000
TZOFFSETFROM:+0900
TZOFFSETTO:+0900
TZNAME:JST
END:STANDARD
END:VTIMEZONE
BEGIN:VEVENT
UID:725197@techplay.jp
SUMMARY:WordPressもくもく勉強会@本庄 #11
DTSTART;TZID=Asia/Tokyo:20190409T191500
DTEND;TZID=Asia/Tokyo:20190409T213000
DTSTAMP:20260420T044707Z
CREATED:20190326T090232Z
DESCRIPTION:イベント詳細はこちら\nhttps://techplay.jp/event/72519
 7?utm_medium=referral&utm_source=ics&utm_campaign=ics\n\nWordPressもく
 もく勉強会@本庄\n\n概要\n\nWordPressについて、ただただ
 「黙々」と勉強や作業をするもくもく会です。\n\nセミ
 ナーのように、登壇者の話を聞くような会ではなく、
 その時間に会場に集ってひたすら作業をしたり、その
 場にいる人にわからないことを質問してみる…といっ
 た気軽な会です！\n\nWordPress初心者の方でもお気軽にご
 参加下さい！\n\n「もくもく会」ですが、ずっと黙々と
 作業するだけでなく、参加者同士でお話をしたり、名
 刺交換したり…交流を深めていただければと思います
 ！\n\n参加条件\n\n\nWordPressに興味がある方\n\n\nWordPressに
 興味がある方なら誰でもご参加頂けます。\n\nWordPressの
 サイトを持っていない！・WordPressを触ったこともない
 ！…といった方でもOKです！\n\nもくもく会でやること\
 n\nWordPressに関わることに各自もくもくと取り組んでみ
 て下さい。\n\n\nブログの記事を書く\n新しいWordPressサ
 イトを作る\nテーマやプラグインについて調べる\n運営
 しているWordPressサイトのカスタマイズをする\nテーマ
 を作る\nプラグインを作る\n\n\nなどなど…\n特にお題は
 用意しませんので各自「今日のやること」を考えてき
 て下さい。\n\n持ち物\n\nノートPC、書籍など各自作業に
 必要な物をご持参ください。\n\n※会場では有線LANが利
 用できます。\n※主催者私物の無線LANルーターでWi-Fi環
 境を用意致しますが、家庭用の機器のため大人数の接
 続に耐えられない恐れがあります。ご了承ください。\
 n※通信環境が心配な方はご自身でモバイルWi-Fiなどを
 ご用意下さい。\n\n会場\n\nはにぽんプラザ 3F 「IT活動
 室」\nhttp://www.city.honjo.lg.jp/haniponplaza/index.html\n\n住所：
 埼玉県本庄市銀座1丁目1番1号\n\n※駐車場につきまして
 は、はにぽんプラザの駐車場・臨時駐車場、もしくは
 近隣のコインパーキングをご利用下さい。 \n※19:00に
 はにぽんプラザの利用がおわる団体と入れ違いで駐車
 できる可能性があるので、お車でお越しの方は19:00過
 ぎに会場に来ることをおすすめします。 \n※会場内で
 の食事（お菓子等含む）は禁止されております。食事
 をする場合は建物外でお願い致します。\n※飲み物に
 ついてもペットボトルや水筒など、フタが閉まるもの
 をご持参下さい。（建物内に自動販売機もございます
 ）\n※会場の都合上、19:00ちょうどに部屋が使えるよう
 になります。19:00前では会場となる部屋には入れませ
 んのでご了承ください。\n\nタイムスケジュール\n\n\n\n\
 n  時間\n  内容\n\n\n\n\n  19:15〜\n  開場・受付開始・各自
 作業開始\n\n\n  19:30〜19:40\n  この会についての説明 / 自
 己紹介\n\n\n  19:40〜21:00\n  各自もくもくと作業\n\n\n  21:0
 0〜21:30\n  成果発表\n\n\n  21:30〜22:00\n  片付け・撤収\n\n\
 n\n\n※ 当日予告なく時間配分・内容が変更になる可能
 性がございます。\n※ 懇親会はありません。\n\n自己紹
 介について\n\n会の最初に簡単な自己紹介を予定してい
 ます。\n\n\nお名前（ハンドルネームでも可）\nWordPress
 とどのように付き合っているか\n\n例) ブログを書いて
 いる、Webサイト制作している、これから始めようと思
 う…などなど\n\n\n\n本日のもくもく会でやろうとして
 いること\n\n\nプロジェクターもあるので、3分くらいで
 あればプロジェクターを使って発表頂くことも可能で
 す。\n※HDMIケーブルは主催者側で用意しますが、PCと
 の接続コネクタ（HDMI端子とPCをつなぐ変換コネクタ）
 は各自ご用意下さい。\n※USB-C - HDMIの変換コネクタに
 ついては主催者私物をお貸しすることができます。\n\n
 成果発表について\n\nもくもく会でやったことなどを簡
 単に発表していただきます。\n（5分程度・希望者のみ
 ）\n\n躓いたとこなどを発表すると、参加者からアドバ
 イスを頂くことも出来るのでぜひ発表してみて下さい
 。\n\n発表希望者が多い場合は5\,6人までで発表したい
 方を抽選させていただきます。\n\n参加費\n\n200円\n※会
 場代として。\n\nハッシュタグ\n\n#mkmkwphonjo\n\nお問い合
 わせ\n\nイベントに関するお問い合わせはこちら(主催
 者ブログ)からお願いします。\n\n注意事項\n\nリクルー
 ティング、勧誘、採用活動、営業活動など、目的に沿
 わない行為につきまして、主催者が相応しくないと判
 断した場合は即刻退出処分とします。\n全員が気持ち
 よく過ごすことが出来るよう、ご協力をお願い致しま
 す。\n
LOCATION:はにぽんプラザ 3F 「IT活動室」 埼玉県本庄市銀
 座1丁目1番1号
URL:https://techplay.jp/event/725197?utm_medium=referral&utm_source=ics&utm
 _campaign=ics
END:VEVENT
END:VCALENDAR
