BEGIN:VCALENDAR
VERSION:2.0
PRODID:-//https://techplay.jp//JP
CALSCALE:GREGORIAN
METHOD:PUBLISH
X-WR-CALDESC:非線形有限要素法勉強会（１）
X-WR-CALNAME:非線形有限要素法勉強会（１）
X-WR-TIMEZONE:Asia/Tokyo
BEGIN:VTIMEZONE
TZID:Asia/Tokyo
BEGIN:STANDARD
DTSTART:19700101T000000
TZOFFSETFROM:+0900
TZOFFSETTO:+0900
TZNAME:JST
END:STANDARD
END:VTIMEZONE
BEGIN:VEVENT
UID:725436@techplay.jp
SUMMARY:非線形有限要素法勉強会（１）
DTSTART;TZID=Asia/Tokyo:20190410T190000
DTEND;TZID=Asia/Tokyo:20190410T210000
DTSTAMP:20260423T042906Z
CREATED:20190327T141607Z
DESCRIPTION:イベント詳細はこちら\nhttps://techplay.jp/event/72543
 6?utm_medium=referral&utm_source=ics&utm_campaign=ics\n\n概要\n非線
 形有限要素法による構造解析の理解を深めます！\n第
 １回は、様々なバックグラウンドの方に聞いていただ
 けるような内容になっておりますので、奮ってご参加
 ください。\n進め方\nもりた がまとめた資料を用いて
 、非線形有限要素法の勉強を進めます。非線形有限要
 素法による構造解析に関する内容を中心に進めますが
 、理解を深めるため、適宜、熱伝導解析や差分法など
 にも触れる予定です。\nまた、プログラミングを通し
 て有限要素法の理解を目指すことも視野にいれており
 、ノートパソコンを持参いただけると嬉しいです。\n
 予備知識\n大学初年度レベルの線形代数・微積分の知
 識を前提とします。材料力学・連続体力学の知識があ
 ると望ましいですが、この部分については、適時勉強
 会の時間中におさらいします。\nまた、勉強会では ア
 インシュタイン規約 を用います（参考リンク： http://w
 ww.continuummechanics.org/tensornotationbasic.html ）。\n内容\n第 1 
 回：数値計算の意義、微分方程式の分類、有限要素法
 の概要、変形、ひずみ、プログラミングの時間\n会場\n
 株式会社科学計算総合研究所 東京都千代田区丸の内二
 丁目２番３号　（丸の内仲通りビル６階６１８-Ｂ）\n
 セミナールーム茅場町 Co-Edo 東京都中央区新川一丁目
 ３番４号(PAビル3F)\nリモートで参加したい方\nSkype での
 参加が可能です。下記のプロセスに従ってください。\
 n勉強会直前の skype の申請ですと、通話の追加ができ
 ませんので、できる限り早い申請をお願いいたします
 。\nSkype ID: info あっと ricos.co.jp「あっと」を 「@」 に
 変えてください。\nYoutube でのストリーミング配信を実
 施いたします。公開用の URL は、当日 connpass のメッセ
 ージで共有いたします。\n当日の質問等に関しまして
 は、ハッシュタグ #RICOS_FEM を付与した Twitter でのツイ
 ートにて、お受けいたします。\n\n例: Q. テンソルひず
 みと工学ひずみの違いは何ですか？ #RICOS_FEM\n\n当日連
 絡先\nもりた または horiem の Twitter にご連絡ください
 。
LOCATION:セミナールーム茅場町 Co-Edo 東京都中央区新川一
 丁目３番４号(PAビル3F)
URL:https://techplay.jp/event/725436?utm_medium=referral&utm_source=ics&utm
 _campaign=ics
END:VEVENT
END:VCALENDAR
