BEGIN:VCALENDAR
VERSION:2.0
PRODID:-//https://techplay.jp//JP
CALSCALE:GREGORIAN
METHOD:PUBLISH
X-WR-CALDESC:日本ハッカー協会セミナー「不正指令電磁的
 記録罪の傾向と対策」
X-WR-CALNAME:日本ハッカー協会セミナー「不正指令電磁的
 記録罪の傾向と対策」
X-WR-TIMEZONE:Asia/Tokyo
BEGIN:VTIMEZONE
TZID:Asia/Tokyo
BEGIN:STANDARD
DTSTART:19700101T000000
TZOFFSETFROM:+0900
TZOFFSETTO:+0900
TZNAME:JST
END:STANDARD
END:VTIMEZONE
BEGIN:VEVENT
UID:726215@techplay.jp
SUMMARY:日本ハッカー協会セミナー「不正指令電磁的記録
 罪の傾向と対策」
DTSTART;TZID=Asia/Tokyo:20190426T190000
DTEND;TZID=Asia/Tokyo:20190426T223000
DTSTAMP:20260422T234252Z
CREATED:20190402T064602Z
DESCRIPTION:イベント詳細はこちら\nhttps://techplay.jp/event/72621
 5?utm_medium=referral&utm_source=ics&utm_campaign=ics\n\n第一回 日本
 ハッカー協会セミナー\n\n不正指令電磁的記録罪の傾向
 と対策\n\n概要\n\n昨今、アラートループなど以前は問
 題ないとされていたプログラムでもIT技術者が逮捕・
 補導される危険が高まっている。その結果、IT技術者
 の勉強会や研究発表が自粛され、日本のIT技術者の萎
 縮を招いている。現在Coinhive裁判の被告側代理人を務
 める平野敬先生により、自分が巻き込まれたらどうし
 たらよいのかを語ってもらい、高木浩光先生にはなぜ
 このようなことで逮捕されるかを詳しく解説いただき
 、ITエンジニアの方々に啓蒙を図る。\n\nタイムスケジ
 ュール\n\n\n\n\n  時間\n  内容\n\n\n\n\n  18:30～\n  開場\n\n\n
   19:00～19:10\n  オープニング(日本ハッカー協会)\n\n\n  19
 :10～20:10\n  エンジニアのための刑事手続入門平野 敬 
 先生\n\n\n  20:10～20:15\n  スポンサーLT　（ブロードバン
 ドセキュリティ）\n\n\n  20:15～21:15\n  不正指令電磁的記
 録の罪が対象とすべき本来の範囲とは 高木 浩光 先生\
 n\n\n  21:15～22:15\n  懇親会\n\n\n  23:00\n  完全撤収\n\n\n\n\n
 ※ 当日予告なく時間配分・内容が変更になる可能性が
 ございます。\n\n講演内容\n\n平野 敬 先生「エンジニア
 のための刑事手続入門」 \n\nIT技術者が被疑者として捜
 査を受ける場面を想定し，刑事手続の流れや弁護活動
 のありかたについて解説します。\n\n\n高木 浩光 先生
 「不正指令電磁的記録の罪が対象とすべき本来の範囲
 とは」\n\nWizard Bible事件、Coinhive事件、アラートループ
 事件と、「不正指令電磁的記録に関する罪」の濫用が
 続いているところですが、Coinhive事件の無罪判決を受
 け、その判決内容から、どこに誤解があると考えられ
 るかを分析するとともに、情報公開請求で一部明らか
 になった過去の事例との対比、刑法改正当時の議論を
 踏まえて、この2年弱で異常な事態に陥っていることを
 示し、その原因を探ります。\n\n\n登壇者\n\n\n\n\n\n平野 
 敬\n\n電羊法律事務所 東京第二弁護士会所属弁護士\n\nI
 Tストラテジスト，システム監査技術者\n企業でシステ
 ム開発をしつつ夜間法科大学院に通い，弁護士に転身
 。\n留学経験や外資系企業での契約業務経験がある。
 高度IT資格を生かした事件を得意とする。Coinhive事件で
 一審無罪を勝ち取る。\n\n\n\n\n高木 浩光\n\n産業技術総
 合研究所主任研究員／情報法制研究所理事\n\nコンピュ
 ータセキュリティ技術の研究に従事する傍ら、関連す
 る法規に研究対象を広げ、これまでに、不正アクセス
 禁止法が規制する範囲に関する論点、不正指令電磁的
 記録に関する罪の解釈を巡る論点について論考を発表
 してきた。近年は、個人情報保護法の制定過程につい
 て情報公開制度を活用して分析し、今後の日本のデー
 タ保護法制のあり方を提言している。著書に「ニッポ
 ンの個人情報」(共著、翔泳社）、「GPS捜査とプライバ
 シー保護」（共著、現代人文社）など。\n\n\n\n\n参加対
 象\n\n\nフロントエンドエンジニア\nWebエンジニア\nセキ
 ュリティエンジニア\n\n\n※ リクルーティング、勧誘な
 ど、採用目的でのイベント参加はお断りしております
 。\n※ 飲食のみを目的としたご応募・ご来場はご遠慮
 ください。\n※ 補欠者の方は、ご来場いただいてもご
 入場いただくことが出来ませんのでご了承ください。\
 n※ 欠席される場合は、お手数ですが速やかにキャン
 セル処理をお願い致します。\n\n参加費\n\n無料\n\nハッ
 シュタグ\n\n#jha\n\nLive中継\n\nYouTube Liveでの中継があり
 ます。現地での参加ができなかった方は、こちらでお
 待ちください。\n日本ハッカー協会チャンネル\nhttps://w
 ww.youtube.com/channel/UCtvFs9Zog_jvudVrLkgHcTA\n\n映像配信: Makoto K
 aga (Project92.com\, LiveNinja)\n\nスポンサー\n\n懇親会スポン
 サー：株式会社ブロードバンドセキュリティ\n\n後援\n\
 n独立行政法人　情報処理推進機構 (IPA) https://www.ipa.go.j
 p\n
LOCATION:TECH PLAY SHIBUYA 東京都渋谷区宇田川町20-17 NMF渋谷公
 園通りビル 8F
URL:https://techplay.jp/event/726215?utm_medium=referral&utm_source=ics&utm
 _campaign=ics
END:VEVENT
END:VCALENDAR
