BEGIN:VCALENDAR
VERSION:2.0
PRODID:-//https://techplay.jp//JP
CALSCALE:GREGORIAN
METHOD:PUBLISH
X-WR-CALDESC:【アイデアピッチ説明会】渋谷×お土産!?～渋
 谷ならではの最先端お土産（体験）!?をピッチして渋
 谷川で実証実験へ～
X-WR-CALNAME:【アイデアピッチ説明会】渋谷×お土産!?～渋
 谷ならではの最先端お土産（体験）!?をピッチして渋
 谷川で実証実験へ～
X-WR-TIMEZONE:Asia/Tokyo
BEGIN:VTIMEZONE
TZID:Asia/Tokyo
BEGIN:STANDARD
DTSTART:19700101T000000
TZOFFSETFROM:+0900
TZOFFSETTO:+0900
TZNAME:JST
END:STANDARD
END:VTIMEZONE
BEGIN:VEVENT
UID:726400@techplay.jp
SUMMARY:【アイデアピッチ説明会】渋谷×お土産!?～渋谷な
 らではの最先端お土産（体験）!?をピッチして渋谷川
 で実証実験へ～
DTSTART;TZID=Asia/Tokyo:20190415T190000
DTEND;TZID=Asia/Tokyo:20190415T210000
DTSTAMP:20260422T014622Z
CREATED:20190403T105110Z
DESCRIPTION:イベント詳細はこちら\nhttps://techplay.jp/event/72640
 0?utm_medium=referral&utm_source=ics&utm_campaign=ics\n\n【アイデア
 ピッチ説明会】渋谷×お土産!?～選ばれたアイデアは渋
 谷川で実証実験～\n\n\n\n概要\n\n多様な人や文化・モノ
 が集結する渋谷。\n「ちがいを ちからに 変える街」と
 して、新たなカルチャーを発信しています。\n\n産官学
 民が連携する新たな組織 渋谷未来デザインと、eiiconと
 コラボレーションし、\n世界にむけて渋谷の魅力を発
 信するお土産をテーマに、\nアイデアピッチを開催し
 ます。\n\n選ばれたアイデアは、渋⾕川沿いのポップア
 ップスペースにて販売も含めた実証実験へ！\n\n本アイ
 デアピッチのプレイベントとして、渋谷にまつわるセ
 ッション、アイデアピッチの説明会を開催します。\n
 少しでもご関心のある方は、お気軽にお申込みくださ
 い。\n\n※アイデアピッチ詳細・エントリーはこちらか
 らご確認ください。/https://eiicon.net/about/shibuya-omiyage/\n\n
 タイムスケジュール\n\n\n\n\n  時間\n  内容\n\n\n\n\n  18:30
 〜\n  受付開始\n\n\n  19:00〜\n  オープニング\n\n\n  19:05〜
 \n  パネルディスカッション「渋谷未来構想」渋谷区×K
 DDI×東急不動産が描く、未来都市 渋谷の可能性とは？
 ◇登壇者本間洋行氏　渋谷区役所区民部 商工観光課長
 中馬和彦氏　KDDI株式会社　ライフデザイン事業企画本
 部　ビジネスインキュベーション推進部長 KDDI ∞ Labo
 長 福士千一氏　東急不動産株式会社　都市事業ユニッ
 ト　渋谷プロジェクト推進本部　渋谷プロジェクト推
 進第一部　グループリーダー  ◇モデレーター中村 亜
 由子　eiicon company 代表/founder\n\n\n  19:55～\n  アイデアピ
 ッチ説明、Q&A\n\n\n  20:25〜\n  懇親会\n\n\n\n\n※ 当日予告
 なく時間配分・内容が変更になる可能性がございます
 。\n\n登壇者\n\n\n\n本間洋行氏\n\n渋谷区役所区民部 商
 工観光課長\n\n\n\n\n\n中馬和彦氏\n\nKDDI株式会社　ライ
 フデザイン事業企画本部　ビジネスインキュベーショ
 ン推進部長 KDDI ∞ Labo長\n\n\n\n福士千一氏\n\n東急不動
 産株式会社　都市事業ユニット\n　渋谷プロジェクト
 推進本部　渋谷プロジェクト推進第一部　グループリ
 ーダー\n\n\n\nモデレーター\n\n\n\n中村 亜由子\n\neiicon com
 pany 代表/founder\n\n2008年インテリジェンスに入社。正社
 員の転職支援領域における営業を経験する。最速で営
 業マネージャーに昇進、約1000名の転職をサポート、MVP
 他社内表彰受賞歴多数。2015年育休中にeiiconを単独起案
 。0to1という社内新規事業制度第1回目で単独＆唯一通
 過。2016年４月に育休から復職後、予算取りに駆け回り
 7月から本格的に立ち上げを開始。地の利に関係なく地
 方含めた日本企業のオープンイノベーション実践をア
 シストするオープンイノベーションのための企業検索
 プラットフォームeiicon（エイコン）を担う。\n\nPARTNER\n
 \n\n\nORGANIZE\n\n\n\n持ち物\n\n名刺2枚\n※ 受付時にお渡し
 下さい。\n\n参加費\n\n無料\n\n※ リクルーティング、勧
 誘など、採用目的でのイベント参加はお断りしており
 ます。\n※ 飲食のみを目的としたご応募・ご来場はご
 遠慮ください。\n※ 欠席される場合は、お手数ですが
 速やかにキャンセル処理をお願い致します。\n
LOCATION:Plug and Play Shibuya 東京都渋谷区道玄坂一丁目１０
 番８号 渋谷道玄坂東急ビル１F・2F
URL:https://techplay.jp/event/726400?utm_medium=referral&utm_source=ics&utm
 _campaign=ics
END:VEVENT
END:VCALENDAR
